{"text_format":"1","workbook":"xlsx","n_sheets":4,"sheets":["Instrucciones","Inventario","Actividad","Tablas"],"not_rendered":{"charts":0,"images":2,"macros":1,"external_links":0,"defined_names":12,"comments":0,"pivot_tables":0},"unopened":[],"bounds":{"document_bytes":16777216,"sheet_cells":100000,"rows_first":2000,"rows_last":500,"rows_between":2000,"halvings":0,"cell_chars":16384,"cell_head_chars":4096},"cells_cut":0,"cells_raw":0,"read":"whole","date_system":"1900"}

{"sheet":"Instrucciones","index":0,"n_rows":121,"n_cols":95,"rows_kept":121,"cut":false,"hidden":false,"merged":[[1,10,1,93],[26,3,26,42],[40,3,40,56],[42,3,42,12],[42,15,42,31],[42,54,42,63],[3,3,3,102],[5,3,5,65],[5,66,5,69],[5,70,5,90],[14,3,14,49],[14,50,14,70],[42,34,42,51],[43,54,43,58],[43,59,43,63],[44,3,44,7],[44,8,44,12],[44,15,44,27],[44,28,44,31],[44,48,44,51],[44,54,44,58],[44,59,44,63],[43,3,43,7],[43,8,43,12],[43,15,43,27],[43,28,43,31],[43,48,43,51],[43,34,43,47],[44,34,44,47],[45,54,45,58],[45,59,45,63],[46,3,46,7],[46,8,46,12],[46,15,46,27],[46,28,46,31],[46,48,46,51],[46,54,46,58],[46,59,46,63],[45,3,45,7],[45,8,45,12],[45,15,45,27],[45,28,45,31],[45,48,45,51],[45,34,45,47],[46,34,46,47],[47,54,47,58],[47,59,47,63],[48,3,48,7],[48,8,48,12],[48,15,48,27],[48,28,48,31],[48,48,48,51],[48,54,48,58],[48,59,48,63],[47,3,47,7],[47,8,47,12],[47,15,47,27],[47,28,47,31],[47,48,47,51],[47,34,47,47],[48,34,48,47],[57,3,57,46],[57,47,57,61],[58,3,58,46],[58,47,58,61],[62,3,62,40],[62,42,62,68],[49,54,49,58],[49,59,49,63],[50,3,50,7],[50,8,50,12],[50,15,50,27],[50,28,50,31],[50,48,50,51],[50,54,50,58],[50,59,50,63],[49,3,49,7],[49,8,49,12],[49,15,49,27],[49,28,49,31],[49,48,49,51],[51,3,51,7],[51,8,51,12],[52,34,52,47],[53,34,53,47],[63,3,63,17],[63,18,63,33],[63,34,63,40],[63,42,63,52],[63,53,63,63],[63,64,63,68],[63,70,63,78],[63,79,63,89],[63,90,63,101],[108,3,108,47],[108,48,108,85],[109,3,110,47],[109,48,110,85],[76,3,76,15],[76,16,76,23],[76,24,76,30],[77,3,77,15],[77,16,77,23],[49,34,49,47],[50,34,50,47],[51,34,51,47],[51,48,51,51],[52,48,52,51],[53,48,53,51],[54,48,54,51],[54,34,54,47],[107,3,107,47],[107,48,107,85],[64,70,64,78],[64,79,64,89],[72,3,72,9],[72,10,72,20],[72,21,72,27],[73,3,73,9],[73,10,73,20],[64,3,64,17],[64,18,64,33],[64,34,64,40],[64,42,64,52],[64,53,64,63],[64,64,64,68],[62,70,62,101]]}
[]
[null,null,null,null,null,null,null,null,null,null,"COMISIÓN INTERAMERICANA DEL ATÚN TROPICAL",null,null,null,null,null,null,null,null,null,null,null,null,null,null,null,null,null,null,null,null,null,null,null,null,null,null,null,null,null,null,null,null,null,null,null,null,null,null,null,null,null,null,null,null,null,null,null,null,null,null,null,null,null,null,null,null,null,null,null,null,null,null,null,null,null,null,null,null,null,null,null,null,null,null,null,null,null,null,null,null,null,null,null,"Ver. 2018-09 v.4"]
[]
[null,null,null,"Formulario de plantados"]
[]
[null,null,null,"Estos formularios (Inventario e información de los plantados y Actividad con los plantados) se desprenden de la resolución               ",null,null,null,null,null,null,null,null,null,null,null,null,null,null,null,null,null,null,null,null,null,null,null,null,null,null,null,null,null,null,null,null,null,null,null,null,null,null,null,null,null,null,null,null,null,null,null,null,null,null,null,null,null,null,null,null,null,null,null,null,null,null,"C-18-05",null,null,null," de la CIAT sobre la recolección de datos "]
[null,null,null,"sobre dispositivos agregadores de peces (plantados). Están diseñados para permitir dar seguimiento a los plantados a todo lo largo de un viaje de pesca."]
[]
[null,null,null,"INSTRUCCIONES GENERALES"]
[]
[null,null,null,"Es responsabilidad de la persona encargada de las faenas de pesca asegurar que los formularios sean debidamente rellenados, y que los datos registrados en los mismos sean "]
[null,null,null,"correctos, exactos, y completos, aunque se puede asignar la tarea de rellenar los formularios a cualquier oficial del buque. No se debe escribir en las casillas sombreadas."]
[null,null,null,"Puede completar los formularios electrónicamente, en libro de Excel, o en papel, como prefiera."]
[]
[null,null,null,"Formularios electrónicos: Puede descargar el formulario de la página de internet de la CIAT                                                                          ",null,null,null,null,null,null,null,null,null,null,null,null,null,null,null,null,null,null,null,null,null,null,null,null,null,null,null,null,null,null,null,null,null,null,null,null,null,null,null,null,null,null,null,null,null,null," https://www.iattc.org/Downloads.htm",null,null,null,null,null,null,null,null,null,null,null,null,null,null,null,null,null,null,null,null,"Guárdelo en formato xlsm (libro Excel habilitado para "]
[null,null,null,"macros), con el nombre del archivo ‘Buque-Año-Viaje.xlsm’, en donde ‘Buque’ es el nombre del buque, ‘Año’ es el año de inicio del viaje, y ‘Viaje’ es el número de viaje consecutivo en el año."]
[null,null,null,"Por ejemplo, para el segundo viaje de 2018 del buque Guadalcanal, sería ‘Guadalcanal-2018-02.xlsm’."]
[]
[null,null,null,"Formularios en papel: Use cuantos formularios sean necesarios para registrar todos los datos requeridos de un viaje."]
[null,null,null,"a.   Numeración de las páginas: Registre en los espacios correspondientes al pie de cada formulario, el número secuencial del formulario y, al finalizar el viaje, el número total de hojas."]
[null,null,null,"b. Copias electrónicas. Si escanea formularios completados, guarde el archivo, en formato pdf en caso posible, con el nombre como se indica para los formularios electrónicos."]
[]
[null,null,null,"1.   INVENTARIO E INFORMACIÓN DE LOS PLANTADOS"]
[null,null,null,"a.       Encabezado"]
[null,null,null,"Nombre del buque: Anote el nombre del buque."]
[null,null,null,"No. buque CIAT: Anote el número asignado por la CIAT en el Registro Regional de Buques, disponible en el portal de la CIAT: "]
[null,null,null,"https://www.iattc.org/VesselRegister/VesselList.aspx?List=AcPS&Lang=SPN"]
[null,null,null,"Fecha inicio de viaje: En los espacios provistos, indique la fecha de inicio del viaje en formato DDMMAA (año), por ejemplo, el 10 de mayo de 2018 se registraría como ‘100518’. "]
[null,null,null,"b.       Detalles de los plantados"]
[null,null,null,"Identificador del plantado: El identificador por anotar depende del sistema que usted use para identificar sus plantados. "]
[null,null,null,"•     Si utiliza el número de la baliza satelital, anote el código de marca y modelo del fabricante de acuerdo con la Tabla 1 y el número de serie único de la baliza. Si utiliza una marca o modelo"]
[null,null,null,"       no indicado en la tabla, anótelo en la tabla provista y proporcione la mayor información posible bajo Comentarios/ Observaciones."]
[null,null,null,"•     Para otro tipo de baliza, anote un identificador único que su buque le da al plantado o a la baliza de localización, y que puede ser utilizado como referencia para encuentros"]
[null,null,null,"       futuros con este plantado."]
[null,null,null,"•     Si utiliza un código alfanumérico provisto por la CIAT, anote el código que asigne a este plantado en particular. Anote las letras en la primera columna y el número secuencial en la "]
[null,null,null,"       segunda columna."]
[null,null,null,"•     Para casos no previstos aquí, describa bajo Comentarios/ Observaciones. "]
[null,null,null,"•     Si utiliza el número de la baliza como identificador del plantado y cambia la baliza en un plantado, es importante que registre el identificador de ambas balizas, tanto el original como el"]
[null,null,null,"       el reemplazo, en líneas separadas. Anote bajo Comentarios/Observaciones que se cambió la baliza del plantado."]
[]
[null,null,null,"Tabla 1. Códigos de fabricante y modelos "]
[]
[null,null,null,"NAUTICAL",null,null,null,null,null,null,null,null,null,null,null,"SATLINK",null,null,null,null,null,null,null,null,null,null,null,null,null,null,null,null,null,null,"ZUNIBAL",null,null,null,null,null,null,null,null,null,null,null,null,null,null,null,null,null,null,null,"Otra Marca __________"]
[null,null,null,"Modelo",null,null,null,null,"Código ",null,null,null,null,null,null,"Modelo",null,null,null,null,null,null,null,null,null,null,null,null,"Código ",null,null,null,null,null,"Modelo",null,null,null,null,null,null,null,null,null,null,null,null,null,"Código ",null,null,null,null,null,"Modelo",null,null,null,null,"Código ",null,null,null,null,null,null,null,null,null,null,null,null,null,null,null,"Dimensiones"]
[null,null,null,"MDP",null,null,null,null,"MDP",null,null,null,null,null,null,"D+ pila",null,null,null,null,null,null,null,null,null,null,null,null,"D+",null,null,null,null,null,"Tunabal-7",null,null,null,null,null,null,null,null,null,null,null,null,null,"T07"]
[null,null,null,"MDS",null,null,null,null,"MDS",null,null,null,null,null,null,"D+ pila con sonda",null,null,null,null,null,null,null,null,null,null,null,null,"DS+",null,null,null,null,null,"Tunabal-e7",null,null,null,null,null,null,null,null,null,null,null,null,null,"Te7"]
[null,null,null,"M2D",null,null,null,null,"M2D",null,null,null,null,null,null,"D+ solar",null,null,null,null,null,null,null,null,null,null,null,null,"DL+",null,null,null,null,null,"Tunabal-e7+",null,null,null,null,null,null,null,null,null,null,null,null,null,"T7+"]
[null,null,null,"MSI",null,null,null,null,"MSI",null,null,null,null,null,null,"D+ solar con sonda",null,null,null,null,null,null,null,null,null,null,null,null,"DSL+",null,null,null,null,null,"Tuna8 Explorer",null,null,null,null,null,null,null,null,null,null,null,null,null,"T8E"]
[null,null,null,"M3i",null,null,null,null,"M3I",null,null,null,null,null,null,"IDP solar con sonda",null,null,null,null,null,null,null,null,null,null,null,null,"ISL+",null,null,null,null,null,"Tuna8 Xtreme",null,null,null,null,null,null,null,null,null,null,null,null,null,"T8X"]
[null,null,null,"M3i+",null,null,null,null,"M3+",null,null,null,null,null,null,"IDP solar disc. con sonda",null,null,null,null,null,null,null,null,null,null,null,null,"ISD+",null,null,null,null,null,"Tunabal-7 (F series)",null,null,null,null,null,null,null,null,null,null,null,null,null,"F07"]
[null,null,null,"M4I",null,null,null,null,"M4I",null,null,null,null,null,null,"SLX solar \"ECO\"",null,null,null,null,null,null,null,null,null,null,null,null,"SLX+",null,null,null,null,null,"Tunabal-e7 (F series)",null,null,null,null,null,null,null,null,null,null,null,null,null,"Fe7"]
[null,null,null,"M4i+",null,null,null,null,"M4+",null,null,null,null,null,null,null,null,null,null,null,null,null,null,null,null,null,null,null,null,null,null,null,null,null,"Tunabal-e7+ (F-series)",null,null,null,null,null,null,null,null,null,null,null,null,null,"F7+"]
[null,null,null,null,null,null,null,null,null,null,null,null,null,null,null,null,null,null,null,null,null,null,null,null,null,null,null,null,null,null,null,null,null,null,"Tuna8 Explorer (F-series)",null,null,null,null,null,null,null,null,null,null,null,null,null,"F8E"]
[null,null,null,null,null,null,null,null,null,null,null,null,null,null,null,null,null,null,null,null,null,null,null,null,null,null,null,null,null,null,null,null,null,null,"Zuni sin sonda",null,null,null,null,null,null,null,null,null,null,null,null,null,"Z07"]
[null,null,null,null,null,null,null,null,null,null,null,null,null,null,null,null,null,null,null,null,null,null,null,null,null,null,null,null,null,null,null,null,null,null,"Zuni sin sonda",null,null,null,null,null,null,null,null,null,null,null,null,null,"Ze7"]
[]
[null,null,null,"DESCRIPCIÓN: Anote el código numérico (solamente uno) que mejor describa el tipo de plantado: "]
[null,null,null,"1.       Natural (tronco, cabos, plataforma de madera (pallet), frondas), animal muerto",null,null,null,null,null,null,null,null,null,null,null,null,null,null,null,null,null,null,null,null,null,null,null,null,null,null,null,null,null,null,null,null,null,null,null,null,null,null,null,null,null,null,null,"2.       Plantado propio"]
[null,null,null,"3.       Plantado ajeno",null,null,null,null,null,null,null,null,null,null,null,null,null,null,null,null,null,null,null,null,null,null,null,null,null,null,null,null,null,null,null,null,null,null,null,null,null,null,null,null,null,null,null,"4.       Plantado anclado"]
[]
[null,null,null,"COMPONENTE DE SUPERFICIE: En las columnas correspondientes, anote el código numérico que mejor describa el material predominante usado para fabricar cada elemento del componente"]
[null,null,null,"de superficie de plantado. Si el recubrimiento es de red, indique la luz de malla (cm) de la mayor parte de ésta en la columna de Malla. Deje en blanco si no es red."]
[null,null,null,"Balsa",null,null,null,null,null,null,null,null,null,null,null,null,null,null,null,null,null,null,null,null,null,null,null,null,null,null,null,null,null,null,null,null,null,null,null,null,null,null,"Recubrimiento",null,null,null,null,null,null,null,null,null,null,null,null,null,null,null,null,null,null,null,null,null,null,null,null,null,null,null,"Flotadores"]
[null,null,null,"1. Cañas (bambú) en parrilla",null,null,null,null,null,null,null,null,null,null,null,null,null,null,"2. Cañas (bambú) en chorizo",null,null,null,null,null,null,null,null,null,null,null,null,null,null,null,"3. Metálico",null,null,null,null,null,null,null,"1. Malla de red ",null,null,null,null,null,null,null,null,null,null,"2. Plástico",null,null,null,null,null,null,null,null,null,null,"3. Tela",null,null,null,null,null,"1. Corcho de red",null,null,null,null,null,null,null,null,"2. Boyas de plástico",null,null,null,null,null,null,null,null,null,null,"3. Bidones de plástico"]
[null,null,null,"4. PVC o plástico",null,null,null,null,null,null,null,null,null,null,null,null,null,null,"5. Sin balsa",null,null,null,null,null,null,null,null,null,null,null,null,null,null,null,"6. Otro",null,null,null,null,null,null,null,"4. Hojas de palmera",null,null,null,null,null,null,null,null,null,null,"5. Sin recubrimiento",null,null,null,null,null,null,null,null,null,null,"6. Otro",null,null,null,null,null,"4. Sin flotadores",null,null,null,null,null,null,null,null,"5. Otro"]
[]
[null,null,null,"DIMENSIONES (en metros):  Ancho (A), Largo (L), Profundidad (P): anote las dimensiones del plantado (sin el rabo, en caso de haber uno presente). "]
[]
[null,null,null,"COMPONENTE SUMERGIDO (“RABO”):"]
[null,null,null,"Mat. 1 y Mat. 2: Anote los códigos numéricos de los dos materiales predominantes en el rabo del plantado. Si hay solamente uno, "]
[null,null,null,"deje la segunda columna en blanco."]
[]
[null,null,null,"1.  Nylon",null,null,null,null,null,null,"2.  Hojas de palmera",null,null,null,null,null,null,null,null,null,null,"3.  Bambú"]
[null,null,null,"4.  Sin rabo",null,null,null,null,null,null,"5.  Otro"]
[]
[null,null,null,"Config. (Configuración): Anote el código numérico de la configuración que mejor describe al rabo: "]
[null,null,null,"1.       Malla en chorizo",null,null,null,null,null,null,null,null,null,null,null,null,"2.       Cuerdas",null,null,null,null,null,null,null,"3.       Tela"]
[null,null,null,"4.       Malla abierta",null,null,null,null,null,null,null,null,null,null,null,null,"5.       Otro"]
[]
[null,null,null,"Luz de malla: Si el rabo está formado de malla, indique la luz de malla en cm (1.25\" » 3 cm / 4.5\" » 11 cm). De otra manera, deje en blanco."]
[]
[null,null,null,"Prof. (profundidad): Indique la profundidad máxima del rabo, en metros."]
[]
[null,null,null,"Comentarios/Observaciones: Use este espacio para registrar información adicional que considere pertinente."]
[]
[]
[null,null,null,"2.  ACTIVIDAD CON LOS PLANTADOS"]
[null,null,null,"Este formulario es complementario del Inventario anterior y se usa para registrar cada actividad sobre los plantados registrados en el inventario, incluyendo siembra, revisión, recogida,"]
[null,null,null,"y lance, o cambio de baliza."]
[]
[null,null,null,"Detalles de las actividades"]
[null,null,null,"Identificador del plantado: Anote el mismo código que anotó bajo Identificador del plantado en el Inventario para identificar el plantado. En la columna de Código, anote el mismo código "]
[null,null,null,"del fabricante que usó en el inventario y bajo No. de serie, el número de serie de la boya. Si el plantado no tiene baliza, deje en blanco."]
[]
[null,null,null,"Si reemplaza la baliza que es usada como identificador de un plantado, anote en esta columna el identificador de la baliza original que quitó, y en la siguiente columna "]
[null,null,null,"(Identificador del reemplazo) la que coloca como reemplazo."]
[]
[null,null,null,"Identificador del reemplazo: Complete esta columna solamente si cambia la baliza usada como identificador del plantado (actividad 5, Cambio de baliza), anotando el identificador de la nueva"]
[null,null,null,"baliza. Para cada actividad posterior con este plantado, anote este identificador en la primera columna. Para casos no previstos aquí, describa bajo Comentarios/Observaciones."]
[]
[null,null,null,"Fecha: La fecha de la actividad, en formato DDMMAA (día-mes-año)"]
[null,null,null,"Hora: Hora local cuando ocurrió la actividad, en formato de 24 horas (1 pm = 13:00)."]
[null,null,null,"Act. (Actividad): Anote el código numérico que mejor describa la actividad registrada. Registre cada actividad, con su código respectivo, en una línea separada, aunque ocurran"]
[null,null,null,"consecutivamente. Por ejemplo, si al final de un lance se recoge el plantado, anote '3’, con sus datos correspondientes (identificador, fecha, hora, posición, captura), en una línea, y ‘4’  "]
[null,null,null,"en la línea siguiente, con sus datos correspondientes (identificador, fecha, hora, posición). Si revisa un plantado y le cambia la baliza, anote cada actividad (‘1’ y ‘5’) en una línea separada;  "]
[null,null,null,"en este caso, el identificador cambiaría, pero los demás datos serían los mismos."]
[]
[null,null,null,"1.  Revisión: Se revisa el plantado para ver si tiene pescado, pero no se le hace lance",null,null,null,null,null,null,null,null,null,null,null,null,null,null,null,null,null,null,null,null,null,null,null,null,null,null,null,null,null,null,null,null,null,null,null,null,null,null,null,null,null,null,null,null,"2.  Siembra: Se lanza al agua un plantado nuevo o recogido"]
[null,null,null,"3.  Lance: Se hace un lance al plantado.",null,null,null,null,null,null,null,null,null,null,null,null,null,null,null,null,null,null,null,null,null,null,null,null,null,null,null,null,null,null,null,null,null,null,null,null,null,null,null,null,null,null,null,null,"4.  Recogida. Se saca un plantado del agua y se mantiene a bordo."]
[null,null,null,"5.  Cambio de baliza. Se cambia la baliza usada para identificar el plantado",null,null,null,null,null,null,null,null,null,null,null,null,null,null,null,null,null,null,null,null,null,null,null,null,null,null,null,null,null,null,null,null,null,null,null,null,null,null,null,null,null,null,null,null,"6. Otro: Describa cualquier actividad no contemplada en los códigos 1-5, bajo Comentarios/Observaciones"]
[]
[]
[null,null,null,"Posición: Anote la posición geográfica de la actividad (latitud y longitud) en grados y minutos, pero no anote los símbolos de grados (°), minutos ('), ni hemisferio (N/S, E/W).  "]
[]
[null,null,null,"Captura de túnidos: Si la actividad es un lance (‘3’), anote la captura de atún aleta amarilla (YFT), patudo (BET), y barrilete (SKJ), en toneladas. Si la captura incluye atunes de otras especies (OTR),"]
[null,null,null,"indique la cantidad y especies, de ser posible, bajo Comentarios/Observaciones. Para actividades que no son lances, deje en blanco."]
[]
[null,null,null,"Captura incidental: Si se capturan tiburones (TIB), tortugas (TORT), picudos (PIC), mantarrayas (MANT), u otros peces (OTR) en un lance, anote el número de individuos (N) o tonelaje (t) capturado, "]
[null,null,null,"y en la línea siguiente, el número o tonelaje liberado vivo. Si no hay captura, deje en blanco."]
[]
[null,null,null,"Comentarios/Observaciones: Utilice este espacio como se indica en las instrucciones, o para hacer anotaciones u observaciones que crea importantes."]

{"sheet":"Inventario","index":1,"n_rows":1010,"n_cols":58,"rows_kept":1010,"cut":false,"hidden":false,"merged":[[1,23,1,45],[1,57,1,66],[12,49,12,66],[13,2,13,8],[13,9,13,17],[13,18,13,21],[13,22,13,23],[13,24,13,26],[13,27,13,28],[13,29,13,30],[13,31,13,32],[13,33,13,34],[13,35,13,36],[13,37,13,38],[13,39,13,40],[13,41,13,42],[13,43,13,45],[13,46,13,48],[11,49,11,66],[12,18,12,21],[12,22,12,23],[12,24,12,26],[12,27,12,28],[12,29,12,30],[12,31,12,32],[12,33,12,34],[12,35,12,36],[12,37,12,38],[12,39,12,40],[12,41,12,42],[12,43,12,45],[12,46,12,48],[11,37,11,38],[11,39,11,40],[11,41,11,42],[11,43,11,45],[7,22,7,36],[8,24,9,26],[5,29,5,37],[5,38,5,43],[3,2,3,66],[5,44,5,52],[5,53,5,60],[8,37,9,38],[8,39,9,40],[8,41,9,42],[8,22,9,23],[8,27,9,28],[8,29,9,30],[7,37,7,48],[7,18,9,21],[15,49,15,66],[16,2,16,8],[16,9,16,17],[16,18,16,21],[16,22,16,23],[16,24,16,26],[16,27,16,28],[16,29,16,30],[16,31,16,32],[16,33,16,34],[16,35,16,36],[16,37,16,38],[16,39,16,40],[16,41,16,42],[16,43,16,45],[16,46,16,48],[14,49,14,66],[8,43,9,45],[10,33,10,34],[10,35,10,36],[10,31,10,32],[5,2,5,8],[10,2,10,8],[10,9,10,17],[10,18,10,21],[10,24,10,26],[9,35,9,36],[7,2,7,17],[9,31,9,32],[5,9,5,28],[9,33,9,34],[8,2,9,8],[8,9,9,17],[8,46,9,48],[10,49,10,66],[8,49,9,66],[10,43,10,45],[10,46,10,48],[8,31,8,36],[10,37,10,38],[10,39,10,40],[10,41,10,42],[10,22,10,23],[10,27,10,28],[10,29,10,30],[15,18,15,21],[15,22,15,23],[15,24,15,26],[15,27,15,28],[15,29,15,30],[15,31,15,32],[15,33,15,34],[15,35,15,36],[15,37,15,38],[15,39,15,40],[15,41,15,42],[15,43,15,45],[15,46,15,48],[13,49,13,66],[14,2,14,8],[14,9,14,17],[14,18,14,21],[14,22,14,23],[14,24,14,26],[14,27,14,28],[14,29,14,30],[14,31,14,32],[14,33,14,34],[14,35,14,36],[14,37,14,38],[14,39,14,40],[14,41,14,42],[14,43,14,45],[14,46,14,48],[15,2,15,8],[15,9,15,17],[11,46,11,48],[11,27,11,28],[11,29,11,30],[11,31,11,32],[11,33,11,34],[11,35,11,36],[11,2,11,8],[11,9,11,17],[11,18,11,21],[11,22,11,23],[11,24,11,26],[12,2,12,8],[12,9,12,17],[18,49,18,66],[19,2,19,8],[19,9,19,17],[19,18,19,21],[19,22,19,23],[19,24,19,26],[19,27,19,28],[19,29,19,30],[19,31,19,32],[19,33,19,34],[19,35,19,36],[19,37,19,38],[19,39,19,40],[19,41,19,42],[19,43,19,45],[19,46,19,48],[17,49,17,66],[18,2,18,8],[18,9,18,17],[18,18,18,21],[18,22,18,23],[18,24,18,26],[18,27,18,28],[18,29,18,30],[18,31,18,32],[18,33,18,34],[18,35,18,36],[18,37,18,38],[18,39,18,40],[18,41,18,42],[18,43,18,45],[18,46,18,48],[16,49,16,66],[17,18,17,21],[17,22,17,23],[17,24,17,26],[17,27,17,28],[17,29,17,30],[17,31,17,32],[17,33,17,34],[17,35,17,36],[17,37,17,38],[17,39,17,40],[17,41,17,42],[17,43,17,45],[17,46,17,48],[17,2,17,8],[17,9,17,17],[21,49,21,66],[22,2,22,8],[22,9,22,17],[22,18,22,21],[22,22,22,23],[22,24,22,26],[22,27,22,28],[22,29,22,30],[22,31,22,32],[22,33,22,34],[22,35,22,36],[22,37,22,38],[22,39,22,40],[22,41,22,42],[22,43,22,45],[22,46,22,48],[20,49,20,66],[21,2,21,8],[21,9,21,17],[21,18,21,21],[21,22,21,23],[21,24,21,26],[21,27,21,28],[21,29,21,30],[21,31,21,32],[21,33,21,34],[21,35,21,36],[21,37,21,38],[21,39,21,40],[21,41,21,42],[21,43,21,45],[21,46,21,48],[19,49,19,66],[20,2,20,8],[20,9,20,17],[20,18,20,21],[20,22,20,23],[20,24,20,26],[20,27,20,28],[20,29,20,30],[20,31,20,32],[20,33,20,34],[20,35,20,36],[20,37,20,38],[20,39,20,40],[20,41,20,42],[20,43,20,45],[20,46,20,48],[24,49,24,66],[25,2,25,8],[25,9,25,17],[25,18,25,21],[25,22,25,23],[25,24,25,26],[25,27,25,28],[25,29,25,30],[25,31,25,32],[25,33,25,34],[25,35,25,36],[25,37,25,38],[25,39,25,40],[25,41,25,42],[25,43,25,45],[25,46,25,48],[23,49,23,66],[24,2,24,8],[24,9,24,17],[24,18,24,21],[24,22,24,23],[24,24,24,26],[24,27,24,28],[24,29,24,30],[24,31,24,32],[24,33,24,34],[24,35,24,36],[24,37,24,38],[24,39,24,40],[24,41,24,42],[24,43,24,45],[24,46,24,48],[22,49,22,66],[23,2,23,8],[23,9,23,17],[23,18,23,21],[23,22,23,23],[23,24,23,26],[23,27,23,28],[23,29,23,30],[23,31,23,32],[23,33,23,34],[23,35,23,36],[23,37,23,38],[23,39,23,40],[23,41,23,42],[23,43,23,45],[23,46,23,48],[27,49,27,66],[28,2,28,8],[28,9,28,17],[28,18,28,21],[28,22,28,23],[28,24,28,26],[28,27,28,28],[28,29,28,30],[28,31,28,32],[28,33,28,34],[28,35,28,36],[28,37,28,38],[28,39,28,40],[28,41,28,42],[28,43,28,45],[28,46,28,48],[26,49,26,66],[27,2,27,8],[27,9,27,17],[27,18,27,21],[27,22,27,23],[27,24,27,26],[27,27,27,28],[27,29,27,30],[27,31,27,32],[27,33,27,34],[27,35,27,36],[27,37,27,38],[27,39,27,40],[27,41,27,42],[27,43,27,45],[27,46,27,48],[25,49,25,66],[26,2,26,8],[26,9,26,17],[26,18,26,21],[26,22,26,23],[26,24,26,26],[26,27,26,28],[26,29,26,30],[26,31,26,32],[26,33,26,34],[26,35,26,36],[26,37,26,38],[26,39,26,40],[26,41,26,42],[26,43,26,45],[26,46,26,48],[30,49,30,66],[31,2,31,8],[31,9,31,17],[31,18,31,21],[31,22,31,23],[31,24,31,26],[31,27,31,28],[31,29,31,30],[31,31,31,32],[31,33,31,34],[31,35,31,36],[31,37,31,38],[31,39,31,40],[31,41,31,42],[31,43,31,45],[31,46,31,48],[29,49,29,66],[30,2,30,8],[30,9,30,17],[30,18,30,21],[30,22,30,23],[30,24,30,26],[30,27,30,28],[30,29,30,30],[30,31,30,32],[30,33,30,34],[30,35,30,36],[30,37,30,38],[30,39,30,40],[30,41,30,42],[30,43,30,45],[30,46,30,48],[28,49,28,66],[29,2,29,8],[29,9,29,17],[29,18,29,21],[29,22,29,23],[29,24,29,26],[29,27,29,28],[29,29,29,30],[29,31,29,32],[29,33,29,34],[29,35,29,36],[29,37,29,38],[29,39,29,40],[29,41,29,42],[29,43,29,45],[29,46,29,48],[33,49,33,66],[34,2,34,8],[34,9,34,17],[34,18,34,21],[34,22,34,23],[34,24,34,26],[34,27,34,28],[34,29,34,30],[34,31,34,32],[34,33,34,34],[34,35,34,36],[34,37,34,38],[34,39,34,40],[34,41,34,42],[34,43,34,45],[34,46,34,48],[32,49,32,66],[33,2,33,8],[33,9,33,17],[33,18,33,21],[33,22,33,23],[33,24,33,26],[33,27,33,28],[33,29,33,30],[33,31,33,32],[33,33,33,34],[33,35,33,36],[33,37,33,38],[33,39,33,40],[33,41,33,42],[33,43,33,45],[33,46,33,48],[31,49,31,66],[32,2,32,8],[32,9,32,17],[32,18,32,21],[32,22,32,23],[32,24,32,26],[32,27,32,28],[32,29,32,30],[32,31,32,32],[32,33,32,34],[32,35,32,36],[32,37,32,38],[32,39,32,40],[32,41,32,42],[32,43,32,45],[32,46,32,48],[36,49,36,66],[37,2,37,8],[37,9,37,17],[37,18,37,21],[37,22,37,23],[37,24,37,26],[37,27,37,28],[37,29,37,30],[37,31,37,32],[37,33,37,34],[37,35,37,36],[37,37,37,38],[37,39,37,40],[37,41,37,42],[37,43,37,45],[37,46,37,48],[35,49,35,66],[36,2,36,8],[36,9,36,17],[36,18,36,21],[36,22,36,23],[36,24,36,26],[36,27,36,28],[36,29,36,30],[36,31,36,32],[36,33,36,34],[36,35,36,36],[36,37,36,38],[36,39,36,40],[36,41,36,42],[36,43,36,45],[36,46,36,48],[34,49,34,66],[35,2,35,8],[35,9,35,17],[35,18,35,21],[35,22,35,23],[35,24,35,26],[35,27,35,28],[35,29,35,30],[35,31,35,32],[35,33,35,34],[35,35,35,36],[35,37,35,38],[35,39,35,40],[35,41,35,42],[35,43,35,45],[35,46,35,48],[39,49,39,66],[40,2,40,8],[40,9,40,17],[40,18,40,21],[40,22,40,23],[40,24,40,26],[40,27,40,28],[40,29,40,30],[40,31,40,32],[40,33,40,34],[40,35,40,36],[40,37,40,38],[40,39,40,40],[40,41,40,42],[40,43,40,45],[40,46,40,48],[38,49,38,66],[39,2,39,8],[39,9,39,17],[39,18,39,21],[39,22,39,23],[39,24,39,26],[39,27,39,28],[39,29,39,30],[39,31,39,32],[39,33,39,34],[39,35,39,36],[39,37,39,38],[39,39,39,40],[39,41,39,42],[39,43,39,45],[39,46,39,48],[37,49,37,66],[38,2,38,8],[38,9,38,17],[38,18,38,21],[38,22,38,23],[38,24,38,26],[38,27,38,28],[38,29,38,30],[38,31,38,32],[38,33,38,34],[38,35,38,36],[38,37,38,38],[38,39,38,40],[38,41,38,42],[38,43,38,45],[38,46,38,48],[42,49,42,66],[43,2,43,8],[43,9,43,17],[43,18,43,21],[43,22,43,23],[43,24,43,26],[43,27,43,28],[43,29,43,30],[43,31,43,32],[43,33,43,34],[43,35,43,36],[43,37,43,38],[43,39,43,40],[43,41,43,42],[43,43,43,45],[43,46,43,48],[41,49,41,66],[42,2,42,8],[42,9,42,17],[42,18,42,21],[42,22,42,23],[42,24,42,26],[42,27,42,28],[42,29,42,30],[42,31,42,32],[42,33,42,34],[42,35,42,36],[42,37,42,38],[42,39,42,40],[42,41,42,42],[42,43,42,45],[42,46,42,48],[40,49,40,66],[41,2,41,8],[41,9,41,17],[41,18,41,21],[41,22,41,23],[41,24,41,26],[41,27,41,28],[41,29,41,30],[41,31,41,32],[41,33,41,34],[41,35,41,36],[41,37,41,38],[41,39,41,40],[41,41,41,42],[41,43,41,45],[41,46,41,48],[45,49,45,66],[46,2,46,8],[46,9,46,17],[46,18,46,21],[46,22,46,23],[46,24,46,26],[46,27,46,28],[46,29,46,30],[46,31,46,32],[46,33,46,34],[46,35,46,36],[46,37,46,38],[46,39,46,40],[46,41,46,42],[46,43,46,45],[46,46,46,48],[44,49,44,66],[45,2,45,8],[45,9,45,17],[45,18,45,21],[45,22,45,23],[45,24,45,26],[45,27,45,28],[45,29,45,30],[45,31,45,32],[45,33,45,34],[45,35,45,36],[45,37,45,38],[45,39,45,40],[45,41,45,42],[45,43,45,45],[45,46,45,48],[43,49,43,66],[44,2,44,8],[44,9,44,17],[44,18,44,21],[44,22,44,23],[44,24,44,26],[44,27,44,28],[44,29,44,30],[44,31,44,32],[44,33,44,34],[44,35,44,36],[44,37,44,38],[44,39,44,40],[44,41,44,42],[44,43,44,45],[44,46,44,48],[48,49,48,66],[49,2,49,8],[49,9,49,17],[49,18,49,21],[49,22,49,23],[49,24,49,26],[49,27,49,28],[49,29,49,30],[49,31,49,32],[49,33,49,34],[49,35,49,36],[49,37,49,38],[49,39,49,40],[49,41,49,42],[49,43,49,45],[49,46,49,48],[47,49,47,66],[48,2,48,8],[48,9,48,17],[48,18,48,21],[48,22,48,23],[48,24,48,26],[48,27,48,28],[48,29,48,30],[48,31,48,32],[48,33,48,34],[48,35,48,36],[48,37,48,38],[48,39,48,40],[48,41,48,42],[48,43,48,45],[48,46,48,48],[46,49,46,66],[47,2,47,8],[47,9,47,17],[47,18,47,21],[47,22,47,23],[47,24,47,26],[47,27,47,28],[47,29,47,30],[47,31,47,32],[47,33,47,34],[47,35,47,36],[47,37,47,38],[47,39,47,40],[47,41,47,42],[47,43,47,45],[47,46,47,48],[51,49,51,66],[52,2,52,8],[52,9,52,17],[52,18,52,21],[52,22,52,23],[52,24,52,26],[52,27,52,28],[52,29,52,30],[52,31,52,32],[52,33,52,34],[52,35,52,36],[52,37,52,38],[52,39,52,40],[52,41,52,42],[52,43,52,45],[52,46,52,48],[50,49,50,66],[51,2,51,8],[51,9,51,17],[51,18,51,21],[51,22,51,23],[51,24,51,26],[51,27,51,28],[51,29,51,30],[51,31,51,32],[51,33,51,34],[51,35,51,36],[51,37,51,38],[51,39,51,40],[51,41,51,42],[51,43,51,45],[51,46,51,48],[49,49,49,66],[50,2,50,8],[50,9,50,17],[50,18,50,21],[50,22,50,23],[50,24,50,26],[50,27,50,28],[50,29,50,30],[50,31,50,32],[50,33,50,34],[50,35,50,36],[50,37,50,38],[50,39,50,40],[50,41,50,42],[50,43,50,45],[50,46,50,48],[54,49,54,66],[55,2,55,8],[55,9,55,17],[55,18,55,21],[55,22,55,23],[55,24,55,26],[55,27,55,28],[55,29,55,30],[55,31,55,32],[55,33,55,34],[55,35,55,36],[55,37,55,38],[55,39,55,40],[55,41,55,42],[55,43,55,45],[55,46,55,48],[53,49,53,66],[54,2,54,8],[54,9,54,17],[54,18,54,21],[54,22,54,23],[54,24,54,26],[54,27,54,28],[54,29,54,30],[54,31,54,32],[54,33,54,34],[54,35,54,36],[54,37,54,38],[54,39,54,40],[54,41,54,42],[54,43,54,45],[54,46,54,48],[52,49,52,66],[53,2,53,8],[53,9,53,17],[53,18,53,21],[53,22,53,23],[53,24,53,26],[53,27,53,28],[53,29,53,30],[53,31,53,32],[53,33,53,34],[53,35,53,36],[53,37,53,38],[53,39,53,40],[53,41,53,42],[53,43,53,45],[53,46,53,48],[57,49,57,66],[58,2,58,8],[58,9,58,17],[58,18,58,21],[58,22,58,23],[58,24,58,26],[58,27,58,28],[58,29,58,30],[58,31,58,32],[58,33,58,34],[58,35,58,36],[58,37,58,38],[58,39,58,40],[58,41,58,42],[58,43,58,45],[58,46,58,48],[56,49,56,66],[57,2,57,8],[57,9,57,17],[57,18,57,21],[57,22,57,23],[57,24,57,26],[57,27,57,28],[57,29,57,30],[57,31,57,32],[57,33,57,34],[57,35,57,36],[57,37,57,38],[57,39,57,40],[57,41,57,42],[57,43,57,45],[57,46,57,48],[55,49,55,66],[56,2,56,8],[56,9,56,17],[56,18,56,21],[56,22,56,23],[56,24,56,26],[56,27,56,28],[56,29,56,30],[56,31,56,32],[56,33,56,34],[56,35,56,36],[56,37,56,38],[56,39,56,40],[56,41,56,42],[56,43,56,45],[56,46,56,48],[60,49,60,66],[61,2,61,8],[61,9,61,17],[61,18,61,21],[61,22,61,23],[61,24,61,26],[61,27,61,28],[61,29,61,30],[61,31,61,32],[61,33,61,34],[61,35,61,36],[61,37,61,38],[61,39,61,40],[61,41,61,42],[61,43,61,45],[61,46,61,48],[59,49,59,66],[60,2,60,8],[60,9,60,17],[60,18,60,21],[60,22,60,23],[60,24,60,26],[60,27,60,28],[60,29,60,30],[60,31,60,32],[60,33,60,34],[60,35,60,36],[60,37,60,38],[60,39,60,40],[60,41,60,42],[60,43,60,45],[60,46,60,48],[58,49,58,66],[59,2,59,8],[59,9,59,17],[59,18,59,21],[59,22,59,23],[59,24,59,26],[59,27,59,28],[59,29,59,30],[59,31,59,32],[59,33,59,34],[59,35,59,36],[59,37,59,38],[59,39,59,40],[59,41,59,42],[59,43,59,45],[59,46,59,48],[63,49,63,66],[64,2,64,8],[64,9,64,17],[64,18,64,21],[64,22,64,23],[64,24,64,26],[64,27,64,28],[64,29,64,30],[64,31,64,32],[64,33,64,34],[64,35,64,36],[64,37,64,38],[64,39,64,40],[64,41,64,42],[64,43,64,45],[64,46,64,48],[62,49,62,66],[63,2,63,8],[63,9,63,17],[63,18,63,21],[63,22,63,23],[63,24,63,26],[63,27,63,28],[63,29,63,30],[63,31,63,32],[63,33,63,34],[63,35,63,36],[63,37,63,38],[63,39,63,40],[63,41,63,42],[63,43,63,45],[63,46,63,48],[61,49,61,66],[62,2,62,8],[62,9,62,17],[62,18,62,21],[62,22,62,23],[62,24,62,26],[62,27,62,28],[62,29,62,30],[62,31,62,32],[62,33,62,34],[62,35,62,36],[62,37,62,38],[62,39,62,40],[62,41,62,42],[62,43,62,45],[62,46,62,48],[66,49,66,66],[67,2,67,8],[67,9,67,17],[67,18,67,21],[67,22,67,23],[67,24,67,26],[67,27,67,28],[67,29,67,30],[67,31,67,32],[67,33,67,34],[67,35,67,36],[67,37,67,38],[67,39,67,40],[67,41,67,42],[67,43,67,45],[67,46,67,48],[65,49,65,66],[66,2,66,8],[66,9,66,17],[66,18,66,21],[66,22,66,23],[66,24,66,26],[66,27,66,28],[66,29,66,30],[66,31,66,32],[66,33,66,34],[66,35,66,36],[66,37,66,38],[66,39,66,40],[66,41,66,42],[66,43,66,45],[66,46,66,48],[64,49,64,66],[65,2,65,8],[65,9,65,17],[65,18,65,21],[65,22,65,23],[65,24,65,26],[65,27,65,28],[65,29,65,30],[65,31,65,32],[65,33,65,34],[65,35,65,36],[65,37,65,38],[65,39,65,40],[65,41,65,42],[65,43,65,45],[65,46,65,48],[69,49,69,66],[70,2,70,8],[70,9,70,17],[70,18,70,21],[70,22,70,23],[70,24,70,26],[70,27,70,28],[70,29,70,30],[70,31,70,32],[70,33,70,34],[70,35,70,36],[70,37,70,38],[70,39,70,40],[70,41,70,42],[70,43,70,45],[70,46,70,48],[68,49,68,66],[69,2,69,8],[69,9,69,17],[69,18,69,21],[69,22,69,23],[69,24,69,26],[69,27,69,28],[69,29,69,30],[69,31,69,32],[69,33,69,34],[69,35,69,36],[69,37,69,38],[69,39,69,40],[69,41,69,42],[69,43,69,45],[69,46,69,48],[67,49,67,66],[68,2,68,8],[68,9,68,17],[68,18,68,21],[68,22,68,23],[68,24,68,26],[68,27,68,28],[68,29,68,30],[68,31,68,32],[68,33,68,34],[68,35,68,36],[68,37,68,38]],"merged_total":16029,"flags":["merged_cut"]}
[]
[null,null,null,null,null,null,null,null,null,null,null,null,null,null,null,null,null,null,null,null,null,null,null,"COMISIÓN INTERAMERICANA DEL ATÚN TROPICAL ",null,null,null,null,null,null,null,null,null,null,null,null,null,null,null,null,null,null,null,null,null,null,null,null,null,null,null,null,null,null,null,null,null,{"$f":"Instrucciones!CQ2","v":"Ver. 2018-09 v.4"}]
[]
[null,null,"INVENTARIO E INFORMACIÓN DE LOS PLANTADOS"]
[]
[null,null,"Nombre del buque",null,null,null,null,null,null,null,null,null,null,null,null,null,null,null,null,null,null,null,null,null,null,null,null,null,null," No. Buque CIAT",null,null,null,null,null,null,null,null,null,null,null,null,null,null,"Fecha inicio de viaje"]
[]
[null,null,"Identificador del plantado",null,null,null,null,null,null,null,null,null,null,null,null,null,null,null,"Descripción",null,null,null,"Componente de superficie",null,null,null,null,null,null,null,null,null,null,null,null,null,null,"Componente sumergido (rabo)"]
[null,null,"Código del fabricante \nTabla 1",null,null,null,null,null,null,"Número de serie de la \nbaliza o Código CIAT",null,null,null,null,null,null,null,null,null,null,null,null,"Balsa",null,"Recubri-\nmiento",null,null,"Malla\n(cm)",null,"Flota-\ndores",null,"Dimensiones (m)",null,null,null,null,null,"Mat. 1",null,"Mat. 2",null,"Config.",null,"Luz malla (cm)",null,null,"Prof. (m)",null,null,"Comentarios / Observaciones"]
[null,null,null,null,null,null,null,null,null,null,null,null,null,null,null,null,null,null,null,null,null,null,null,null,null,null,null,null,null,null,null,"A",null,"L",null,"P"]
[null,1]
[null,2]
[null,3]
[null,4]
[null,5]
[null,6]
[null,7]
[null,8]
[null,9]
[null,10]
[null,11]
[null,12]
[null,13]
[null,14]
[null,15]
[null,16]
[null,17]
[null,18]
[null,19]
[null,20]
[null,21]
[null,22]
[null,23]
[null,24]
[null,25]
[null,26]
[null,27]
[null,28]
[null,29]
[null,30]
[null,31]
[null,32]
[null,33]
[null,34]
[null,35]
[null,36]
[null,37]
[null,38]
[null,39]
[null,40]
[null,41]
[null,42]
[null,43]
[null,44]
[null,45]
[null,46]
[null,47]
[null,48]
[null,49]
[null,50]
[null,51]
[null,52]
[null,53]
[null,54]
[null,55]
[null,56]
[null,57]
[null,58]
[null,59]
[null,60]
[null,61]
[null,62]
[null,63]
[null,64]
[null,65]
[null,66]
[null,67]
[null,68]
[null,69]
[null,70]
[null,71]
[null,72]
[null,73]
[null,74]
[null,75]
[null,76]
[null,77]
[null,78]
[null,79]
[null,80]
[null,81]
[null,82]
[null,83]
[null,84]
[null,85]
[null,86]
[null,87]
[null,88]
[null,89]
[null,90]
[null,91]
[null,92]
[null,93]
[null,94]
[null,95]
[null,96]
[null,97]
[null,98]
[null,99]
[null,100]
[null,101]
[null,102]
[null,103]
[null,104]
[null,105]
[null,106]
[null,107]
[null,108]
[null,109]
[null,110]
[null,111]
[null,112]
[null,113]
[null,114]
[null,115]
[null,116]
[null,117]
[null,118]
[null,119]
[null,120]
[null,121]
[null,122]
[null,123]
[null,124]
[null,125]
[null,126]
[null,127]
[null,128]
[null,129]
[null,130]
[null,131]
[null,132]
[null,133]
[null,134]
[null,135]
[null,136]
[null,137]
[null,138]
[null,139]
[null,140]
[null,141]
[null,142]
[null,143]
[null,144]
[null,145]
[null,146]
[null,147]
[null,148]
[null,149]
[null,150]
[null,151]
[null,152]
[null,153]
[null,154]
[null,155]
[null,156]
[null,157]
[null,158]
[null,159]
[null,160]
[null,161]
[null,162]
[null,163]
[null,164]
[null,165]
[null,166]
[null,167]
[null,168]
[null,169]
[null,170]
[null,171]
[null,172]
[null,173]
[null,174]
[null,175]
[null,176]
[null,177]
[null,178]
[null,179]
[null,180]
[null,181]
[null,182]
[null,183]
[null,184]
[null,185]
[null,186]
[null,187]
[null,188]
[null,189]
[null,190]
[null,191]
[null,192]
[null,193]
[null,194]
[null,195]
[null,196]
[null,197]
[null,198]
[null,199]
[null,200]
[null,201]
[null,202]
[null,203]
[null,204]
[null,205]
[null,206]
[null,207]
[null,208]
[null,209]
[null,210]
[null,211]
[null,212]
[null,213]
[null,214]
[null,215]
[null,216]
[null,217]
[null,218]
[null,219]
[null,220]
[null,221]
[null,222]
[null,223]
[null,224]
[null,225]
[null,226]
[null,227]
[null,228]
[null,229]
[null,230]
[null,231]
[null,232]
[null,233]
[null,234]
[null,235]
[null,236]
[null,237]
[null,238]
[null,239]
[null,240]
[null,241]
[null,242]
[null,243]
[null,244]
[null,245]
[null,246]
[null,247]
[null,248]
[null,249]
[null,250]
[null,251]
[null,252]
[null,253]
[null,254]
[null,255]
[null,256]
[null,257]
[null,258]
[null,259]
[null,260]
[null,261]
[null,262]
[null,263]
[null,264]
[null,265]
[null,266]
[null,267]
[null,268]
[null,269]
[null,270]
[null,271]
[null,272]
[null,273]
[null,274]
[null,275]
[null,276]
[null,277]
[null,278]
[null,279]
[null,280]
[null,281]
[null,282]
[null,283]
[null,284]
[null,285]
[null,286]
[null,287]
[null,288]
[null,289]
[null,290]
[null,291]
[null,292]
[null,293]
[null,294]
[null,295]
[null,296]
[null,297]
[null,298]
[null,299]
[null,300]
[null,301]
[null,302]
[null,303]
[null,304]
[null,305]
[null,306]
[null,307]
[null,308]
[null,309]
[null,310]
[null,311]
[null,312]
[null,313]
[null,314]
[null,315]
[null,316]
[null,317]
[null,318]
[null,319]
[null,320]
[null,321]
[null,322]
[null,323]
[null,324]
[null,325]
[null,326]
[null,327]
[null,328]
[null,329]
[null,330]
[null,331]
[null,332]
[null,333]
[null,334]
[null,335]
[null,336]
[null,337]
[null,338]
[null,339]
[null,340]
[null,341]
[null,342]
[null,343]
[null,344]
[null,345]
[null,346]
[null,347]
[null,348]
[null,349]
[null,350]
[null,351]
[null,352]
[null,353]
[null,354]
[null,355]
[null,356]
[null,357]
[null,358]
[null,359]
[null,360]
[null,361]
[null,362]
[null,363]
[null,364]
[null,365]
[null,366]
[null,367]
[null,368]
[null,369]
[null,370]
[null,371]
[null,372]
[null,373]
[null,374]
[null,375]
[null,376]
[null,377]
[null,378]
[null,379]
[null,380]
[null,381]
[null,382]
[null,383]
[null,384]
[null,385]
[null,386]
[null,387]
[null,388]
[null,389]
[null,390]
[null,391]
[null,392]
[null,393]
[null,394]
[null,395]
[null,396]
[null,397]
[null,398]
[null,399]
[null,400]
[null,401]
[null,402]
[null,403]
[null,404]
[null,405]
[null,406]
[null,407]
[null,408]
[null,409]
[null,410]
[null,411]
[null,412]
[null,413]
[null,414]
[null,415]
[null,416]
[null,417]
[null,418]
[null,419]
[null,420]
[null,421]
[null,422]
[null,423]
[null,424]
[null,425]
[null,426]
[null,427]
[null,428]
[null,429]
[null,430]
[null,431]
[null,432]
[null,433]
[null,434]
[null,435]
[null,436]
[null,437]
[null,438]
[null,439]
[null,440]
[null,441]
[null,442]
[null,443]
[null,444]
[null,445]
[null,446]
[null,447]
[null,448]
[null,449]
[null,450]
[null,451]
[null,452]
[null,453]
[null,454]
[null,455]
[null,456]
[null,457]
[null,458]
[null,459]
[null,460]
[null,461]
[null,462]
[null,463]
[null,464]
[null,465]
[null,466]
[null,467]
[null,468]
[null,469]
[null,470]
[null,471]
[null,472]
[null,473]
[null,474]
[null,475]
[null,476]
[null,477]
[null,478]
[null,479]
[null,480]
[null,481]
[null,482]
[null,483]
[null,484]
[null,485]
[null,486]
[null,487]
[null,488]
[null,489]
[null,490]
[null,491]
[null,492]
[null,493]
[null,494]
[null,495]
[null,496]
[null,497]
[null,498]
[null,499]
[null,500]
[null,501]
[null,502]
[null,503]
[null,504]
[null,505]
[null,506]
[null,507]
[null,508]
[null,509]
[null,510]
[null,511]
[null,512]
[null,513]
[null,514]
[null,515]
[null,516]
[null,517]
[null,518]
[null,519]
[null,520]
[null,521]
[null,522]
[null,523]
[null,524]
[null,525]
[null,526]
[null,527]
[null,528]
[null,529]
[null,530]
[null,531]
[null,532]
[null,533]
[null,534]
[null,535]
[null,536]
[null,537]
[null,538]
[null,539]
[null,540]
[null,541]
[null,542]
[null,543]
[null,544]
[null,545]
[null,546]
[null,547]
[null,548]
[null,549]
[null,550]
[null,551]
[null,552]
[null,553]
[null,554]
[null,555]
[null,556]
[null,557]
[null,558]
[null,559]
[null,560]
[null,561]
[null,562]
[null,563]
[null,564]
[null,565]
[null,566]
[null,567]
[null,568]
[null,569]
[null,570]
[null,571]
[null,572]
[null,573]
[null,574]
[null,575]
[null,576]
[null,577]
[null,578]
[null,579]
[null,580]
[null,581]
[null,582]
[null,583]
[null,584]
[null,585]
[null,586]
[null,587]
[null,588]
[null,589]
[null,590]
[null,591]
[null,592]
[null,593]
[null,594]
[null,595]
[null,596]
[null,597]
[null,598]
[null,599]
[null,600]
[null,601]
[null,602]
[null,603]
[null,604]
[null,605]
[null,606]
[null,607]
[null,608]
[null,609]
[null,610]
[null,611]
[null,612]
[null,613]
[null,614]
[null,615]
[null,616]
[null,617]
[null,618]
[null,619]
[null,620]
[null,621]
[null,622]
[null,623]
[null,624]
[null,625]
[null,626]
[null,627]
[null,628]
[null,629]
[null,630]
[null,631]
[null,632]
[null,633]
[null,634]
[null,635]
[null,636]
[null,637]
[null,638]
[null,639]
[null,640]
[null,641]
[null,642]
[null,643]
[null,644]
[null,645]
[null,646]
[null,647]
[null,648]
[null,649]
[null,650]
[null,651]
[null,652]
[null,653]
[null,654]
[null,655]
[null,656]
[null,657]
[null,658]
[null,659]
[null,660]
[null,661]
[null,662]
[null,663]
[null,664]
[null,665]
[null,666]
[null,667]
[null,668]
[null,669]
[null,670]
[null,671]
[null,672]
[null,673]
[null,674]
[null,675]
[null,676]
[null,677]
[null,678]
[null,679]
[null,680]
[null,681]
[null,682]
[null,683]
[null,684]
[null,685]
[null,686]
[null,687]
[null,688]
[null,689]
[null,690]
[null,691]
[null,692]
[null,693]
[null,694]
[null,695]
[null,696]
[null,697]
[null,698]
[null,699]
[null,700]
[null,701]
[null,702]
[null,703]
[null,704]
[null,705]
[null,706]
[null,707]
[null,708]
[null,709]
[null,710]
[null,711]
[null,712]
[null,713]
[null,714]
[null,715]
[null,716]
[null,717]
[null,718]
[null,719]
[null,720]
[null,721]
[null,722]
[null,723]
[null,724]
[null,725]
[null,726]
[null,727]
[null,728]
[null,729]
[null,730]
[null,731]
[null,732]
[null,733]
[null,734]
[null,735]
[null,736]
[null,737]
[null,738]
[null,739]
[null,740]
[null,741]
[null,742]
[null,743]
[null,744]
[null,745]
[null,746]
[null,747]
[null,748]
[null,749]
[null,750]
[null,751]
[null,752]
[null,753]
[null,754]
[null,755]
[null,756]
[null,757]
[null,758]
[null,759]
[null,760]
[null,761]
[null,762]
[null,763]
[null,764]
[null,765]
[null,766]
[null,767]
[null,768]
[null,769]
[null,770]
[null,771]
[null,772]
[null,773]
[null,774]
[null,775]
[null,776]
[null,777]
[null,778]
[null,779]
[null,780]
[null,781]
[null,782]
[null,783]
[null,784]
[null,785]
[null,786]
[null,787]
[null,788]
[null,789]
[null,790]
[null,791]
[null,792]
[null,793]
[null,794]
[null,795]
[null,796]
[null,797]
[null,798]
[null,799]
[null,800]
[null,801]
[null,802]
[null,803]
[null,804]
[null,805]
[null,806]
[null,807]
[null,808]
[null,809]
[null,810]
[null,811]
[null,812]
[null,813]
[null,814]
[null,815]
[null,816]
[null,817]
[null,818]
[null,819]
[null,820]
[null,821]
[null,822]
[null,823]
[null,824]
[null,825]
[null,826]
[null,827]
[null,828]
[null,829]
[null,830]
[null,831]
[null,832]
[null,833]
[null,834]
[null,835]
[null,836]
[null,837]
[null,838]
[null,839]
[null,840]
[null,841]
[null,842]
[null,843]
[null,844]
[null,845]
[null,846]
[null,847]
[null,848]
[null,849]
[null,850]
[null,851]
[null,852]
[null,853]
[null,854]
[null,855]
[null,856]
[null,857]
[null,858]
[null,859]
[null,860]
[null,861]
[null,862]
[null,863]
[null,864]
[null,865]
[null,866]
[null,867]
[null,868]
[null,869]
[null,870]
[null,871]
[null,872]
[null,873]
[null,874]
[null,875]
[null,876]
[null,877]
[null,878]
[null,879]
[null,880]
[null,881]
[null,882]
[null,883]
[null,884]
[null,885]
[null,886]
[null,887]
[null,888]
[null,889]
[null,890]
[null,891]
[null,892]
[null,893]
[null,894]
[null,895]
[null,896]
[null,897]
[null,898]
[null,899]
[null,900]
[null,901]
[null,902]
[null,903]
[null,904]
[null,905]
[null,906]
[null,907]
[null,908]
[null,909]
[null,910]
[null,911]
[null,912]
[null,913]
[null,914]
[null,915]
[null,916]
[null,917]
[null,918]
[null,919]
[null,920]
[null,921]
[null,922]
[null,923]
[null,924]
[null,925]
[null,926]
[null,927]
[null,928]
[null,929]
[null,930]
[null,931]
[null,932]
[null,933]
[null,934]
[null,935]
[null,936]
[null,937]
[null,938]
[null,939]
[null,940]
[null,941]
[null,942]
[null,943]
[null,944]
[null,945]
[null,946]
[null,947]
[null,948]
[null,949]
[null,950]
[null,951]
[null,952]
[null,953]
[null,954]
[null,955]
[null,956]
[null,957]
[null,958]
[null,959]
[null,960]
[null,961]
[null,962]
[null,963]
[null,964]
[null,965]
[null,966]
[null,967]
[null,968]
[null,969]
[null,970]
[null,971]
[null,972]
[null,973]
[null,974]
[null,975]
[null,976]
[null,977]
[null,978]
[null,979]
[null,980]
[null,981]
[null,982]
[null,983]
[null,984]
[null,985]
[null,986]
[null,987]
[null,988]
[null,989]
[null,990]
[null,991]
[null,992]
[null,993]
[null,994]
[null,995]
[null,996]
[null,997]
[null,998]
[null,999]
[null,1000]

{"sheet":"Actividad","index":2,"n_rows":2010,"n_cols":70,"rows_kept":2010,"cut":false,"hidden":false,"merged":[[1,29,1,50],[1,69,1,77],[11,2,11,44],[8,28,9,29],[10,39,10,40],[10,41,10,42],[8,33,9,36],[8,37,9,38],[8,39,9,40],[8,41,9,42],[8,43,9,44],[10,43,10,44],[10,21,10,24],[10,25,10,27],[11,65,11,77],[11,55,11,56],[11,57,11,58],[11,59,11,60],[11,45,11,46],[11,47,11,48],[11,49,11,50],[11,51,11,52],[11,53,11,54],[11,61,11,62],[11,63,11,64],[5,53,5,60],[5,2,5,8],[5,9,5,28],[5,29,5,37],[5,38,5,43],[5,44,5,52],[12,63,12,64],[12,65,12,77],[3,2,3,77],[10,65,10,77],[7,30,7,36],[10,37,10,38],[10,30,10,32],[10,33,10,36],[10,59,10,60],[10,61,10,62],[10,63,10,64],[7,37,7,44],[10,45,10,46],[7,45,7,64],[10,47,10,48],[10,49,10,50],[10,51,10,52],[8,65,9,77],[8,55,9,56],[8,57,9,58],[8,59,9,60],[8,61,9,62],[8,63,9,64],[10,28,10,29],[10,53,10,54],[10,55,10,56],[10,57,10,58],[8,45,9,46],[8,47,9,48],[8,49,9,50],[8,51,9,52],[8,53,9,54],[8,2,8,10],[13,2,13,44],[13,45,13,46],[13,47,13,48],[13,49,13,50],[13,51,13,52],[13,53,13,54],[13,55,13,56],[13,57,13,58],[13,59,13,60],[13,61,13,62],[13,63,13,64],[13,65,13,77],[8,11,8,20],[9,2,9,10],[9,11,9,20],[8,30,9,32],[10,2,10,10],[10,11,10,20],[8,21,9,24],[8,25,9,27],[12,53,12,54],[12,55,12,56],[12,57,12,58],[12,59,12,60],[12,61,12,62],[12,43,12,44],[12,45,12,46],[12,47,12,48],[12,49,12,50],[12,51,12,52],[12,30,12,32],[12,33,12,36],[12,37,12,38],[12,39,12,40],[12,41,12,42],[12,2,12,10],[12,11,12,20],[12,21,12,24],[12,25,12,27],[12,28,12,29],[14,63,14,64],[14,65,14,77],[14,53,14,54],[14,55,14,56],[14,57,14,58],[14,59,14,60],[14,61,14,62],[14,43,14,44],[14,45,14,46],[14,47,14,48],[14,49,14,50],[14,51,14,52],[14,30,14,32],[14,33,14,36],[14,37,14,38],[14,39,14,40],[14,41,14,42],[14,2,14,10],[14,11,14,20],[14,21,14,24],[14,25,14,27],[14,28,14,29],[15,2,15,44],[15,45,15,46],[15,47,15,48],[15,49,15,50],[15,51,15,52],[15,53,15,54],[15,55,15,56],[15,57,15,58],[15,59,15,60],[15,61,15,62],[15,63,15,64],[15,65,15,77],[16,63,16,64],[16,65,16,77],[17,2,17,44],[17,45,17,46],[17,47,17,48],[17,49,17,50],[17,51,17,52],[17,53,17,54],[17,55,17,56],[17,57,17,58],[17,59,17,60],[17,61,17,62],[17,63,17,64],[17,65,17,77],[16,53,16,54],[16,55,16,56],[16,57,16,58],[16,59,16,60],[16,61,16,62],[16,43,16,44],[16,45,16,46],[16,47,16,48],[16,49,16,50],[16,51,16,52],[16,30,16,32],[16,33,16,36],[16,37,16,38],[16,39,16,40],[16,41,16,42],[16,2,16,10],[16,11,16,20],[16,21,16,24],[16,25,16,27],[16,28,16,29],[18,63,18,64],[18,65,18,77],[19,2,19,44],[19,45,19,46],[19,47,19,48],[19,49,19,50],[19,51,19,52],[19,53,19,54],[19,55,19,56],[19,57,19,58],[19,59,19,60],[19,61,19,62],[19,63,19,64],[19,65,19,77],[18,53,18,54],[18,55,18,56],[18,57,18,58],[18,59,18,60],[18,61,18,62],[18,43,18,44],[18,45,18,46],[18,47,18,48],[18,49,18,50],[18,51,18,52],[18,30,18,32],[18,33,18,36],[18,37,18,38],[18,39,18,40],[18,41,18,42],[18,2,18,10],[18,11,18,20],[18,21,18,24],[18,25,18,27],[18,28,18,29],[20,63,20,64],[20,65,20,77],[21,2,21,44],[21,45,21,46],[21,47,21,48],[21,49,21,50],[21,51,21,52],[21,53,21,54],[21,55,21,56],[21,57,21,58],[21,59,21,60],[21,61,21,62],[21,63,21,64],[21,65,21,77],[20,53,20,54],[20,55,20,56],[20,57,20,58],[20,59,20,60],[20,61,20,62],[20,43,20,44],[20,45,20,46],[20,47,20,48],[20,49,20,50],[20,51,20,52],[20,30,20,32],[20,33,20,36],[20,37,20,38],[20,39,20,40],[20,41,20,42],[20,2,20,10],[20,11,20,20],[20,21,20,24],[20,25,20,27],[20,28,20,29],[22,63,22,64],[22,65,22,77],[23,2,23,44],[23,45,23,46],[23,47,23,48],[23,49,23,50],[23,51,23,52],[23,53,23,54],[23,55,23,56],[23,57,23,58],[23,59,23,60],[23,61,23,62],[23,63,23,64],[23,65,23,77],[22,53,22,54],[22,55,22,56],[22,57,22,58],[22,59,22,60],[22,61,22,62],[22,43,22,44],[22,45,22,46],[22,47,22,48],[22,49,22,50],[22,51,22,52],[22,30,22,32],[22,33,22,36],[22,37,22,38],[22,39,22,40],[22,41,22,42],[22,2,22,10],[22,11,22,20],[22,21,22,24],[22,25,22,27],[22,28,22,29],[24,63,24,64],[24,65,24,77],[25,2,25,44],[25,45,25,46],[25,47,25,48],[25,49,25,50],[25,51,25,52],[25,53,25,54],[25,55,25,56],[25,57,25,58],[25,59,25,60],[25,61,25,62],[25,63,25,64],[25,65,25,77],[24,53,24,54],[24,55,24,56],[24,57,24,58],[24,59,24,60],[24,61,24,62],[24,43,24,44],[24,45,24,46],[24,47,24,48],[24,49,24,50],[24,51,24,52],[24,30,24,32],[24,33,24,36],[24,37,24,38],[24,39,24,40],[24,41,24,42],[24,2,24,10],[24,11,24,20],[24,21,24,24],[24,25,24,27],[24,28,24,29],[26,63,26,64],[26,65,26,77],[27,2,27,44],[27,45,27,46],[27,47,27,48],[27,49,27,50],[27,51,27,52],[27,53,27,54],[27,55,27,56],[27,57,27,58],[27,59,27,60],[27,61,27,62],[27,63,27,64],[27,65,27,77],[26,53,26,54],[26,55,26,56],[26,57,26,58],[26,59,26,60],[26,61,26,62],[26,43,26,44],[26,45,26,46],[26,47,26,48],[26,49,26,50],[26,51,26,52],[26,30,26,32],[26,33,26,36],[26,37,26,38],[26,39,26,40],[26,41,26,42],[26,2,26,10],[26,11,26,20],[26,21,26,24],[26,25,26,27],[26,28,26,29],[28,63,28,64],[28,65,28,77],[29,2,29,44],[29,45,29,46],[29,47,29,48],[29,49,29,50],[29,51,29,52],[29,53,29,54],[29,55,29,56],[29,57,29,58],[29,59,29,60],[29,61,29,62],[29,63,29,64],[29,65,29,77],[28,53,28,54],[28,55,28,56],[28,57,28,58],[28,59,28,60],[28,61,28,62],[28,43,28,44],[28,45,28,46],[28,47,28,48],[28,49,28,50],[28,51,28,52],[28,30,28,32],[28,33,28,36],[28,37,28,38],[28,39,28,40],[28,41,28,42],[28,2,28,10],[28,11,28,20],[28,21,28,24],[28,25,28,27],[28,28,28,29],[30,63,30,64],[30,65,30,77],[31,2,31,44],[31,45,31,46],[31,47,31,48],[31,49,31,50],[31,51,31,52],[31,53,31,54],[31,55,31,56],[31,57,31,58],[31,59,31,60],[31,61,31,62],[31,63,31,64],[31,65,31,77],[30,53,30,54],[30,55,30,56],[30,57,30,58],[30,59,30,60],[30,61,30,62],[30,43,30,44],[30,45,30,46],[30,47,30,48],[30,49,30,50],[30,51,30,52],[30,30,30,32],[30,33,30,36],[30,37,30,38],[30,39,30,40],[30,41,30,42],[30,2,30,10],[30,11,30,20],[30,21,30,24],[30,25,30,27],[30,28,30,29],[32,63,32,64],[32,65,32,77],[33,2,33,44],[33,45,33,46],[33,47,33,48],[33,49,33,50],[33,51,33,52],[33,53,33,54],[33,55,33,56],[33,57,33,58],[33,59,33,60],[33,61,33,62],[33,63,33,64],[33,65,33,77],[32,53,32,54],[32,55,32,56],[32,57,32,58],[32,59,32,60],[32,61,32,62],[32,43,32,44],[32,45,32,46],[32,47,32,48],[32,49,32,50],[32,51,32,52],[32,30,32,32],[32,33,32,36],[32,37,32,38],[32,39,32,40],[32,41,32,42],[32,2,32,10],[32,11,32,20],[32,21,32,24],[32,25,32,27],[32,28,32,29],[34,63,34,64],[34,65,34,77],[35,2,35,44],[35,45,35,46],[35,47,35,48],[35,49,35,50],[35,51,35,52],[35,53,35,54],[35,55,35,56],[35,57,35,58],[35,59,35,60],[35,61,35,62],[35,63,35,64],[35,65,35,77],[34,53,34,54],[34,55,34,56],[34,57,34,58],[34,59,34,60],[34,61,34,62],[34,43,34,44],[34,45,34,46],[34,47,34,48],[34,49,34,50],[34,51,34,52],[34,30,34,32],[34,33,34,36],[34,37,34,38],[34,39,34,40],[34,41,34,42],[34,2,34,10],[34,11,34,20],[34,21,34,24],[34,25,34,27],[34,28,34,29],[36,63,36,64],[36,65,36,77],[37,2,37,44],[37,45,37,46],[37,47,37,48],[37,49,37,50],[37,51,37,52],[37,53,37,54],[37,55,37,56],[37,57,37,58],[37,59,37,60],[37,61,37,62],[37,63,37,64],[37,65,37,77],[36,53,36,54],[36,55,36,56],[36,57,36,58],[36,59,36,60],[36,61,36,62],[36,43,36,44],[36,45,36,46],[36,47,36,48],[36,49,36,50],[36,51,36,52],[36,30,36,32],[36,33,36,36],[36,37,36,38],[36,39,36,40],[36,41,36,42],[36,2,36,10],[36,11,36,20],[36,21,36,24],[36,25,36,27],[36,28,36,29],[38,63,38,64],[38,65,38,77],[39,2,39,44],[39,45,39,46],[39,47,39,48],[39,49,39,50],[39,51,39,52],[39,53,39,54],[39,55,39,56],[39,57,39,58],[39,59,39,60],[39,61,39,62],[39,63,39,64],[39,65,39,77],[38,53,38,54],[38,55,38,56],[38,57,38,58],[38,59,38,60],[38,61,38,62],[38,43,38,44],[38,45,38,46],[38,47,38,48],[38,49,38,50],[38,51,38,52],[38,30,38,32],[38,33,38,36],[38,37,38,38],[38,39,38,40],[38,41,38,42],[38,2,38,10],[38,11,38,20],[38,21,38,24],[38,25,38,27],[38,28,38,29],[40,63,40,64],[40,65,40,77],[41,2,41,44],[41,45,41,46],[41,47,41,48],[41,49,41,50],[41,51,41,52],[41,53,41,54],[41,55,41,56],[41,57,41,58],[41,59,41,60],[41,61,41,62],[41,63,41,64],[41,65,41,77],[40,53,40,54],[40,55,40,56],[40,57,40,58],[40,59,40,60],[40,61,40,62],[40,43,40,44],[40,45,40,46],[40,47,40,48],[40,49,40,50],[40,51,40,52],[40,30,40,32],[40,33,40,36],[40,37,40,38],[40,39,40,40],[40,41,40,42],[40,2,40,10],[40,11,40,20],[40,21,40,24],[40,25,40,27],[40,28,40,29],[42,63,42,64],[42,65,42,77],[43,2,43,44],[43,45,43,46],[43,47,43,48],[43,49,43,50],[43,51,43,52],[43,53,43,54],[43,55,43,56],[43,57,43,58],[43,59,43,60],[43,61,43,62],[43,63,43,64],[43,65,43,77],[42,53,42,54],[42,55,42,56],[42,57,42,58],[42,59,42,60],[42,61,42,62],[42,43,42,44],[42,45,42,46],[42,47,42,48],[42,49,42,50],[42,51,42,52],[42,30,42,32],[42,33,42,36],[42,37,42,38],[42,39,42,40],[42,41,42,42],[42,2,42,10],[42,11,42,20],[42,21,42,24],[42,25,42,27],[42,28,42,29],[44,63,44,64],[44,65,44,77],[45,2,45,44],[45,45,45,46],[45,47,45,48],[45,49,45,50],[45,51,45,52],[45,53,45,54],[45,55,45,56],[45,57,45,58],[45,59,45,60],[45,61,45,62],[45,63,45,64],[45,65,45,77],[44,53,44,54],[44,55,44,56],[44,57,44,58],[44,59,44,60],[44,61,44,62],[44,43,44,44],[44,45,44,46],[44,47,44,48],[44,49,44,50],[44,51,44,52],[44,30,44,32],[44,33,44,36],[44,37,44,38],[44,39,44,40],[44,41,44,42],[44,2,44,10],[44,11,44,20],[44,21,44,24],[44,25,44,27],[44,28,44,29],[46,63,46,64],[46,65,46,77],[47,2,47,44],[47,45,47,46],[47,47,47,48],[47,49,47,50],[47,51,47,52],[47,53,47,54],[47,55,47,56],[47,57,47,58],[47,59,47,60],[47,61,47,62],[47,63,47,64],[47,65,47,77],[46,53,46,54],[46,55,46,56],[46,57,46,58],[46,59,46,60],[46,61,46,62],[46,43,46,44],[46,45,46,46],[46,47,46,48],[46,49,46,50],[46,51,46,52],[46,30,46,32],[46,33,46,36],[46,37,46,38],[46,39,46,40],[46,41,46,42],[46,2,46,10],[46,11,46,20],[46,21,46,24],[46,25,46,27],[46,28,46,29],[48,63,48,64],[48,65,48,77],[49,2,49,44],[49,45,49,46],[49,47,49,48],[49,49,49,50],[49,51,49,52],[49,53,49,54],[49,55,49,56],[49,57,49,58],[49,59,49,60],[49,61,49,62],[49,63,49,64],[49,65,49,77],[48,53,48,54],[48,55,48,56],[48,57,48,58],[48,59,48,60],[48,61,48,62],[48,43,48,44],[48,45,48,46],[48,47,48,48],[48,49,48,50],[48,51,48,52],[48,30,48,32],[48,33,48,36],[48,37,48,38],[48,39,48,40],[48,41,48,42],[48,2,48,10],[48,11,48,20],[48,21,48,24],[48,25,48,27],[48,28,48,29],[50,63,50,64],[50,65,50,77],[51,2,51,44],[51,45,51,46],[51,47,51,48],[51,49,51,50],[51,51,51,52],[51,53,51,54],[51,55,51,56],[51,57,51,58],[51,59,51,60],[51,61,51,62],[51,63,51,64],[51,65,51,77],[50,53,50,54],[50,55,50,56],[50,57,50,58],[50,59,50,60],[50,61,50,62],[50,43,50,44],[50,45,50,46],[50,47,50,48],[50,49,50,50],[50,51,50,52],[50,30,50,32],[50,33,50,36],[50,37,50,38],[50,39,50,40],[50,41,50,42],[50,2,50,10],[50,11,50,20],[50,21,50,24],[50,25,50,27],[50,28,50,29],[52,63,52,64],[52,65,52,77],[53,2,53,44],[53,45,53,46],[53,47,53,48],[53,49,53,50],[53,51,53,52],[53,53,53,54],[53,55,53,56],[53,57,53,58],[53,59,53,60],[53,61,53,62],[53,63,53,64],[53,65,53,77],[52,53,52,54],[52,55,52,56],[52,57,52,58],[52,59,52,60],[52,61,52,62],[52,43,52,44],[52,45,52,46],[52,47,52,48],[52,49,52,50],[52,51,52,52],[52,30,52,32],[52,33,52,36],[52,37,52,38],[52,39,52,40],[52,41,52,42],[52,2,52,10],[52,11,52,20],[52,21,52,24],[52,25,52,27],[52,28,52,29],[54,63,54,64],[54,65,54,77],[55,2,55,44],[55,45,55,46],[55,47,55,48],[55,49,55,50],[55,51,55,52],[55,53,55,54],[55,55,55,56],[55,57,55,58],[55,59,55,60],[55,61,55,62],[55,63,55,64],[55,65,55,77],[54,53,54,54],[54,55,54,56],[54,57,54,58],[54,59,54,60],[54,61,54,62],[54,43,54,44],[54,45,54,46],[54,47,54,48],[54,49,54,50],[54,51,54,52],[54,30,54,32],[54,33,54,36],[54,37,54,38],[54,39,54,40],[54,41,54,42],[54,2,54,10],[54,11,54,20],[54,21,54,24],[54,25,54,27],[54,28,54,29],[56,63,56,64],[56,65,56,77],[57,2,57,44],[57,45,57,46],[57,47,57,48],[57,49,57,50],[57,51,57,52],[57,53,57,54],[57,55,57,56],[57,57,57,58],[57,59,57,60],[57,61,57,62],[57,63,57,64],[57,65,57,77],[56,53,56,54],[56,55,56,56],[56,57,56,58],[56,59,56,60],[56,61,56,62],[56,43,56,44],[56,45,56,46],[56,47,56,48],[56,49,56,50],[56,51,56,52],[56,30,56,32],[56,33,56,36],[56,37,56,38],[56,39,56,40],[56,41,56,42],[56,2,56,10],[56,11,56,20],[56,21,56,24],[56,25,56,27],[56,28,56,29],[58,63,58,64],[58,65,58,77],[59,2,59,44],[59,45,59,46],[59,47,59,48],[59,49,59,50],[59,51,59,52],[59,53,59,54],[59,55,59,56],[59,57,59,58],[59,59,59,60],[59,61,59,62],[59,63,59,64],[59,65,59,77],[58,53,58,54],[58,55,58,56],[58,57,58,58],[58,59,58,60],[58,61,58,62],[58,43,58,44],[58,45,58,46],[58,47,58,48],[58,49,58,50],[58,51,58,52],[58,30,58,32],[58,33,58,36],[58,37,58,38],[58,39,58,40],[58,41,58,42],[58,2,58,10],[58,11,58,20],[58,21,58,24],[58,25,58,27],[58,28,58,29],[60,63,60,64],[60,65,60,77],[61,2,61,44],[61,45,61,46],[61,47,61,48],[61,49,61,50],[61,51,61,52],[61,53,61,54],[61,55,61,56],[61,57,61,58],[61,59,61,60],[61,61,61,62],[61,63,61,64],[61,65,61,77],[60,53,60,54],[60,55,60,56],[60,57,60,58],[60,59,60,60],[60,61,60,62],[60,43,60,44],[60,45,60,46],[60,47,60,48],[60,49,60,50],[60,51,60,52],[60,30,60,32],[60,33,60,36],[60,37,60,38],[60,39,60,40],[60,41,60,42],[60,2,60,10],[60,11,60,20],[60,21,60,24],[60,25,60,27],[60,28,60,29],[62,63,62,64],[62,65,62,77],[63,2,63,44],[63,45,63,46],[63,47,63,48],[63,49,63,50],[63,51,63,52],[63,53,63,54],[63,55,63,56],[63,57,63,58],[63,59,63,60],[63,61,63,62],[63,63,63,64],[63,65,63,77],[62,53,62,54],[62,55,62,56],[62,57,62,58],[62,59,62,60],[62,61,62,62],[62,43,62,44],[62,45,62,46],[62,47,62,48],[62,49,62,50],[62,51,62,52],[62,30,62,32],[62,33,62,36],[62,37,62,38],[62,39,62,40],[62,41,62,42],[62,2,62,10],[62,11,62,20],[62,21,62,24],[62,25,62,27],[62,28,62,29],[64,63,64,64],[64,65,64,77],[65,2,65,44],[65,45,65,46],[65,47,65,48],[65,49,65,50],[65,51,65,52],[65,53,65,54],[65,55,65,56],[65,57,65,58],[65,59,65,60],[65,61,65,62],[65,63,65,64],[65,65,65,77],[64,53,64,54],[64,55,64,56],[64,57,64,58],[64,59,64,60],[64,61,64,62],[64,43,64,44],[64,45,64,46],[64,47,64,48],[64,49,64,50],[64,51,64,52],[64,30,64,32],[64,33,64,36],[64,37,64,38],[64,39,64,40],[64,41,64,42],[64,2,64,10],[64,11,64,20],[64,21,64,24],[64,25,64,27],[64,28,64,29],[66,63,66,64],[66,65,66,77],[67,2,67,44],[67,45,67,46],[67,47,67,48],[67,49,67,50],[67,51,67,52],[67,53,67,54],[67,55,67,56],[67,57,67,58],[67,59,67,60],[67,61,67,62]],"merged_total":34036,"flags":["merged_cut"]}
[]
[null,null,null,null,null,null,null,null,null,null,null,null,null,null,null,null,null,null,null,null,null,null,null,null,null,null,null,null,null,"COMISIÓN INTERAMERICANA DEL ATÚN TROPICAL ",null,null,null,null,null,null,null,null,null,null,null,null,null,null,null,null,null,null,null,null,null,null,null,null,null,null,null,null,null,null,null,null,null,null,null,null,null,null,null,{"$f":"Instrucciones!CQ2","v":"Ver. 2018-09 v.4"}]
[]
[null,null,"ACTIVIDAD CON LOS PLANTADOS"]
[]
[null,null,"Nombre del buque",null,null,null,null,null,null,{"$f":"IF(Inventario!J6=\"\",\"\",Inventario!J6)","v":""},null,null,null,null,null,null,null,null,null,null,null,null,null,null,null,null,null,null,null," No. Buque CIAT",null,null,null,null,null,null,null,null,{"$f":"IF(Inventario!AM6=\"\",\"\",Inventario!AM6)","v":""},null,null,null,null,null,"Fecha inicio de viaje",null,null,null,null,null,null,null,null,{"$f":"IF(Inventario!BB6=\"\",\"\",Inventario!BB6)","v":""}]
[]
[null,null,null,null,null,null,null,null,null,null,null,null,null,null,null,null,null,null,null,null,null,null,null,null,null,null,null,null,null,null,"Posición",null,null,null,null,null,null,"Captura de túnidos (t)",null,null,null,null,null,null,null,"Captura incidental: Número [N] o tonelaje [t]."]
[null,null,"Identificador del plantado",null,null,null,null,null,null,null,null,"Identificador del reemplazo \n(solamente si se cambia de baliza)",null,null,null,null,null,null,null,null,null,"Fecha",null,null,null,"Hora",null,null,"Act.",null,"Latitud",null,null,"Longitud",null,null,null,"YFT",null,"BET",null,"SKJ",null,"OTR",null,"TIB",null,"N/t",null,"TORT",null,"N/t",null,"PIC",null,"N/t",null,"MANT",null,"N/t",null,"OTR",null,"N/t",null,"Comentarios / Observaciones"]
[null,null,"Código + Número de serie",null,null,null,null,null,null,null,null,"Código + Número de serie"]
[null,1]
[null,null,"CAPTURA INCIDENTAL LIBERADA VIVA:"]
[null,{"$f":"IF(B11=\"\",\"\",B11+1)","v":2}]
[null,{"$f":"IF(B12=\"\",\"\",B12+1)","v":""},"CAPTURA INCIDENTAL LIBERADA VIVA:"]
[null,3]
[null,"","CAPTURA INCIDENTAL LIBERADA VIVA:"]
[null,4]
[null,"","CAPTURA INCIDENTAL LIBERADA VIVA:"]
[null,5]
[null,"","CAPTURA INCIDENTAL LIBERADA VIVA:"]
[null,6]
[null,"","CAPTURA INCIDENTAL LIBERADA VIVA:"]
[null,7]
[null,"","CAPTURA INCIDENTAL LIBERADA VIVA:"]
[null,8]
[null,"","CAPTURA INCIDENTAL LIBERADA VIVA:"]
[null,9]
[null,"","CAPTURA INCIDENTAL LIBERADA VIVA:"]
[null,10]
[null,"","CAPTURA INCIDENTAL LIBERADA VIVA:"]
[null,11]
[null,"","CAPTURA INCIDENTAL LIBERADA VIVA:"]
[null,12]
[null,"","CAPTURA INCIDENTAL LIBERADA VIVA:"]
[null,13]
[null,"","CAPTURA INCIDENTAL LIBERADA VIVA:"]
[null,14]
[null,"","CAPTURA INCIDENTAL LIBERADA VIVA:"]
[null,15]
[null,"","CAPTURA INCIDENTAL LIBERADA VIVA:"]
[null,16]
[null,"","CAPTURA INCIDENTAL LIBERADA VIVA:"]
[null,17]
[null,"","CAPTURA INCIDENTAL LIBERADA VIVA:"]
[null,18]
[null,"","CAPTURA INCIDENTAL LIBERADA VIVA:"]
[null,19]
[null,"","CAPTURA INCIDENTAL LIBERADA VIVA:"]
[null,20]
[null,"","CAPTURA INCIDENTAL LIBERADA VIVA:"]
[null,21]
[null,"","CAPTURA INCIDENTAL LIBERADA VIVA:"]
[null,22]
[null,"","CAPTURA INCIDENTAL LIBERADA VIVA:"]
[null,23]
[null,"","CAPTURA INCIDENTAL LIBERADA VIVA:"]
[null,24]
[null,"","CAPTURA INCIDENTAL LIBERADA VIVA:"]
[null,25]
[null,"","CAPTURA INCIDENTAL LIBERADA VIVA:"]
[null,26]
[null,"","CAPTURA INCIDENTAL LIBERADA VIVA:"]
[null,27]
[null,"","CAPTURA INCIDENTAL LIBERADA VIVA:"]
[null,28]
[null,"","CAPTURA INCIDENTAL LIBERADA VIVA:"]
[null,29]
[null,"","CAPTURA INCIDENTAL LIBERADA VIVA:"]
[null,30]
[null,"","CAPTURA INCIDENTAL LIBERADA VIVA:"]
[null,31]
[null,"","CAPTURA INCIDENTAL LIBERADA VIVA:"]
[null,32]
[null,"","CAPTURA INCIDENTAL LIBERADA VIVA:"]
[null,33]
[null,"","CAPTURA INCIDENTAL LIBERADA VIVA:"]
[null,34]
[null,{"$f":"IF(B76=\"\",\"\",B76+1)","v":""},"CAPTURA INCIDENTAL LIBERADA VIVA:"]
[null,35]
[null,"","CAPTURA INCIDENTAL LIBERADA VIVA:"]
[null,36]
[null,"","CAPTURA INCIDENTAL LIBERADA VIVA:"]
[null,37]
[null,"","CAPTURA INCIDENTAL LIBERADA VIVA:"]
[null,38]
[null,"","CAPTURA INCIDENTAL LIBERADA VIVA:"]
[null,39]
[null,"","CAPTURA INCIDENTAL LIBERADA VIVA:"]
[null,40]
[null,"","CAPTURA INCIDENTAL LIBERADA VIVA:"]
[null,41]
[null,"","CAPTURA INCIDENTAL LIBERADA VIVA:"]
[null,42]
[null,"","CAPTURA INCIDENTAL LIBERADA VIVA:"]
[null,43]
[null,"","CAPTURA INCIDENTAL LIBERADA VIVA:"]
[null,44]
[null,"","CAPTURA INCIDENTAL LIBERADA VIVA:"]
[null,45]
[null,"","CAPTURA INCIDENTAL LIBERADA VIVA:"]
[null,46]
[null,"","CAPTURA INCIDENTAL LIBERADA VIVA:"]
[null,47]
[null,"","CAPTURA INCIDENTAL LIBERADA VIVA:"]
[null,48]
[null,"","CAPTURA INCIDENTAL LIBERADA VIVA:"]
[null,49]
[null,"","CAPTURA INCIDENTAL LIBERADA VIVA:"]
[null,50]
[null,"","CAPTURA INCIDENTAL LIBERADA VIVA:"]
[null,51]
[null,"","CAPTURA INCIDENTAL LIBERADA VIVA:"]
[null,52]
[null,"","CAPTURA INCIDENTAL LIBERADA VIVA:"]
[null,53]
[null,"","CAPTURA INCIDENTAL LIBERADA VIVA:"]
[null,54]
[null,"","CAPTURA INCIDENTAL LIBERADA VIVA:"]
[null,55]
[null,"","CAPTURA INCIDENTAL LIBERADA VIVA:"]
[null,56]
[null,"","CAPTURA INCIDENTAL LIBERADA VIVA:"]
[null,57]
[null,"","CAPTURA INCIDENTAL LIBERADA VIVA:"]
[null,58]
[null,"","CAPTURA INCIDENTAL LIBERADA VIVA:"]
[null,59]
[null,"","CAPTURA INCIDENTAL LIBERADA VIVA:"]
[null,60]
[null,"","CAPTURA INCIDENTAL LIBERADA VIVA:"]
[null,61]
[null,"","CAPTURA INCIDENTAL LIBERADA VIVA:"]
[null,62]
[null,"","CAPTURA INCIDENTAL LIBERADA VIVA:"]
[null,63]
[null,"","CAPTURA INCIDENTAL LIBERADA VIVA:"]
[null,64]
[null,"","CAPTURA INCIDENTAL LIBERADA VIVA:"]
[null,65]
[null,"","CAPTURA INCIDENTAL LIBERADA VIVA:"]
[null,66]
[null,{"$f":"IF(B140=\"\",\"\",B140+1)","v":""},"CAPTURA INCIDENTAL LIBERADA VIVA:"]
[null,67]
[null,"","CAPTURA INCIDENTAL LIBERADA VIVA:"]
[null,68]
[null,"","CAPTURA INCIDENTAL LIBERADA VIVA:"]
[null,69]
[null,"","CAPTURA INCIDENTAL LIBERADA VIVA:"]
[null,70]
[null,"","CAPTURA INCIDENTAL LIBERADA VIVA:"]
[null,71]
[null,"","CAPTURA INCIDENTAL LIBERADA VIVA:"]
[null,72]
[null,"","CAPTURA INCIDENTAL LIBERADA VIVA:"]
[null,73]
[null,"","CAPTURA INCIDENTAL LIBERADA VIVA:"]
[null,74]
[null,"","CAPTURA INCIDENTAL LIBERADA VIVA:"]
[null,75]
[null,"","CAPTURA INCIDENTAL LIBERADA VIVA:"]
[null,76]
[null,"","CAPTURA INCIDENTAL LIBERADA VIVA:"]
[null,77]
[null,"","CAPTURA INCIDENTAL LIBERADA VIVA:"]
[null,78]
[null,"","CAPTURA INCIDENTAL LIBERADA VIVA:"]
[null,79]
[null,"","CAPTURA INCIDENTAL LIBERADA VIVA:"]
[null,80]
[null,"","CAPTURA INCIDENTAL LIBERADA VIVA:"]
[null,81]
[null,"","CAPTURA INCIDENTAL LIBERADA VIVA:"]
[null,82]
[null,"","CAPTURA INCIDENTAL LIBERADA VIVA:"]
[null,83]
[null,"","CAPTURA INCIDENTAL LIBERADA VIVA:"]
[null,84]
[null,"","CAPTURA INCIDENTAL LIBERADA VIVA:"]
[null,85]
[null,"","CAPTURA INCIDENTAL LIBERADA VIVA:"]
[null,86]
[null,"","CAPTURA INCIDENTAL LIBERADA VIVA:"]
[null,87]
[null,"","CAPTURA INCIDENTAL LIBERADA VIVA:"]
[null,88]
[null,"","CAPTURA INCIDENTAL LIBERADA VIVA:"]
[null,89]
[null,"","CAPTURA INCIDENTAL LIBERADA VIVA:"]
[null,90]
[null,"","CAPTURA INCIDENTAL LIBERADA VIVA:"]
[null,91]
[null,"","CAPTURA INCIDENTAL LIBERADA VIVA:"]
[null,92]
[null,"","CAPTURA INCIDENTAL LIBERADA VIVA:"]
[null,93]
[null,"","CAPTURA INCIDENTAL LIBERADA VIVA:"]
[null,94]
[null,"","CAPTURA INCIDENTAL LIBERADA VIVA:"]
[null,95]
[null,"","CAPTURA INCIDENTAL LIBERADA VIVA:"]
[null,96]
[null,"","CAPTURA INCIDENTAL LIBERADA VIVA:"]
[null,97]
[null,"","CAPTURA INCIDENTAL LIBERADA VIVA:"]
[null,98]
[null,{"$f":"IF(B204=\"\",\"\",B204+1)","v":""},"CAPTURA INCIDENTAL LIBERADA VIVA:"]
[null,99]
[null,"","CAPTURA INCIDENTAL LIBERADA VIVA:"]
[null,100]
[null,"","CAPTURA INCIDENTAL LIBERADA VIVA:"]
[null,101]
[null,"","CAPTURA INCIDENTAL LIBERADA VIVA:"]
[null,102]
[null,"","CAPTURA INCIDENTAL LIBERADA VIVA:"]
[null,103]
[null,"","CAPTURA INCIDENTAL LIBERADA VIVA:"]
[null,104]
[null,"","CAPTURA INCIDENTAL LIBERADA VIVA:"]
[null,105]
[null,"","CAPTURA INCIDENTAL LIBERADA VIVA:"]
[null,106]
[null,"","CAPTURA INCIDENTAL LIBERADA VIVA:"]
[null,107]
[null,"","CAPTURA INCIDENTAL LIBERADA VIVA:"]
[null,108]
[null,"","CAPTURA INCIDENTAL LIBERADA VIVA:"]
[null,109]
[null,"","CAPTURA INCIDENTAL LIBERADA VIVA:"]
[null,110]
[null,"","CAPTURA INCIDENTAL LIBERADA VIVA:"]
[null,111]
[null,"","CAPTURA INCIDENTAL LIBERADA VIVA:"]
[null,112]
[null,"","CAPTURA INCIDENTAL LIBERADA VIVA:"]
[null,113]
[null,"","CAPTURA INCIDENTAL LIBERADA VIVA:"]
[null,114]
[null,"","CAPTURA INCIDENTAL LIBERADA VIVA:"]
[null,115]
[null,"","CAPTURA INCIDENTAL LIBERADA VIVA:"]
[null,116]
[null,"","CAPTURA INCIDENTAL LIBERADA VIVA:"]
[null,117]
[null,"","CAPTURA INCIDENTAL LIBERADA VIVA:"]
[null,118]
[null,"","CAPTURA INCIDENTAL LIBERADA VIVA:"]
[null,119]
[null,"","CAPTURA INCIDENTAL LIBERADA VIVA:"]
[null,120]
[null,"","CAPTURA INCIDENTAL LIBERADA VIVA:"]
[null,121]
[null,"","CAPTURA INCIDENTAL LIBERADA VIVA:"]
[null,122]
[null,"","CAPTURA INCIDENTAL LIBERADA VIVA:"]
[null,123]
[null,"","CAPTURA INCIDENTAL LIBERADA VIVA:"]
[null,124]
[null,"","CAPTURA INCIDENTAL LIBERADA VIVA:"]
[null,125]
[null,"","CAPTURA INCIDENTAL LIBERADA VIVA:"]
[null,126]
[null,"","CAPTURA INCIDENTAL LIBERADA VIVA:"]
[null,127]
[null,"","CAPTURA INCIDENTAL LIBERADA VIVA:"]
[null,128]
[null,"","CAPTURA INCIDENTAL LIBERADA VIVA:"]
[null,129]
[null,"","CAPTURA INCIDENTAL LIBERADA VIVA:"]
[null,130]
[null,{"$f":"IF(B268=\"\",\"\",B268+1)","v":""},"CAPTURA INCIDENTAL LIBERADA VIVA:"]
[null,131]
[null,"","CAPTURA INCIDENTAL LIBERADA VIVA:"]
[null,132]
[null,"","CAPTURA INCIDENTAL LIBERADA VIVA:"]
[null,133]
[null,"","CAPTURA INCIDENTAL LIBERADA VIVA:"]
[null,134]
[null,"","CAPTURA INCIDENTAL LIBERADA VIVA:"]
[null,135]
[null,"","CAPTURA INCIDENTAL LIBERADA VIVA:"]
[null,136]
[null,"","CAPTURA INCIDENTAL LIBERADA VIVA:"]
[null,137]
[null,"","CAPTURA INCIDENTAL LIBERADA VIVA:"]
[null,138]
[null,"","CAPTURA INCIDENTAL LIBERADA VIVA:"]
[null,139]
[null,"","CAPTURA INCIDENTAL LIBERADA VIVA:"]
[null,140]
[null,"","CAPTURA INCIDENTAL LIBERADA VIVA:"]
[null,141]
[null,"","CAPTURA INCIDENTAL LIBERADA VIVA:"]
[null,142]
[null,"","CAPTURA INCIDENTAL LIBERADA VIVA:"]
[null,143]
[null,"","CAPTURA INCIDENTAL LIBERADA VIVA:"]
[null,144]
[null,"","CAPTURA INCIDENTAL LIBERADA VIVA:"]
[null,145]
[null,"","CAPTURA INCIDENTAL LIBERADA VIVA:"]
[null,146]
[null,"","CAPTURA INCIDENTAL LIBERADA VIVA:"]
[null,147]
[null,"","CAPTURA INCIDENTAL LIBERADA VIVA:"]
[null,148]
[null,"","CAPTURA INCIDENTAL LIBERADA VIVA:"]
[null,149]
[null,"","CAPTURA INCIDENTAL LIBERADA VIVA:"]
[null,150]
[null,"","CAPTURA INCIDENTAL LIBERADA VIVA:"]
[null,151]
[null,"","CAPTURA INCIDENTAL LIBERADA VIVA:"]
[null,152]
[null,"","CAPTURA INCIDENTAL LIBERADA VIVA:"]
[null,153]
[null,"","CAPTURA INCIDENTAL LIBERADA VIVA:"]
[null,154]
[null,"","CAPTURA INCIDENTAL LIBERADA VIVA:"]
[null,155]
[null,"","CAPTURA INCIDENTAL LIBERADA VIVA:"]
[null,156]
[null,"","CAPTURA INCIDENTAL LIBERADA VIVA:"]
[null,157]
[null,"","CAPTURA INCIDENTAL LIBERADA VIVA:"]
[null,158]
[null,"","CAPTURA INCIDENTAL LIBERADA VIVA:"]
[null,159]
[null,"","CAPTURA INCIDENTAL LIBERADA VIVA:"]
[null,160]
[null,"","CAPTURA INCIDENTAL LIBERADA VIVA:"]
[null,161]
[null,"","CAPTURA INCIDENTAL LIBERADA VIVA:"]
[null,162]
[null,{"$f":"IF(B332=\"\",\"\",B332+1)","v":""},"CAPTURA INCIDENTAL LIBERADA VIVA:"]
[null,163]
[null,"","CAPTURA INCIDENTAL LIBERADA VIVA:"]
[null,164]
[null,"","CAPTURA INCIDENTAL LIBERADA VIVA:"]
[null,165]
[null,"","CAPTURA INCIDENTAL LIBERADA VIVA:"]
[null,166]
[null,"","CAPTURA INCIDENTAL LIBERADA VIVA:"]
[null,167]
[null,"","CAPTURA INCIDENTAL LIBERADA VIVA:"]
[null,168]
[null,"","CAPTURA INCIDENTAL LIBERADA VIVA:"]
[null,169]
[null,"","CAPTURA INCIDENTAL LIBERADA VIVA:"]
[null,170]
[null,"","CAPTURA INCIDENTAL LIBERADA VIVA:"]
[null,171]
[null,"","CAPTURA INCIDENTAL LIBERADA VIVA:"]
[null,172]
[null,"","CAPTURA INCIDENTAL LIBERADA VIVA:"]
[null,173]
[null,"","CAPTURA INCIDENTAL LIBERADA VIVA:"]
[null,174]
[null,"","CAPTURA INCIDENTAL LIBERADA VIVA:"]
[null,175]
[null,"","CAPTURA INCIDENTAL LIBERADA VIVA:"]
[null,176]
[null,"","CAPTURA INCIDENTAL LIBERADA VIVA:"]
[null,177]
[null,"","CAPTURA INCIDENTAL LIBERADA VIVA:"]
[null,178]
[null,"","CAPTURA INCIDENTAL LIBERADA VIVA:"]
[null,179]
[null,"","CAPTURA INCIDENTAL LIBERADA VIVA:"]
[null,180]
[null,"","CAPTURA INCIDENTAL LIBERADA VIVA:"]
[null,181]
[null,"","CAPTURA INCIDENTAL LIBERADA VIVA:"]
[null,182]
[null,"","CAPTURA INCIDENTAL LIBERADA VIVA:"]
[null,183]
[null,"","CAPTURA INCIDENTAL LIBERADA VIVA:"]
[null,184]
[null,"","CAPTURA INCIDENTAL LIBERADA VIVA:"]
[null,185]
[null,"","CAPTURA INCIDENTAL LIBERADA VIVA:"]
[null,186]
[null,"","CAPTURA INCIDENTAL LIBERADA VIVA:"]
[null,187]
[null,"","CAPTURA INCIDENTAL LIBERADA VIVA:"]
[null,188]
[null,"","CAPTURA INCIDENTAL LIBERADA VIVA:"]
[null,189]
[null,"","CAPTURA INCIDENTAL LIBERADA VIVA:"]
[null,190]
[null,"","CAPTURA INCIDENTAL LIBERADA VIVA:"]
[null,191]
[null,"","CAPTURA INCIDENTAL LIBERADA VIVA:"]
[null,192]
[null,"","CAPTURA INCIDENTAL LIBERADA VIVA:"]
[null,193]
[null,"","CAPTURA INCIDENTAL LIBERADA VIVA:"]
[null,194]
[null,{"$f":"IF(B396=\"\",\"\",B396+1)","v":""},"CAPTURA INCIDENTAL LIBERADA VIVA:"]
[null,195]
[null,"","CAPTURA INCIDENTAL LIBERADA VIVA:"]
[null,196]
[null,"","CAPTURA INCIDENTAL LIBERADA VIVA:"]
[null,197]
[null,"","CAPTURA INCIDENTAL LIBERADA VIVA:"]
[null,198]
[null,"","CAPTURA INCIDENTAL LIBERADA VIVA:"]
[null,199]
[null,"","CAPTURA INCIDENTAL LIBERADA VIVA:"]
[null,200]
[null,"","CAPTURA INCIDENTAL LIBERADA VIVA:"]
[null,201]
[null,"","CAPTURA INCIDENTAL LIBERADA VIVA:"]
[null,202]
[null,"","CAPTURA INCIDENTAL LIBERADA VIVA:"]
[null,203]
[null,"","CAPTURA INCIDENTAL LIBERADA VIVA:"]
[null,204]
[null,"","CAPTURA INCIDENTAL LIBERADA VIVA:"]
[null,205]
[null,"","CAPTURA INCIDENTAL LIBERADA VIVA:"]
[null,206]
[null,"","CAPTURA INCIDENTAL LIBERADA VIVA:"]
[null,207]
[null,"","CAPTURA INCIDENTAL LIBERADA VIVA:"]
[null,208]
[null,"","CAPTURA INCIDENTAL LIBERADA VIVA:"]
[null,209]
[null,"","CAPTURA INCIDENTAL LIBERADA VIVA:"]
[null,210]
[null,"","CAPTURA INCIDENTAL LIBERADA VIVA:"]
[null,211]
[null,"","CAPTURA INCIDENTAL LIBERADA VIVA:"]
[null,212]
[null,"","CAPTURA INCIDENTAL LIBERADA VIVA:"]
[null,213]
[null,"","CAPTURA INCIDENTAL LIBERADA VIVA:"]
[null,214]
[null,"","CAPTURA INCIDENTAL LIBERADA VIVA:"]
[null,215]
[null,"","CAPTURA INCIDENTAL LIBERADA VIVA:"]
[null,216]
[null,"","CAPTURA INCIDENTAL LIBERADA VIVA:"]
[null,217]
[null,"","CAPTURA INCIDENTAL LIBERADA VIVA:"]
[null,218]
[null,"","CAPTURA INCIDENTAL LIBERADA VIVA:"]
[null,219]
[null,"","CAPTURA INCIDENTAL LIBERADA VIVA:"]
[null,220]
[null,"","CAPTURA INCIDENTAL LIBERADA VIVA:"]
[null,221]
[null,"","CAPTURA INCIDENTAL LIBERADA VIVA:"]
[null,222]
[null,"","CAPTURA INCIDENTAL LIBERADA VIVA:"]
[null,223]
[null,"","CAPTURA INCIDENTAL LIBERADA VIVA:"]
[null,224]
[null,"","CAPTURA INCIDENTAL LIBERADA VIVA:"]
[null,225]
[null,"","CAPTURA INCIDENTAL LIBERADA VIVA:"]
[null,226]
[null,{"$f":"IF(B460=\"\",\"\",B460+1)","v":""},"CAPTURA INCIDENTAL LIBERADA VIVA:"]
[null,227]
[null,"","CAPTURA INCIDENTAL LIBERADA VIVA:"]
[null,228]
[null,"","CAPTURA INCIDENTAL LIBERADA VIVA:"]
[null,229]
[null,"","CAPTURA INCIDENTAL LIBERADA VIVA:"]
[null,230]
[null,"","CAPTURA INCIDENTAL LIBERADA VIVA:"]
[null,231]
[null,"","CAPTURA INCIDENTAL LIBERADA VIVA:"]
[null,232]
[null,"","CAPTURA INCIDENTAL LIBERADA VIVA:"]
[null,233]
[null,"","CAPTURA INCIDENTAL LIBERADA VIVA:"]
[null,234]
[null,"","CAPTURA INCIDENTAL LIBERADA VIVA:"]
[null,235]
[null,"","CAPTURA INCIDENTAL LIBERADA VIVA:"]
[null,236]
[null,"","CAPTURA INCIDENTAL LIBERADA VIVA:"]
[null,237]
[null,"","CAPTURA INCIDENTAL LIBERADA VIVA:"]
[null,238]
[null,"","CAPTURA INCIDENTAL LIBERADA VIVA:"]
[null,239]
[null,"","CAPTURA INCIDENTAL LIBERADA VIVA:"]
[null,240]
[null,"","CAPTURA INCIDENTAL LIBERADA VIVA:"]
[null,241]
[null,"","CAPTURA INCIDENTAL LIBERADA VIVA:"]
[null,242]
[null,"","CAPTURA INCIDENTAL LIBERADA VIVA:"]
[null,243]
[null,"","CAPTURA INCIDENTAL LIBERADA VIVA:"]
[null,244]
[null,"","CAPTURA INCIDENTAL LIBERADA VIVA:"]
[null,245]
[null,"","CAPTURA INCIDENTAL LIBERADA VIVA:"]
[null,246]
[null,"","CAPTURA INCIDENTAL LIBERADA VIVA:"]
[null,247]
[null,"","CAPTURA INCIDENTAL LIBERADA VIVA:"]
[null,248]
[null,"","CAPTURA INCIDENTAL LIBERADA VIVA:"]
[null,249]
[null,"","CAPTURA INCIDENTAL LIBERADA VIVA:"]
[null,250]
[null,"","CAPTURA INCIDENTAL LIBERADA VIVA:"]
[null,251]
[null,"","CAPTURA INCIDENTAL LIBERADA VIVA:"]
[null,252]
[null,"","CAPTURA INCIDENTAL LIBERADA VIVA:"]
[null,253]
[null,"","CAPTURA INCIDENTAL LIBERADA VIVA:"]
[null,254]
[null,"","CAPTURA INCIDENTAL LIBERADA VIVA:"]
[null,255]
[null,"","CAPTURA INCIDENTAL LIBERADA VIVA:"]
[null,256]
[null,"","CAPTURA INCIDENTAL LIBERADA VIVA:"]
[null,257]
[null,"","CAPTURA INCIDENTAL LIBERADA VIVA:"]
[null,258]
[null,{"$f":"IF(B524=\"\",\"\",B524+1)","v":""},"CAPTURA INCIDENTAL LIBERADA VIVA:"]
[null,259]
[null,"","CAPTURA INCIDENTAL LIBERADA VIVA:"]
[null,260]
[null,"","CAPTURA INCIDENTAL LIBERADA VIVA:"]
[null,261]
[null,"","CAPTURA INCIDENTAL LIBERADA VIVA:"]
[null,262]
[null,"","CAPTURA INCIDENTAL LIBERADA VIVA:"]
[null,263]
[null,"","CAPTURA INCIDENTAL LIBERADA VIVA:"]
[null,264]
[null,"","CAPTURA INCIDENTAL LIBERADA VIVA:"]
[null,265]
[null,"","CAPTURA INCIDENTAL LIBERADA VIVA:"]
[null,266]
[null,"","CAPTURA INCIDENTAL LIBERADA VIVA:"]
[null,267]
[null,"","CAPTURA INCIDENTAL LIBERADA VIVA:"]
[null,268]
[null,"","CAPTURA INCIDENTAL LIBERADA VIVA:"]
[null,269]
[null,"","CAPTURA INCIDENTAL LIBERADA VIVA:"]
[null,270]
[null,"","CAPTURA INCIDENTAL LIBERADA VIVA:"]
[null,271]
[null,"","CAPTURA INCIDENTAL LIBERADA VIVA:"]
[null,272]
[null,"","CAPTURA INCIDENTAL LIBERADA VIVA:"]
[null,273]
[null,"","CAPTURA INCIDENTAL LIBERADA VIVA:"]
[null,274]
[null,"","CAPTURA INCIDENTAL LIBERADA VIVA:"]
[null,275]
[null,"","CAPTURA INCIDENTAL LIBERADA VIVA:"]
[null,276]
[null,"","CAPTURA INCIDENTAL LIBERADA VIVA:"]
[null,277]
[null,"","CAPTURA INCIDENTAL LIBERADA VIVA:"]
[null,278]
[null,"","CAPTURA INCIDENTAL LIBERADA VIVA:"]
[null,279]
[null,"","CAPTURA INCIDENTAL LIBERADA VIVA:"]
[null,280]
[null,"","CAPTURA INCIDENTAL LIBERADA VIVA:"]
[null,281]
[null,"","CAPTURA INCIDENTAL LIBERADA VIVA:"]
[null,282]
[null,"","CAPTURA INCIDENTAL LIBERADA VIVA:"]
[null,283]
[null,"","CAPTURA INCIDENTAL LIBERADA VIVA:"]
[null,284]
[null,"","CAPTURA INCIDENTAL LIBERADA VIVA:"]
[null,285]
[null,"","CAPTURA INCIDENTAL LIBERADA VIVA:"]
[null,286]
[null,"","CAPTURA INCIDENTAL LIBERADA VIVA:"]
[null,287]
[null,"","CAPTURA INCIDENTAL LIBERADA VIVA:"]
[null,288]
[null,"","CAPTURA INCIDENTAL LIBERADA VIVA:"]
[null,289]
[null,"","CAPTURA INCIDENTAL LIBERADA VIVA:"]
[null,290]
[null,{"$f":"IF(B588=\"\",\"\",B588+1)","v":""},"CAPTURA INCIDENTAL LIBERADA VIVA:"]
[null,291]
[null,"","CAPTURA INCIDENTAL LIBERADA VIVA:"]
[null,292]
[null,"","CAPTURA INCIDENTAL LIBERADA VIVA:"]
[null,293]
[null,"","CAPTURA INCIDENTAL LIBERADA VIVA:"]
[null,294]
[null,"","CAPTURA INCIDENTAL LIBERADA VIVA:"]
[null,295]
[null,"","CAPTURA INCIDENTAL LIBERADA VIVA:"]
[null,296]
[null,"","CAPTURA INCIDENTAL LIBERADA VIVA:"]
[null,297]
[null,"","CAPTURA INCIDENTAL LIBERADA VIVA:"]
[null,298]
[null,"","CAPTURA INCIDENTAL LIBERADA VIVA:"]
[null,299]
[null,"","CAPTURA INCIDENTAL LIBERADA VIVA:"]
[null,300]
[null,"","CAPTURA INCIDENTAL LIBERADA VIVA:"]
[null,301]
[null,"","CAPTURA INCIDENTAL LIBERADA VIVA:"]
[null,302]
[null,"","CAPTURA INCIDENTAL LIBERADA VIVA:"]
[null,303]
[null,"","CAPTURA INCIDENTAL LIBERADA VIVA:"]
[null,304]
[null,"","CAPTURA INCIDENTAL LIBERADA VIVA:"]
[null,305]
[null,"","CAPTURA INCIDENTAL LIBERADA VIVA:"]
[null,306]
[null,"","CAPTURA INCIDENTAL LIBERADA VIVA:"]
[null,307]
[null,"","CAPTURA INCIDENTAL LIBERADA VIVA:"]
[null,308]
[null,"","CAPTURA INCIDENTAL LIBERADA VIVA:"]
[null,309]
[null,"","CAPTURA INCIDENTAL LIBERADA VIVA:"]
[null,310]
[null,"","CAPTURA INCIDENTAL LIBERADA VIVA:"]
[null,311]
[null,"","CAPTURA INCIDENTAL LIBERADA VIVA:"]
[null,312]
[null,"","CAPTURA INCIDENTAL LIBERADA VIVA:"]
[null,313]
[null,"","CAPTURA INCIDENTAL LIBERADA VIVA:"]
[null,314]
[null,"","CAPTURA INCIDENTAL LIBERADA VIVA:"]
[null,315]
[null,"","CAPTURA INCIDENTAL LIBERADA VIVA:"]
[null,316]
[null,"","CAPTURA INCIDENTAL LIBERADA VIVA:"]
[null,317]
[null,"","CAPTURA INCIDENTAL LIBERADA VIVA:"]
[null,318]
[null,"","CAPTURA INCIDENTAL LIBERADA VIVA:"]
[null,319]
[null,"","CAPTURA INCIDENTAL LIBERADA VIVA:"]
[null,320]
[null,"","CAPTURA INCIDENTAL LIBERADA VIVA:"]
[null,321]
[null,"","CAPTURA INCIDENTAL LIBERADA VIVA:"]
[null,322]
[null,{"$f":"IF(B652=\"\",\"\",B652+1)","v":""},"CAPTURA INCIDENTAL LIBERADA VIVA:"]
[null,323]
[null,"","CAPTURA INCIDENTAL LIBERADA VIVA:"]
[null,324]
[null,"","CAPTURA INCIDENTAL LIBERADA VIVA:"]
[null,325]
[null,"","CAPTURA INCIDENTAL LIBERADA VIVA:"]
[null,326]
[null,"","CAPTURA INCIDENTAL LIBERADA VIVA:"]
[null,327]
[null,"","CAPTURA INCIDENTAL LIBERADA VIVA:"]
[null,328]
[null,"","CAPTURA INCIDENTAL LIBERADA VIVA:"]
[null,329]
[null,"","CAPTURA INCIDENTAL LIBERADA VIVA:"]
[null,330]
[null,"","CAPTURA INCIDENTAL LIBERADA VIVA:"]
[null,331]
[null,"","CAPTURA INCIDENTAL LIBERADA VIVA:"]
[null,332]
[null,"","CAPTURA INCIDENTAL LIBERADA VIVA:"]
[null,333]
[null,"","CAPTURA INCIDENTAL LIBERADA VIVA:"]
[null,334]
[null,"","CAPTURA INCIDENTAL LIBERADA VIVA:"]
[null,335]
[null,"","CAPTURA INCIDENTAL LIBERADA VIVA:"]
[null,336]
[null,"","CAPTURA INCIDENTAL LIBERADA VIVA:"]
[null,337]
[null,"","CAPTURA INCIDENTAL LIBERADA VIVA:"]
[null,338]
[null,"","CAPTURA INCIDENTAL LIBERADA VIVA:"]
[null,339]
[null,"","CAPTURA INCIDENTAL LIBERADA VIVA:"]
[null,340]
[null,"","CAPTURA INCIDENTAL LIBERADA VIVA:"]
[null,341]
[null,"","CAPTURA INCIDENTAL LIBERADA VIVA:"]
[null,342]
[null,"","CAPTURA INCIDENTAL LIBERADA VIVA:"]
[null,343]
[null,"","CAPTURA INCIDENTAL LIBERADA VIVA:"]
[null,344]
[null,"","CAPTURA INCIDENTAL LIBERADA VIVA:"]
[null,345]
[null,"","CAPTURA INCIDENTAL LIBERADA VIVA:"]
[null,346]
[null,"","CAPTURA INCIDENTAL LIBERADA VIVA:"]
[null,347]
[null,"","CAPTURA INCIDENTAL LIBERADA VIVA:"]
[null,348]
[null,"","CAPTURA INCIDENTAL LIBERADA VIVA:"]
[null,349]
[null,"","CAPTURA INCIDENTAL LIBERADA VIVA:"]
[null,350]
[null,"","CAPTURA INCIDENTAL LIBERADA VIVA:"]
[null,351]
[null,"","CAPTURA INCIDENTAL LIBERADA VIVA:"]
[null,352]
[null,"","CAPTURA INCIDENTAL LIBERADA VIVA:"]
[null,353]
[null,"","CAPTURA INCIDENTAL LIBERADA VIVA:"]
[null,354]
[null,{"$f":"IF(B716=\"\",\"\",B716+1)","v":""},"CAPTURA INCIDENTAL LIBERADA VIVA:"]
[null,355]
[null,"","CAPTURA INCIDENTAL LIBERADA VIVA:"]
[null,356]
[null,"","CAPTURA INCIDENTAL LIBERADA VIVA:"]
[null,357]
[null,"","CAPTURA INCIDENTAL LIBERADA VIVA:"]
[null,358]
[null,"","CAPTURA INCIDENTAL LIBERADA VIVA:"]
[null,359]
[null,"","CAPTURA INCIDENTAL LIBERADA VIVA:"]
[null,360]
[null,"","CAPTURA INCIDENTAL LIBERADA VIVA:"]
[null,361]
[null,"","CAPTURA INCIDENTAL LIBERADA VIVA:"]
[null,362]
[null,"","CAPTURA INCIDENTAL LIBERADA VIVA:"]
[null,363]
[null,"","CAPTURA INCIDENTAL LIBERADA VIVA:"]
[null,364]
[null,"","CAPTURA INCIDENTAL LIBERADA VIVA:"]
[null,365]
[null,"","CAPTURA INCIDENTAL LIBERADA VIVA:"]
[null,366]
[null,"","CAPTURA INCIDENTAL LIBERADA VIVA:"]
[null,367]
[null,"","CAPTURA INCIDENTAL LIBERADA VIVA:"]
[null,368]
[null,"","CAPTURA INCIDENTAL LIBERADA VIVA:"]
[null,369]
[null,"","CAPTURA INCIDENTAL LIBERADA VIVA:"]
[null,370]
[null,"","CAPTURA INCIDENTAL LIBERADA VIVA:"]
[null,371]
[null,"","CAPTURA INCIDENTAL LIBERADA VIVA:"]
[null,372]
[null,"","CAPTURA INCIDENTAL LIBERADA VIVA:"]
[null,373]
[null,"","CAPTURA INCIDENTAL LIBERADA VIVA:"]
[null,374]
[null,"","CAPTURA INCIDENTAL LIBERADA VIVA:"]
[null,375]
[null,"","CAPTURA INCIDENTAL LIBERADA VIVA:"]
[null,376]
[null,"","CAPTURA INCIDENTAL LIBERADA VIVA:"]
[null,377]
[null,"","CAPTURA INCIDENTAL LIBERADA VIVA:"]
[null,378]
[null,"","CAPTURA INCIDENTAL LIBERADA VIVA:"]
[null,379]
[null,"","CAPTURA INCIDENTAL LIBERADA VIVA:"]
[null,380]
[null,"","CAPTURA INCIDENTAL LIBERADA VIVA:"]
[null,381]
[null,"","CAPTURA INCIDENTAL LIBERADA VIVA:"]
[null,382]
[null,"","CAPTURA INCIDENTAL LIBERADA VIVA:"]
[null,383]
[null,"","CAPTURA INCIDENTAL LIBERADA VIVA:"]
[null,384]
[null,"","CAPTURA INCIDENTAL LIBERADA VIVA:"]
[null,385]
[null,"","CAPTURA INCIDENTAL LIBERADA VIVA:"]
[null,386]
[null,{"$f":"IF(B780=\"\",\"\",B780+1)","v":""},"CAPTURA INCIDENTAL LIBERADA VIVA:"]
[null,387]
[null,"","CAPTURA INCIDENTAL LIBERADA VIVA:"]
[null,388]
[null,"","CAPTURA INCIDENTAL LIBERADA VIVA:"]
[null,389]
[null,"","CAPTURA INCIDENTAL LIBERADA VIVA:"]
[null,390]
[null,"","CAPTURA INCIDENTAL LIBERADA VIVA:"]
[null,391]
[null,"","CAPTURA INCIDENTAL LIBERADA VIVA:"]
[null,392]
[null,"","CAPTURA INCIDENTAL LIBERADA VIVA:"]
[null,393]
[null,"","CAPTURA INCIDENTAL LIBERADA VIVA:"]
[null,394]
[null,"","CAPTURA INCIDENTAL LIBERADA VIVA:"]
[null,395]
[null,"","CAPTURA INCIDENTAL LIBERADA VIVA:"]
[null,396]
[null,"","CAPTURA INCIDENTAL LIBERADA VIVA:"]
[null,397]
[null,"","CAPTURA INCIDENTAL LIBERADA VIVA:"]
[null,398]
[null,"","CAPTURA INCIDENTAL LIBERADA VIVA:"]
[null,399]
[null,"","CAPTURA INCIDENTAL LIBERADA VIVA:"]
[null,400]
[null,"","CAPTURA INCIDENTAL LIBERADA VIVA:"]
[null,401]
[null,"","CAPTURA INCIDENTAL LIBERADA VIVA:"]
[null,402]
[null,"","CAPTURA INCIDENTAL LIBERADA VIVA:"]
[null,403]
[null,"","CAPTURA INCIDENTAL LIBERADA VIVA:"]
[null,404]
[null,"","CAPTURA INCIDENTAL LIBERADA VIVA:"]
[null,405]
[null,"","CAPTURA INCIDENTAL LIBERADA VIVA:"]
[null,406]
[null,"","CAPTURA INCIDENTAL LIBERADA VIVA:"]
[null,407]
[null,"","CAPTURA INCIDENTAL LIBERADA VIVA:"]
[null,408]
[null,"","CAPTURA INCIDENTAL LIBERADA VIVA:"]
[null,409]
[null,"","CAPTURA INCIDENTAL LIBERADA VIVA:"]
[null,410]
[null,"","CAPTURA INCIDENTAL LIBERADA VIVA:"]
[null,411]
[null,"","CAPTURA INCIDENTAL LIBERADA VIVA:"]
[null,412]
[null,"","CAPTURA INCIDENTAL LIBERADA VIVA:"]
[null,413]
[null,"","CAPTURA INCIDENTAL LIBERADA VIVA:"]
[null,414]
[null,"","CAPTURA INCIDENTAL LIBERADA VIVA:"]
[null,415]
[null,"","CAPTURA INCIDENTAL LIBERADA VIVA:"]
[null,416]
[null,"","CAPTURA INCIDENTAL LIBERADA VIVA:"]
[null,417]
[null,"","CAPTURA INCIDENTAL LIBERADA VIVA:"]
[null,418]
[null,{"$f":"IF(B844=\"\",\"\",B844+1)","v":""},"CAPTURA INCIDENTAL LIBERADA VIVA:"]
[null,419]
[null,"","CAPTURA INCIDENTAL LIBERADA VIVA:"]
[null,420]
[null,"","CAPTURA INCIDENTAL LIBERADA VIVA:"]
[null,421]
[null,"","CAPTURA INCIDENTAL LIBERADA VIVA:"]
[null,422]
[null,"","CAPTURA INCIDENTAL LIBERADA VIVA:"]
[null,423]
[null,"","CAPTURA INCIDENTAL LIBERADA VIVA:"]
[null,424]
[null,"","CAPTURA INCIDENTAL LIBERADA VIVA:"]
[null,425]
[null,"","CAPTURA INCIDENTAL LIBERADA VIVA:"]
[null,426]
[null,"","CAPTURA INCIDENTAL LIBERADA VIVA:"]
[null,427]
[null,"","CAPTURA INCIDENTAL LIBERADA VIVA:"]
[null,428]
[null,"","CAPTURA INCIDENTAL LIBERADA VIVA:"]
[null,429]
[null,"","CAPTURA INCIDENTAL LIBERADA VIVA:"]
[null,430]
[null,"","CAPTURA INCIDENTAL LIBERADA VIVA:"]
[null,431]
[null,"","CAPTURA INCIDENTAL LIBERADA VIVA:"]
[null,432]
[null,"","CAPTURA INCIDENTAL LIBERADA VIVA:"]
[null,433]
[null,"","CAPTURA INCIDENTAL LIBERADA VIVA:"]
[null,434]
[null,"","CAPTURA INCIDENTAL LIBERADA VIVA:"]
[null,435]
[null,"","CAPTURA INCIDENTAL LIBERADA VIVA:"]
[null,436]
[null,"","CAPTURA INCIDENTAL LIBERADA VIVA:"]
[null,437]
[null,"","CAPTURA INCIDENTAL LIBERADA VIVA:"]
[null,438]
[null,"","CAPTURA INCIDENTAL LIBERADA VIVA:"]
[null,439]
[null,"","CAPTURA INCIDENTAL LIBERADA VIVA:"]
[null,440]
[null,"","CAPTURA INCIDENTAL LIBERADA VIVA:"]
[null,441]
[null,"","CAPTURA INCIDENTAL LIBERADA VIVA:"]
[null,442]
[null,"","CAPTURA INCIDENTAL LIBERADA VIVA:"]
[null,443]
[null,"","CAPTURA INCIDENTAL LIBERADA VIVA:"]
[null,444]
[null,"","CAPTURA INCIDENTAL LIBERADA VIVA:"]
[null,445]
[null,"","CAPTURA INCIDENTAL LIBERADA VIVA:"]
[null,446]
[null,"","CAPTURA INCIDENTAL LIBERADA VIVA:"]
[null,447]
[null,"","CAPTURA INCIDENTAL LIBERADA VIVA:"]
[null,448]
[null,"","CAPTURA INCIDENTAL LIBERADA VIVA:"]
[null,449]
[null,"","CAPTURA INCIDENTAL LIBERADA VIVA:"]
[null,450]
[null,{"$f":"IF(B908=\"\",\"\",B908+1)","v":""},"CAPTURA INCIDENTAL LIBERADA VIVA:"]
[null,451]
[null,"","CAPTURA INCIDENTAL LIBERADA VIVA:"]
[null,452]
[null,"","CAPTURA INCIDENTAL LIBERADA VIVA:"]
[null,453]
[null,"","CAPTURA INCIDENTAL LIBERADA VIVA:"]
[null,454]
[null,"","CAPTURA INCIDENTAL LIBERADA VIVA:"]
[null,455]
[null,"","CAPTURA INCIDENTAL LIBERADA VIVA:"]
[null,456]
[null,"","CAPTURA INCIDENTAL LIBERADA VIVA:"]
[null,457]
[null,"","CAPTURA INCIDENTAL LIBERADA VIVA:"]
[null,458]
[null,"","CAPTURA INCIDENTAL LIBERADA VIVA:"]
[null,459]
[null,"","CAPTURA INCIDENTAL LIBERADA VIVA:"]
[null,460]
[null,"","CAPTURA INCIDENTAL LIBERADA VIVA:"]
[null,461]
[null,"","CAPTURA INCIDENTAL LIBERADA VIVA:"]
[null,462]
[null,"","CAPTURA INCIDENTAL LIBERADA VIVA:"]
[null,463]
[null,"","CAPTURA INCIDENTAL LIBERADA VIVA:"]
[null,464]
[null,"","CAPTURA INCIDENTAL LIBERADA VIVA:"]
[null,465]
[null,"","CAPTURA INCIDENTAL LIBERADA VIVA:"]
[null,466]
[null,"","CAPTURA INCIDENTAL LIBERADA VIVA:"]
[null,467]
[null,"","CAPTURA INCIDENTAL LIBERADA VIVA:"]
[null,468]
[null,"","CAPTURA INCIDENTAL LIBERADA VIVA:"]
[null,469]
[null,"","CAPTURA INCIDENTAL LIBERADA VIVA:"]
[null,470]
[null,"","CAPTURA INCIDENTAL LIBERADA VIVA:"]
[null,471]
[null,"","CAPTURA INCIDENTAL LIBERADA VIVA:"]
[null,472]
[null,"","CAPTURA INCIDENTAL LIBERADA VIVA:"]
[null,473]
[null,"","CAPTURA INCIDENTAL LIBERADA VIVA:"]
[null,474]
[null,"","CAPTURA INCIDENTAL LIBERADA VIVA:"]
[null,475]
[null,"","CAPTURA INCIDENTAL LIBERADA VIVA:"]
[null,476]
[null,"","CAPTURA INCIDENTAL LIBERADA VIVA:"]
[null,477]
[null,"","CAPTURA INCIDENTAL LIBERADA VIVA:"]
[null,478]
[null,"","CAPTURA INCIDENTAL LIBERADA VIVA:"]
[null,479]
[null,"","CAPTURA INCIDENTAL LIBERADA VIVA:"]
[null,480]
[null,"","CAPTURA INCIDENTAL LIBERADA VIVA:"]
[null,481]
[null,"","CAPTURA INCIDENTAL LIBERADA VIVA:"]
[null,482]
[null,{"$f":"IF(B972=\"\",\"\",B972+1)","v":""},"CAPTURA INCIDENTAL LIBERADA VIVA:"]
[null,483]
[null,"","CAPTURA INCIDENTAL LIBERADA VIVA:"]
[null,484]
[null,"","CAPTURA INCIDENTAL LIBERADA VIVA:"]
[null,485]
[null,"","CAPTURA INCIDENTAL LIBERADA VIVA:"]
[null,486]
[null,"","CAPTURA INCIDENTAL LIBERADA VIVA:"]
[null,487]
[null,"","CAPTURA INCIDENTAL LIBERADA VIVA:"]
[null,488]
[null,"","CAPTURA INCIDENTAL LIBERADA VIVA:"]
[null,489]
[null,"","CAPTURA INCIDENTAL LIBERADA VIVA:"]
[null,490]
[null,"","CAPTURA INCIDENTAL LIBERADA VIVA:"]
[null,491]
[null,"","CAPTURA INCIDENTAL LIBERADA VIVA:"]
[null,492]
[null,"","CAPTURA INCIDENTAL LIBERADA VIVA:"]
[null,493]
[null,"","CAPTURA INCIDENTAL LIBERADA VIVA:"]
[null,494]
[null,"","CAPTURA INCIDENTAL LIBERADA VIVA:"]
[null,495]
[null,"","CAPTURA INCIDENTAL LIBERADA VIVA:"]
[null,496]
[null,"","CAPTURA INCIDENTAL LIBERADA VIVA:"]
[null,497]
[null,"","CAPTURA INCIDENTAL LIBERADA VIVA:"]
[null,498]
[null,"","CAPTURA INCIDENTAL LIBERADA VIVA:"]
[null,499]
[null,"","CAPTURA INCIDENTAL LIBERADA VIVA:"]
[null,500]
[null,"","CAPTURA INCIDENTAL LIBERADA VIVA:"]
[null,501]
[null,"","CAPTURA INCIDENTAL LIBERADA VIVA:"]
[null,502]
[null,"","CAPTURA INCIDENTAL LIBERADA VIVA:"]
[null,503]
[null,"","CAPTURA INCIDENTAL LIBERADA VIVA:"]
[null,504]
[null,"","CAPTURA INCIDENTAL LIBERADA VIVA:"]
[null,505]
[null,"","CAPTURA INCIDENTAL LIBERADA VIVA:"]
[null,506]
[null,"","CAPTURA INCIDENTAL LIBERADA VIVA:"]
[null,507]
[null,"","CAPTURA INCIDENTAL LIBERADA VIVA:"]
[null,508]
[null,"","CAPTURA INCIDENTAL LIBERADA VIVA:"]
[null,509]
[null,"","CAPTURA INCIDENTAL LIBERADA VIVA:"]
[null,510]
[null,"","CAPTURA INCIDENTAL LIBERADA VIVA:"]
[null,511]
[null,"","CAPTURA INCIDENTAL LIBERADA VIVA:"]
[null,512]
[null,"","CAPTURA INCIDENTAL LIBERADA VIVA:"]
[null,513]
[null,"","CAPTURA INCIDENTAL LIBERADA VIVA:"]
[null,514]
[null,{"$f":"IF(B1036=\"\",\"\",B1036+1)","v":""},"CAPTURA INCIDENTAL LIBERADA VIVA:"]
[null,515]
[null,"","CAPTURA INCIDENTAL LIBERADA VIVA:"]
[null,516]
[null,"","CAPTURA INCIDENTAL LIBERADA VIVA:"]
[null,517]
[null,"","CAPTURA INCIDENTAL LIBERADA VIVA:"]
[null,518]
[null,"","CAPTURA INCIDENTAL LIBERADA VIVA:"]
[null,519]
[null,"","CAPTURA INCIDENTAL LIBERADA VIVA:"]
[null,520]
[null,"","CAPTURA INCIDENTAL LIBERADA VIVA:"]
[null,521]
[null,"","CAPTURA INCIDENTAL LIBERADA VIVA:"]
[null,522]
[null,"","CAPTURA INCIDENTAL LIBERADA VIVA:"]
[null,523]
[null,"","CAPTURA INCIDENTAL LIBERADA VIVA:"]
[null,524]
[null,"","CAPTURA INCIDENTAL LIBERADA VIVA:"]
[null,525]
[null,"","CAPTURA INCIDENTAL LIBERADA VIVA:"]
[null,526]
[null,"","CAPTURA INCIDENTAL LIBERADA VIVA:"]
[null,527]
[null,"","CAPTURA INCIDENTAL LIBERADA VIVA:"]
[null,528]
[null,"","CAPTURA INCIDENTAL LIBERADA VIVA:"]
[null,529]
[null,"","CAPTURA INCIDENTAL LIBERADA VIVA:"]
[null,530]
[null,"","CAPTURA INCIDENTAL LIBERADA VIVA:"]
[null,531]
[null,"","CAPTURA INCIDENTAL LIBERADA VIVA:"]
[null,532]
[null,"","CAPTURA INCIDENTAL LIBERADA VIVA:"]
[null,533]
[null,"","CAPTURA INCIDENTAL LIBERADA VIVA:"]
[null,534]
[null,"","CAPTURA INCIDENTAL LIBERADA VIVA:"]
[null,535]
[null,"","CAPTURA INCIDENTAL LIBERADA VIVA:"]
[null,536]
[null,"","CAPTURA INCIDENTAL LIBERADA VIVA:"]
[null,537]
[null,"","CAPTURA INCIDENTAL LIBERADA VIVA:"]
[null,538]
[null,"","CAPTURA INCIDENTAL LIBERADA VIVA:"]
[null,539]
[null,"","CAPTURA INCIDENTAL LIBERADA VIVA:"]
[null,540]
[null,"","CAPTURA INCIDENTAL LIBERADA VIVA:"]
[null,541]
[null,"","CAPTURA INCIDENTAL LIBERADA VIVA:"]
[null,542]
[null,"","CAPTURA INCIDENTAL LIBERADA VIVA:"]
[null,543]
[null,"","CAPTURA INCIDENTAL LIBERADA VIVA:"]
[null,544]
[null,"","CAPTURA INCIDENTAL LIBERADA VIVA:"]
[null,545]
[null,"","CAPTURA INCIDENTAL LIBERADA VIVA:"]
[null,546]
[null,{"$f":"IF(B1100=\"\",\"\",B1100+1)","v":""},"CAPTURA INCIDENTAL LIBERADA VIVA:"]
[null,547]
[null,"","CAPTURA INCIDENTAL LIBERADA VIVA:"]
[null,548]
[null,"","CAPTURA INCIDENTAL LIBERADA VIVA:"]
[null,549]
[null,"","CAPTURA INCIDENTAL LIBERADA VIVA:"]
[null,550]
[null,"","CAPTURA INCIDENTAL LIBERADA VIVA:"]
[null,551]
[null,"","CAPTURA INCIDENTAL LIBERADA VIVA:"]
[null,552]
[null,"","CAPTURA INCIDENTAL LIBERADA VIVA:"]
[null,553]
[null,"","CAPTURA INCIDENTAL LIBERADA VIVA:"]
[null,554]
[null,"","CAPTURA INCIDENTAL LIBERADA VIVA:"]
[null,555]
[null,"","CAPTURA INCIDENTAL LIBERADA VIVA:"]
[null,556]
[null,"","CAPTURA INCIDENTAL LIBERADA VIVA:"]
[null,557]
[null,"","CAPTURA INCIDENTAL LIBERADA VIVA:"]
[null,558]
[null,"","CAPTURA INCIDENTAL LIBERADA VIVA:"]
[null,559]
[null,"","CAPTURA INCIDENTAL LIBERADA VIVA:"]
[null,560]
[null,"","CAPTURA INCIDENTAL LIBERADA VIVA:"]
[null,561]
[null,"","CAPTURA INCIDENTAL LIBERADA VIVA:"]
[null,562]
[null,"","CAPTURA INCIDENTAL LIBERADA VIVA:"]
[null,563]
[null,"","CAPTURA INCIDENTAL LIBERADA VIVA:"]
[null,564]
[null,"","CAPTURA INCIDENTAL LIBERADA VIVA:"]
[null,565]
[null,"","CAPTURA INCIDENTAL LIBERADA VIVA:"]
[null,566]
[null,"","CAPTURA INCIDENTAL LIBERADA VIVA:"]
[null,567]
[null,"","CAPTURA INCIDENTAL LIBERADA VIVA:"]
[null,568]
[null,"","CAPTURA INCIDENTAL LIBERADA VIVA:"]
[null,569]
[null,"","CAPTURA INCIDENTAL LIBERADA VIVA:"]
[null,570]
[null,"","CAPTURA INCIDENTAL LIBERADA VIVA:"]
[null,571]
[null,"","CAPTURA INCIDENTAL LIBERADA VIVA:"]
[null,572]
[null,"","CAPTURA INCIDENTAL LIBERADA VIVA:"]
[null,573]
[null,"","CAPTURA INCIDENTAL LIBERADA VIVA:"]
[null,574]
[null,"","CAPTURA INCIDENTAL LIBERADA VIVA:"]
[null,575]
[null,"","CAPTURA INCIDENTAL LIBERADA VIVA:"]
[null,576]
[null,"","CAPTURA INCIDENTAL LIBERADA VIVA:"]
[null,577]
[null,"","CAPTURA INCIDENTAL LIBERADA VIVA:"]
[null,578]
[null,{"$f":"IF(B1164=\"\",\"\",B1164+1)","v":""},"CAPTURA INCIDENTAL LIBERADA VIVA:"]
[null,579]
[null,"","CAPTURA INCIDENTAL LIBERADA VIVA:"]
[null,580]
[null,"","CAPTURA INCIDENTAL LIBERADA VIVA:"]
[null,581]
[null,"","CAPTURA INCIDENTAL LIBERADA VIVA:"]
[null,582]
[null,"","CAPTURA INCIDENTAL LIBERADA VIVA:"]
[null,583]
[null,"","CAPTURA INCIDENTAL LIBERADA VIVA:"]
[null,584]
[null,"","CAPTURA INCIDENTAL LIBERADA VIVA:"]
[null,585]
[null,"","CAPTURA INCIDENTAL LIBERADA VIVA:"]
[null,586]
[null,"","CAPTURA INCIDENTAL LIBERADA VIVA:"]
[null,587]
[null,"","CAPTURA INCIDENTAL LIBERADA VIVA:"]
[null,588]
[null,"","CAPTURA INCIDENTAL LIBERADA VIVA:"]
[null,589]
[null,"","CAPTURA INCIDENTAL LIBERADA VIVA:"]
[null,590]
[null,"","CAPTURA INCIDENTAL LIBERADA VIVA:"]
[null,591]
[null,"","CAPTURA INCIDENTAL LIBERADA VIVA:"]
[null,592]
[null,"","CAPTURA INCIDENTAL LIBERADA VIVA:"]
[null,593]
[null,"","CAPTURA INCIDENTAL LIBERADA VIVA:"]
[null,594]
[null,"","CAPTURA INCIDENTAL LIBERADA VIVA:"]
[null,595]
[null,"","CAPTURA INCIDENTAL LIBERADA VIVA:"]
[null,596]
[null,"","CAPTURA INCIDENTAL LIBERADA VIVA:"]
[null,597]
[null,"","CAPTURA INCIDENTAL LIBERADA VIVA:"]
[null,598]
[null,"","CAPTURA INCIDENTAL LIBERADA VIVA:"]
[null,599]
[null,"","CAPTURA INCIDENTAL LIBERADA VIVA:"]
[null,600]
[null,"","CAPTURA INCIDENTAL LIBERADA VIVA:"]
[null,601]
[null,"","CAPTURA INCIDENTAL LIBERADA VIVA:"]
[null,602]
[null,"","CAPTURA INCIDENTAL LIBERADA VIVA:"]
[null,603]
[null,"","CAPTURA INCIDENTAL LIBERADA VIVA:"]
[null,604]
[null,"","CAPTURA INCIDENTAL LIBERADA VIVA:"]
[null,605]
[null,"","CAPTURA INCIDENTAL LIBERADA VIVA:"]
[null,606]
[null,"","CAPTURA INCIDENTAL LIBERADA VIVA:"]
[null,607]
[null,"","CAPTURA INCIDENTAL LIBERADA VIVA:"]
[null,608]
[null,"","CAPTURA INCIDENTAL LIBERADA VIVA:"]
[null,609]
[null,"","CAPTURA INCIDENTAL LIBERADA VIVA:"]
[null,610]
[null,{"$f":"IF(B1228=\"\",\"\",B1228+1)","v":""},"CAPTURA INCIDENTAL LIBERADA VIVA:"]
[null,611]
[null,"","CAPTURA INCIDENTAL LIBERADA VIVA:"]
[null,612]
[null,"","CAPTURA INCIDENTAL LIBERADA VIVA:"]
[null,613]
[null,"","CAPTURA INCIDENTAL LIBERADA VIVA:"]
[null,614]
[null,"","CAPTURA INCIDENTAL LIBERADA VIVA:"]
[null,615]
[null,"","CAPTURA INCIDENTAL LIBERADA VIVA:"]
[null,616]
[null,"","CAPTURA INCIDENTAL LIBERADA VIVA:"]
[null,617]
[null,"","CAPTURA INCIDENTAL LIBERADA VIVA:"]
[null,618]
[null,"","CAPTURA INCIDENTAL LIBERADA VIVA:"]
[null,619]
[null,"","CAPTURA INCIDENTAL LIBERADA VIVA:"]
[null,620]
[null,"","CAPTURA INCIDENTAL LIBERADA VIVA:"]
[null,621]
[null,"","CAPTURA INCIDENTAL LIBERADA VIVA:"]
[null,622]
[null,"","CAPTURA INCIDENTAL LIBERADA VIVA:"]
[null,623]
[null,"","CAPTURA INCIDENTAL LIBERADA VIVA:"]
[null,624]
[null,"","CAPTURA INCIDENTAL LIBERADA VIVA:"]
[null,625]
[null,"","CAPTURA INCIDENTAL LIBERADA VIVA:"]
[null,626]
[null,"","CAPTURA INCIDENTAL LIBERADA VIVA:"]
[null,627]
[null,"","CAPTURA INCIDENTAL LIBERADA VIVA:"]
[null,628]
[null,"","CAPTURA INCIDENTAL LIBERADA VIVA:"]
[null,629]
[null,"","CAPTURA INCIDENTAL LIBERADA VIVA:"]
[null,630]
[null,"","CAPTURA INCIDENTAL LIBERADA VIVA:"]
[null,631]
[null,"","CAPTURA INCIDENTAL LIBERADA VIVA:"]
[null,632]
[null,"","CAPTURA INCIDENTAL LIBERADA VIVA:"]
[null,633]
[null,"","CAPTURA INCIDENTAL LIBERADA VIVA:"]
[null,634]
[null,"","CAPTURA INCIDENTAL LIBERADA VIVA:"]
[null,635]
[null,"","CAPTURA INCIDENTAL LIBERADA VIVA:"]
[null,636]
[null,"","CAPTURA INCIDENTAL LIBERADA VIVA:"]
[null,637]
[null,"","CAPTURA INCIDENTAL LIBERADA VIVA:"]
[null,638]
[null,"","CAPTURA INCIDENTAL LIBERADA VIVA:"]
[null,639]
[null,"","CAPTURA INCIDENTAL LIBERADA VIVA:"]
[null,640]
[null,"","CAPTURA INCIDENTAL LIBERADA VIVA:"]
[null,641]
[null,"","CAPTURA INCIDENTAL LIBERADA VIVA:"]
[null,642]
[null,{"$f":"IF(B1292=\"\",\"\",B1292+1)","v":""},"CAPTURA INCIDENTAL LIBERADA VIVA:"]
[null,643]
[null,"","CAPTURA INCIDENTAL LIBERADA VIVA:"]
[null,644]
[null,"","CAPTURA INCIDENTAL LIBERADA VIVA:"]
[null,645]
[null,"","CAPTURA INCIDENTAL LIBERADA VIVA:"]
[null,646]
[null,"","CAPTURA INCIDENTAL LIBERADA VIVA:"]
[null,647]
[null,"","CAPTURA INCIDENTAL LIBERADA VIVA:"]
[null,648]
[null,"","CAPTURA INCIDENTAL LIBERADA VIVA:"]
[null,649]
[null,"","CAPTURA INCIDENTAL LIBERADA VIVA:"]
[null,650]
[null,"","CAPTURA INCIDENTAL LIBERADA VIVA:"]
[null,651]
[null,"","CAPTURA INCIDENTAL LIBERADA VIVA:"]
[null,652]
[null,"","CAPTURA INCIDENTAL LIBERADA VIVA:"]
[null,653]
[null,"","CAPTURA INCIDENTAL LIBERADA VIVA:"]
[null,654]
[null,"","CAPTURA INCIDENTAL LIBERADA VIVA:"]
[null,655]
[null,"","CAPTURA INCIDENTAL LIBERADA VIVA:"]
[null,656]
[null,"","CAPTURA INCIDENTAL LIBERADA VIVA:"]
[null,657]
[null,"","CAPTURA INCIDENTAL LIBERADA VIVA:"]
[null,658]
[null,"","CAPTURA INCIDENTAL LIBERADA VIVA:"]
[null,659]
[null,"","CAPTURA INCIDENTAL LIBERADA VIVA:"]
[null,660]
[null,"","CAPTURA INCIDENTAL LIBERADA VIVA:"]
[null,661]
[null,"","CAPTURA INCIDENTAL LIBERADA VIVA:"]
[null,662]
[null,"","CAPTURA INCIDENTAL LIBERADA VIVA:"]
[null,663]
[null,"","CAPTURA INCIDENTAL LIBERADA VIVA:"]
[null,664]
[null,"","CAPTURA INCIDENTAL LIBERADA VIVA:"]
[null,665]
[null,"","CAPTURA INCIDENTAL LIBERADA VIVA:"]
[null,666]
[null,"","CAPTURA INCIDENTAL LIBERADA VIVA:"]
[null,667]
[null,"","CAPTURA INCIDENTAL LIBERADA VIVA:"]
[null,668]
[null,"","CAPTURA INCIDENTAL LIBERADA VIVA:"]
[null,669]
[null,"","CAPTURA INCIDENTAL LIBERADA VIVA:"]
[null,670]
[null,"","CAPTURA INCIDENTAL LIBERADA VIVA:"]
[null,671]
[null,"","CAPTURA INCIDENTAL LIBERADA VIVA:"]
[null,672]
[null,"","CAPTURA INCIDENTAL LIBERADA VIVA:"]
[null,673]
[null,"","CAPTURA INCIDENTAL LIBERADA VIVA:"]
[null,674]
[null,{"$f":"IF(B1356=\"\",\"\",B1356+1)","v":""},"CAPTURA INCIDENTAL LIBERADA VIVA:"]
[null,675]
[null,"","CAPTURA INCIDENTAL LIBERADA VIVA:"]
[null,676]
[null,"","CAPTURA INCIDENTAL LIBERADA VIVA:"]
[null,677]
[null,"","CAPTURA INCIDENTAL LIBERADA VIVA:"]
[null,678]
[null,"","CAPTURA INCIDENTAL LIBERADA VIVA:"]
[null,679]
[null,"","CAPTURA INCIDENTAL LIBERADA VIVA:"]
[null,680]
[null,"","CAPTURA INCIDENTAL LIBERADA VIVA:"]
[null,681]
[null,"","CAPTURA INCIDENTAL LIBERADA VIVA:"]
[null,682]
[null,"","CAPTURA INCIDENTAL LIBERADA VIVA:"]
[null,683]
[null,"","CAPTURA INCIDENTAL LIBERADA VIVA:"]
[null,684]
[null,"","CAPTURA INCIDENTAL LIBERADA VIVA:"]
[null,685]
[null,"","CAPTURA INCIDENTAL LIBERADA VIVA:"]
[null,686]
[null,"","CAPTURA INCIDENTAL LIBERADA VIVA:"]
[null,687]
[null,"","CAPTURA INCIDENTAL LIBERADA VIVA:"]
[null,688]
[null,"","CAPTURA INCIDENTAL LIBERADA VIVA:"]
[null,689]
[null,"","CAPTURA INCIDENTAL LIBERADA VIVA:"]
[null,690]
[null,"","CAPTURA INCIDENTAL LIBERADA VIVA:"]
[null,691]
[null,"","CAPTURA INCIDENTAL LIBERADA VIVA:"]
[null,692]
[null,"","CAPTURA INCIDENTAL LIBERADA VIVA:"]
[null,693]
[null,"","CAPTURA INCIDENTAL LIBERADA VIVA:"]
[null,694]
[null,"","CAPTURA INCIDENTAL LIBERADA VIVA:"]
[null,695]
[null,"","CAPTURA INCIDENTAL LIBERADA VIVA:"]
[null,696]
[null,"","CAPTURA INCIDENTAL LIBERADA VIVA:"]
[null,697]
[null,"","CAPTURA INCIDENTAL LIBERADA VIVA:"]
[null,698]
[null,"","CAPTURA INCIDENTAL LIBERADA VIVA:"]
[null,699]
[null,"","CAPTURA INCIDENTAL LIBERADA VIVA:"]
[null,700]
[null,"","CAPTURA INCIDENTAL LIBERADA VIVA:"]
[null,701]
[null,"","CAPTURA INCIDENTAL LIBERADA VIVA:"]
[null,702]
[null,"","CAPTURA INCIDENTAL LIBERADA VIVA:"]
[null,703]
[null,"","CAPTURA INCIDENTAL LIBERADA VIVA:"]
[null,704]
[null,"","CAPTURA INCIDENTAL LIBERADA VIVA:"]
[null,705]
[null,"","CAPTURA INCIDENTAL LIBERADA VIVA:"]
[null,706]
[null,{"$f":"IF(B1420=\"\",\"\",B1420+1)","v":""},"CAPTURA INCIDENTAL LIBERADA VIVA:"]
[null,707]
[null,"","CAPTURA INCIDENTAL LIBERADA VIVA:"]
[null,708]
[null,"","CAPTURA INCIDENTAL LIBERADA VIVA:"]
[null,709]
[null,"","CAPTURA INCIDENTAL LIBERADA VIVA:"]
[null,710]
[null,"","CAPTURA INCIDENTAL LIBERADA VIVA:"]
[null,711]
[null,"","CAPTURA INCIDENTAL LIBERADA VIVA:"]
[null,712]
[null,"","CAPTURA INCIDENTAL LIBERADA VIVA:"]
[null,713]
[null,"","CAPTURA INCIDENTAL LIBERADA VIVA:"]
[null,714]
[null,"","CAPTURA INCIDENTAL LIBERADA VIVA:"]
[null,715]
[null,"","CAPTURA INCIDENTAL LIBERADA VIVA:"]
[null,716]
[null,"","CAPTURA INCIDENTAL LIBERADA VIVA:"]
[null,717]
[null,"","CAPTURA INCIDENTAL LIBERADA VIVA:"]
[null,718]
[null,"","CAPTURA INCIDENTAL LIBERADA VIVA:"]
[null,719]
[null,"","CAPTURA INCIDENTAL LIBERADA VIVA:"]
[null,720]
[null,"","CAPTURA INCIDENTAL LIBERADA VIVA:"]
[null,721]
[null,"","CAPTURA INCIDENTAL LIBERADA VIVA:"]
[null,722]
[null,"","CAPTURA INCIDENTAL LIBERADA VIVA:"]
[null,723]
[null,"","CAPTURA INCIDENTAL LIBERADA VIVA:"]
[null,724]
[null,"","CAPTURA INCIDENTAL LIBERADA VIVA:"]
[null,725]
[null,"","CAPTURA INCIDENTAL LIBERADA VIVA:"]
[null,726]
[null,"","CAPTURA INCIDENTAL LIBERADA VIVA:"]
[null,727]
[null,"","CAPTURA INCIDENTAL LIBERADA VIVA:"]
[null,728]
[null,"","CAPTURA INCIDENTAL LIBERADA VIVA:"]
[null,729]
[null,"","CAPTURA INCIDENTAL LIBERADA VIVA:"]
[null,730]
[null,"","CAPTURA INCIDENTAL LIBERADA VIVA:"]
[null,731]
[null,"","CAPTURA INCIDENTAL LIBERADA VIVA:"]
[null,732]
[null,"","CAPTURA INCIDENTAL LIBERADA VIVA:"]
[null,733]
[null,"","CAPTURA INCIDENTAL LIBERADA VIVA:"]
[null,734]
[null,"","CAPTURA INCIDENTAL LIBERADA VIVA:"]
[null,735]
[null,"","CAPTURA INCIDENTAL LIBERADA VIVA:"]
[null,736]
[null,"","CAPTURA INCIDENTAL LIBERADA VIVA:"]
[null,737]
[null,"","CAPTURA INCIDENTAL LIBERADA VIVA:"]
[null,738]
[null,{"$f":"IF(B1484=\"\",\"\",B1484+1)","v":""},"CAPTURA INCIDENTAL LIBERADA VIVA:"]
[null,739]
[null,"","CAPTURA INCIDENTAL LIBERADA VIVA:"]
[null,740]
[null,"","CAPTURA INCIDENTAL LIBERADA VIVA:"]
[null,741]
[null,"","CAPTURA INCIDENTAL LIBERADA VIVA:"]
[null,742]
[null,"","CAPTURA INCIDENTAL LIBERADA VIVA:"]
[null,743]
[null,"","CAPTURA INCIDENTAL LIBERADA VIVA:"]
[null,744]
[null,"","CAPTURA INCIDENTAL LIBERADA VIVA:"]
[null,745]
[null,"","CAPTURA INCIDENTAL LIBERADA VIVA:"]
[null,746]
[null,"","CAPTURA INCIDENTAL LIBERADA VIVA:"]
[null,747]
[null,"","CAPTURA INCIDENTAL LIBERADA VIVA:"]
[null,748]
[null,"","CAPTURA INCIDENTAL LIBERADA VIVA:"]
[null,749]
[null,"","CAPTURA INCIDENTAL LIBERADA VIVA:"]
[null,750]
[null,"","CAPTURA INCIDENTAL LIBERADA VIVA:"]
[null,751]
[null,"","CAPTURA INCIDENTAL LIBERADA VIVA:"]
[null,752]
[null,"","CAPTURA INCIDENTAL LIBERADA VIVA:"]
[null,753]
[null,"","CAPTURA INCIDENTAL LIBERADA VIVA:"]
[null,754]
[null,"","CAPTURA INCIDENTAL LIBERADA VIVA:"]
[null,755]
[null,"","CAPTURA INCIDENTAL LIBERADA VIVA:"]
[null,756]
[null,"","CAPTURA INCIDENTAL LIBERADA VIVA:"]
[null,757]
[null,"","CAPTURA INCIDENTAL LIBERADA VIVA:"]
[null,758]
[null,"","CAPTURA INCIDENTAL LIBERADA VIVA:"]
[null,759]
[null,"","CAPTURA INCIDENTAL LIBERADA VIVA:"]
[null,760]
[null,"","CAPTURA INCIDENTAL LIBERADA VIVA:"]
[null,761]
[null,"","CAPTURA INCIDENTAL LIBERADA VIVA:"]
[null,762]
[null,"","CAPTURA INCIDENTAL LIBERADA VIVA:"]
[null,763]
[null,"","CAPTURA INCIDENTAL LIBERADA VIVA:"]
[null,764]
[null,"","CAPTURA INCIDENTAL LIBERADA VIVA:"]
[null,765]
[null,"","CAPTURA INCIDENTAL LIBERADA VIVA:"]
[null,766]
[null,"","CAPTURA INCIDENTAL LIBERADA VIVA:"]
[null,767]
[null,"","CAPTURA INCIDENTAL LIBERADA VIVA:"]
[null,768]
[null,"","CAPTURA INCIDENTAL LIBERADA VIVA:"]
[null,769]
[null,"","CAPTURA INCIDENTAL LIBERADA VIVA:"]
[null,770]
[null,{"$f":"IF(B1548=\"\",\"\",B1548+1)","v":""},"CAPTURA INCIDENTAL LIBERADA VIVA:"]
[null,771]
[null,"","CAPTURA INCIDENTAL LIBERADA VIVA:"]
[null,772]
[null,"","CAPTURA INCIDENTAL LIBERADA VIVA:"]
[null,773]
[null,"","CAPTURA INCIDENTAL LIBERADA VIVA:"]
[null,774]
[null,"","CAPTURA INCIDENTAL LIBERADA VIVA:"]
[null,775]
[null,"","CAPTURA INCIDENTAL LIBERADA VIVA:"]
[null,776]
[null,"","CAPTURA INCIDENTAL LIBERADA VIVA:"]
[null,777]
[null,"","CAPTURA INCIDENTAL LIBERADA VIVA:"]
[null,778]
[null,"","CAPTURA INCIDENTAL LIBERADA VIVA:"]
[null,779]
[null,"","CAPTURA INCIDENTAL LIBERADA VIVA:"]
[null,780]
[null,"","CAPTURA INCIDENTAL LIBERADA VIVA:"]
[null,781]
[null,"","CAPTURA INCIDENTAL LIBERADA VIVA:"]
[null,782]
[null,"","CAPTURA INCIDENTAL LIBERADA VIVA:"]
[null,783]
[null,"","CAPTURA INCIDENTAL LIBERADA VIVA:"]
[null,784]
[null,"","CAPTURA INCIDENTAL LIBERADA VIVA:"]
[null,785]
[null,"","CAPTURA INCIDENTAL LIBERADA VIVA:"]
[null,786]
[null,"","CAPTURA INCIDENTAL LIBERADA VIVA:"]
[null,787]
[null,"","CAPTURA INCIDENTAL LIBERADA VIVA:"]
[null,788]
[null,"","CAPTURA INCIDENTAL LIBERADA VIVA:"]
[null,789]
[null,"","CAPTURA INCIDENTAL LIBERADA VIVA:"]
[null,790]
[null,"","CAPTURA INCIDENTAL LIBERADA VIVA:"]
[null,791]
[null,"","CAPTURA INCIDENTAL LIBERADA VIVA:"]
[null,792]
[null,"","CAPTURA INCIDENTAL LIBERADA VIVA:"]
[null,793]
[null,"","CAPTURA INCIDENTAL LIBERADA VIVA:"]
[null,794]
[null,"","CAPTURA INCIDENTAL LIBERADA VIVA:"]
[null,795]
[null,"","CAPTURA INCIDENTAL LIBERADA VIVA:"]
[null,796]
[null,"","CAPTURA INCIDENTAL LIBERADA VIVA:"]
[null,797]
[null,"","CAPTURA INCIDENTAL LIBERADA VIVA:"]
[null,798]
[null,"","CAPTURA INCIDENTAL LIBERADA VIVA:"]
[null,799]
[null,"","CAPTURA INCIDENTAL LIBERADA VIVA:"]
[null,800]
[null,"","CAPTURA INCIDENTAL LIBERADA VIVA:"]
[null,801]
[null,"","CAPTURA INCIDENTAL LIBERADA VIVA:"]
[null,802]
[null,{"$f":"IF(B1612=\"\",\"\",B1612+1)","v":""},"CAPTURA INCIDENTAL LIBERADA VIVA:"]
[null,803]
[null,"","CAPTURA INCIDENTAL LIBERADA VIVA:"]
[null,804]
[null,"","CAPTURA INCIDENTAL LIBERADA VIVA:"]
[null,805]
[null,"","CAPTURA INCIDENTAL LIBERADA VIVA:"]
[null,806]
[null,"","CAPTURA INCIDENTAL LIBERADA VIVA:"]
[null,807]
[null,"","CAPTURA INCIDENTAL LIBERADA VIVA:"]
[null,808]
[null,"","CAPTURA INCIDENTAL LIBERADA VIVA:"]
[null,809]
[null,"","CAPTURA INCIDENTAL LIBERADA VIVA:"]
[null,810]
[null,"","CAPTURA INCIDENTAL LIBERADA VIVA:"]
[null,811]
[null,"","CAPTURA INCIDENTAL LIBERADA VIVA:"]
[null,812]
[null,"","CAPTURA INCIDENTAL LIBERADA VIVA:"]
[null,813]
[null,"","CAPTURA INCIDENTAL LIBERADA VIVA:"]
[null,814]
[null,"","CAPTURA INCIDENTAL LIBERADA VIVA:"]
[null,815]
[null,"","CAPTURA INCIDENTAL LIBERADA VIVA:"]
[null,816]
[null,"","CAPTURA INCIDENTAL LIBERADA VIVA:"]
[null,817]
[null,"","CAPTURA INCIDENTAL LIBERADA VIVA:"]
[null,818]
[null,"","CAPTURA INCIDENTAL LIBERADA VIVA:"]
[null,819]
[null,"","CAPTURA INCIDENTAL LIBERADA VIVA:"]
[null,820]
[null,"","CAPTURA INCIDENTAL LIBERADA VIVA:"]
[null,821]
[null,"","CAPTURA INCIDENTAL LIBERADA VIVA:"]
[null,822]
[null,"","CAPTURA INCIDENTAL LIBERADA VIVA:"]
[null,823]
[null,"","CAPTURA INCIDENTAL LIBERADA VIVA:"]
[null,824]
[null,"","CAPTURA INCIDENTAL LIBERADA VIVA:"]
[null,825]
[null,"","CAPTURA INCIDENTAL LIBERADA VIVA:"]
[null,826]
[null,"","CAPTURA INCIDENTAL LIBERADA VIVA:"]
[null,827]
[null,"","CAPTURA INCIDENTAL LIBERADA VIVA:"]
[null,828]
[null,"","CAPTURA INCIDENTAL LIBERADA VIVA:"]
[null,829]
[null,"","CAPTURA INCIDENTAL LIBERADA VIVA:"]
[null,830]
[null,"","CAPTURA INCIDENTAL LIBERADA VIVA:"]
[null,831]
[null,"","CAPTURA INCIDENTAL LIBERADA VIVA:"]
[null,832]
[null,"","CAPTURA INCIDENTAL LIBERADA VIVA:"]
[null,833]
[null,"","CAPTURA INCIDENTAL LIBERADA VIVA:"]
[null,834]
[null,{"$f":"IF(B1676=\"\",\"\",B1676+1)","v":""},"CAPTURA INCIDENTAL LIBERADA VIVA:"]
[null,835]
[null,"","CAPTURA INCIDENTAL LIBERADA VIVA:"]
[null,836]
[null,"","CAPTURA INCIDENTAL LIBERADA VIVA:"]
[null,837]
[null,"","CAPTURA INCIDENTAL LIBERADA VIVA:"]
[null,838]
[null,"","CAPTURA INCIDENTAL LIBERADA VIVA:"]
[null,839]
[null,"","CAPTURA INCIDENTAL LIBERADA VIVA:"]
[null,840]
[null,"","CAPTURA INCIDENTAL LIBERADA VIVA:"]
[null,841]
[null,"","CAPTURA INCIDENTAL LIBERADA VIVA:"]
[null,842]
[null,"","CAPTURA INCIDENTAL LIBERADA VIVA:"]
[null,843]
[null,"","CAPTURA INCIDENTAL LIBERADA VIVA:"]
[null,844]
[null,"","CAPTURA INCIDENTAL LIBERADA VIVA:"]
[null,845]
[null,"","CAPTURA INCIDENTAL LIBERADA VIVA:"]
[null,846]
[null,"","CAPTURA INCIDENTAL LIBERADA VIVA:"]
[null,847]
[null,"","CAPTURA INCIDENTAL LIBERADA VIVA:"]
[null,848]
[null,"","CAPTURA INCIDENTAL LIBERADA VIVA:"]
[null,849]
[null,"","CAPTURA INCIDENTAL LIBERADA VIVA:"]
[null,850]
[null,"","CAPTURA INCIDENTAL LIBERADA VIVA:"]
[null,851]
[null,"","CAPTURA INCIDENTAL LIBERADA VIVA:"]
[null,852]
[null,"","CAPTURA INCIDENTAL LIBERADA VIVA:"]
[null,853]
[null,"","CAPTURA INCIDENTAL LIBERADA VIVA:"]
[null,854]
[null,"","CAPTURA INCIDENTAL LIBERADA VIVA:"]
[null,855]
[null,"","CAPTURA INCIDENTAL LIBERADA VIVA:"]
[null,856]
[null,"","CAPTURA INCIDENTAL LIBERADA VIVA:"]
[null,857]
[null,"","CAPTURA INCIDENTAL LIBERADA VIVA:"]
[null,858]
[null,"","CAPTURA INCIDENTAL LIBERADA VIVA:"]
[null,859]
[null,"","CAPTURA INCIDENTAL LIBERADA VIVA:"]
[null,860]
[null,"","CAPTURA INCIDENTAL LIBERADA VIVA:"]
[null,861]
[null,"","CAPTURA INCIDENTAL LIBERADA VIVA:"]
[null,862]
[null,"","CAPTURA INCIDENTAL LIBERADA VIVA:"]
[null,863]
[null,"","CAPTURA INCIDENTAL LIBERADA VIVA:"]
[null,864]
[null,"","CAPTURA INCIDENTAL LIBERADA VIVA:"]
[null,865]
[null,"","CAPTURA INCIDENTAL LIBERADA VIVA:"]
[null,866]
[null,{"$f":"IF(B1740=\"\",\"\",B1740+1)","v":""},"CAPTURA INCIDENTAL LIBERADA VIVA:"]
[null,867]
[null,"","CAPTURA INCIDENTAL LIBERADA VIVA:"]
[null,868]
[null,"","CAPTURA INCIDENTAL LIBERADA VIVA:"]
[null,869]
[null,"","CAPTURA INCIDENTAL LIBERADA VIVA:"]
[null,870]
[null,"","CAPTURA INCIDENTAL LIBERADA VIVA:"]
[null,871]
[null,"","CAPTURA INCIDENTAL LIBERADA VIVA:"]
[null,872]
[null,"","CAPTURA INCIDENTAL LIBERADA VIVA:"]
[null,873]
[null,"","CAPTURA INCIDENTAL LIBERADA VIVA:"]
[null,874]
[null,"","CAPTURA INCIDENTAL LIBERADA VIVA:"]
[null,875]
[null,"","CAPTURA INCIDENTAL LIBERADA VIVA:"]
[null,876]
[null,"","CAPTURA INCIDENTAL LIBERADA VIVA:"]
[null,877]
[null,"","CAPTURA INCIDENTAL LIBERADA VIVA:"]
[null,878]
[null,"","CAPTURA INCIDENTAL LIBERADA VIVA:"]
[null,879]
[null,"","CAPTURA INCIDENTAL LIBERADA VIVA:"]
[null,880]
[null,"","CAPTURA INCIDENTAL LIBERADA VIVA:"]
[null,881]
[null,"","CAPTURA INCIDENTAL LIBERADA VIVA:"]
[null,882]
[null,"","CAPTURA INCIDENTAL LIBERADA VIVA:"]
[null,883]
[null,"","CAPTURA INCIDENTAL LIBERADA VIVA:"]
[null,884]
[null,"","CAPTURA INCIDENTAL LIBERADA VIVA:"]
[null,885]
[null,"","CAPTURA INCIDENTAL LIBERADA VIVA:"]
[null,886]
[null,"","CAPTURA INCIDENTAL LIBERADA VIVA:"]
[null,887]
[null,"","CAPTURA INCIDENTAL LIBERADA VIVA:"]
[null,888]
[null,"","CAPTURA INCIDENTAL LIBERADA VIVA:"]
[null,889]
[null,"","CAPTURA INCIDENTAL LIBERADA VIVA:"]
[null,890]
[null,"","CAPTURA INCIDENTAL LIBERADA VIVA:"]
[null,891]
[null,"","CAPTURA INCIDENTAL LIBERADA VIVA:"]
[null,892]
[null,"","CAPTURA INCIDENTAL LIBERADA VIVA:"]
[null,893]
[null,"","CAPTURA INCIDENTAL LIBERADA VIVA:"]
[null,894]
[null,"","CAPTURA INCIDENTAL LIBERADA VIVA:"]
[null,895]
[null,"","CAPTURA INCIDENTAL LIBERADA VIVA:"]
[null,896]
[null,"","CAPTURA INCIDENTAL LIBERADA VIVA:"]
[null,897]
[null,"","CAPTURA INCIDENTAL LIBERADA VIVA:"]
[null,898]
[null,{"$f":"IF(B1804=\"\",\"\",B1804+1)","v":""},"CAPTURA INCIDENTAL LIBERADA VIVA:"]
[null,899]
[null,"","CAPTURA INCIDENTAL LIBERADA VIVA:"]
[null,900]
[null,"","CAPTURA INCIDENTAL LIBERADA VIVA:"]
[null,901]
[null,"","CAPTURA INCIDENTAL LIBERADA VIVA:"]
[null,902]
[null,"","CAPTURA INCIDENTAL LIBERADA VIVA:"]
[null,903]
[null,"","CAPTURA INCIDENTAL LIBERADA VIVA:"]
[null,904]
[null,"","CAPTURA INCIDENTAL LIBERADA VIVA:"]
[null,905]
[null,"","CAPTURA INCIDENTAL LIBERADA VIVA:"]
[null,906]
[null,"","CAPTURA INCIDENTAL LIBERADA VIVA:"]
[null,907]
[null,"","CAPTURA INCIDENTAL LIBERADA VIVA:"]
[null,908]
[null,"","CAPTURA INCIDENTAL LIBERADA VIVA:"]
[null,909]
[null,"","CAPTURA INCIDENTAL LIBERADA VIVA:"]
[null,910]
[null,"","CAPTURA INCIDENTAL LIBERADA VIVA:"]
[null,911]
[null,"","CAPTURA INCIDENTAL LIBERADA VIVA:"]
[null,912]
[null,"","CAPTURA INCIDENTAL LIBERADA VIVA:"]
[null,913]
[null,"","CAPTURA INCIDENTAL LIBERADA VIVA:"]
[null,914]
[null,"","CAPTURA INCIDENTAL LIBERADA VIVA:"]
[null,915]
[null,"","CAPTURA INCIDENTAL LIBERADA VIVA:"]
[null,916]
[null,"","CAPTURA INCIDENTAL LIBERADA VIVA:"]
[null,917]
[null,"","CAPTURA INCIDENTAL LIBERADA VIVA:"]
[null,918]
[null,"","CAPTURA INCIDENTAL LIBERADA VIVA:"]
[null,919]
[null,"","CAPTURA INCIDENTAL LIBERADA VIVA:"]
[null,920]
[null,"","CAPTURA INCIDENTAL LIBERADA VIVA:"]
[null,921]
[null,"","CAPTURA INCIDENTAL LIBERADA VIVA:"]
[null,922]
[null,"","CAPTURA INCIDENTAL LIBERADA VIVA:"]
[null,923]
[null,"","CAPTURA INCIDENTAL LIBERADA VIVA:"]
[null,924]
[null,"","CAPTURA INCIDENTAL LIBERADA VIVA:"]
[null,925]
[null,"","CAPTURA INCIDENTAL LIBERADA VIVA:"]
[null,926]
[null,"","CAPTURA INCIDENTAL LIBERADA VIVA:"]
[null,927]
[null,"","CAPTURA INCIDENTAL LIBERADA VIVA:"]
[null,928]
[null,"","CAPTURA INCIDENTAL LIBERADA VIVA:"]
[null,929]
[null,"","CAPTURA INCIDENTAL LIBERADA VIVA:"]
[null,930]
[null,{"$f":"IF(B1868=\"\",\"\",B1868+1)","v":""},"CAPTURA INCIDENTAL LIBERADA VIVA:"]
[null,931]
[null,"","CAPTURA INCIDENTAL LIBERADA VIVA:"]
[null,932]
[null,"","CAPTURA INCIDENTAL LIBERADA VIVA:"]
[null,933]
[null,"","CAPTURA INCIDENTAL LIBERADA VIVA:"]
[null,934]
[null,"","CAPTURA INCIDENTAL LIBERADA VIVA:"]
[null,935]
[null,"","CAPTURA INCIDENTAL LIBERADA VIVA:"]
[null,936]
[null,"","CAPTURA INCIDENTAL LIBERADA VIVA:"]
[null,937]
[null,"","CAPTURA INCIDENTAL LIBERADA VIVA:"]
[null,938]
[null,"","CAPTURA INCIDENTAL LIBERADA VIVA:"]
[null,939]
[null,"","CAPTURA INCIDENTAL LIBERADA VIVA:"]
[null,940]
[null,"","CAPTURA INCIDENTAL LIBERADA VIVA:"]
[null,941]
[null,"","CAPTURA INCIDENTAL LIBERADA VIVA:"]
[null,942]
[null,"","CAPTURA INCIDENTAL LIBERADA VIVA:"]
[null,943]
[null,"","CAPTURA INCIDENTAL LIBERADA VIVA:"]
[null,944]
[null,"","CAPTURA INCIDENTAL LIBERADA VIVA:"]
[null,945]
[null,"","CAPTURA INCIDENTAL LIBERADA VIVA:"]
[null,946]
[null,"","CAPTURA INCIDENTAL LIBERADA VIVA:"]
[null,947]
[null,"","CAPTURA INCIDENTAL LIBERADA VIVA:"]
[null,948]
[null,"","CAPTURA INCIDENTAL LIBERADA VIVA:"]
[null,949]
[null,"","CAPTURA INCIDENTAL LIBERADA VIVA:"]
[null,950]
[null,"","CAPTURA INCIDENTAL LIBERADA VIVA:"]
[null,951]
[null,"","CAPTURA INCIDENTAL LIBERADA VIVA:"]
[null,952]
[null,"","CAPTURA INCIDENTAL LIBERADA VIVA:"]
[null,953]
[null,"","CAPTURA INCIDENTAL LIBERADA VIVA:"]
[null,954]
[null,"","CAPTURA INCIDENTAL LIBERADA VIVA:"]
[null,955]
[null,"","CAPTURA INCIDENTAL LIBERADA VIVA:"]
[null,956]
[null,"","CAPTURA INCIDENTAL LIBERADA VIVA:"]
[null,957]
[null,"","CAPTURA INCIDENTAL LIBERADA VIVA:"]
[null,958]
[null,"","CAPTURA INCIDENTAL LIBERADA VIVA:"]
[null,959]
[null,"","CAPTURA INCIDENTAL LIBERADA VIVA:"]
[null,960]
[null,"","CAPTURA INCIDENTAL LIBERADA VIVA:"]
[null,961]
[null,"","CAPTURA INCIDENTAL LIBERADA VIVA:"]
[null,962]
[null,{"$f":"IF(B1932=\"\",\"\",B1932+1)","v":""},"CAPTURA INCIDENTAL LIBERADA VIVA:"]
[null,963]
[null,"","CAPTURA INCIDENTAL LIBERADA VIVA:"]
[null,964]
[null,"","CAPTURA INCIDENTAL LIBERADA VIVA:"]
[null,965]
[null,"","CAPTURA INCIDENTAL LIBERADA VIVA:"]
[null,966]
[null,"","CAPTURA INCIDENTAL LIBERADA VIVA:"]
[null,967]
[null,"","CAPTURA INCIDENTAL LIBERADA VIVA:"]
[null,968]
[null,"","CAPTURA INCIDENTAL LIBERADA VIVA:"]
[null,969]
[null,"","CAPTURA INCIDENTAL LIBERADA VIVA:"]
[null,970]
[null,"","CAPTURA INCIDENTAL LIBERADA VIVA:"]
[null,971]
[null,"","CAPTURA INCIDENTAL LIBERADA VIVA:"]
[null,972]
[null,"","CAPTURA INCIDENTAL LIBERADA VIVA:"]
[null,973]
[null,"","CAPTURA INCIDENTAL LIBERADA VIVA:"]
[null,974]
[null,"","CAPTURA INCIDENTAL LIBERADA VIVA:"]
[null,975]
[null,"","CAPTURA INCIDENTAL LIBERADA VIVA:"]
[null,976]
[null,"","CAPTURA INCIDENTAL LIBERADA VIVA:"]
[null,977]
[null,"","CAPTURA INCIDENTAL LIBERADA VIVA:"]
[null,978]
[null,"","CAPTURA INCIDENTAL LIBERADA VIVA:"]
[null,979]
[null,"","CAPTURA INCIDENTAL LIBERADA VIVA:"]
[null,980]
[null,"","CAPTURA INCIDENTAL LIBERADA VIVA:"]
[null,981]
[null,"","CAPTURA INCIDENTAL LIBERADA VIVA:"]
[null,982]
[null,"","CAPTURA INCIDENTAL LIBERADA VIVA:"]
[null,983]
[null,"","CAPTURA INCIDENTAL LIBERADA VIVA:"]
[null,984]
[null,"","CAPTURA INCIDENTAL LIBERADA VIVA:"]
[null,985]
[null,"","CAPTURA INCIDENTAL LIBERADA VIVA:"]
[null,986]
[null,"","CAPTURA INCIDENTAL LIBERADA VIVA:"]
[null,987]
[null,"","CAPTURA INCIDENTAL LIBERADA VIVA:"]
[null,988]
[null,"","CAPTURA INCIDENTAL LIBERADA VIVA:"]
[null,989]
[null,"","CAPTURA INCIDENTAL LIBERADA VIVA:"]
[null,990]
[null,"","CAPTURA INCIDENTAL LIBERADA VIVA:"]
[null,991]
[null,"","CAPTURA INCIDENTAL LIBERADA VIVA:"]
[null,992]
[null,"","CAPTURA INCIDENTAL LIBERADA VIVA:"]
[null,993]
[null,"","CAPTURA INCIDENTAL LIBERADA VIVA:"]
[null,994]
[null,{"$f":"IF(B1996=\"\",\"\",B1996+1)","v":""},"CAPTURA INCIDENTAL LIBERADA VIVA:"]
[null,995]
[null,"","CAPTURA INCIDENTAL LIBERADA VIVA:"]
[null,996]
[null,"","CAPTURA INCIDENTAL LIBERADA VIVA:"]
[null,997]
[null,"","CAPTURA INCIDENTAL LIBERADA VIVA:"]
[null,998]
[null,"","CAPTURA INCIDENTAL LIBERADA VIVA:"]
[null,999]
[null,"","CAPTURA INCIDENTAL LIBERADA VIVA:"]
[null,1000]
[null,"","CAPTURA INCIDENTAL LIBERADA VIVA:"]

{"sheet":"Tablas","index":3,"n_rows":1005,"n_cols":29,"rows_kept":1005,"cut":false,"hidden":true,"merged":[[5,2,12,2],[13,2,19,2],[20,2,30,2]]}
[]
[]
[]
[]
[null,null,null,"Modelo","CodigoBaliza ",null,"Cuatro",null,"Cinco",null,"Seis",null,"Código Fabricante","No Orden","Copia Cod.","Reordenar","CodBal",null,"Código Fabricante","No Orden","Copia Cod.","Reordenar","IATTC",null,"Código Fabricante","No Orden","Copia Cod.","Reordenar","Reorde"]
[null,null,"NAUTICAL","MDP","MDP",null,1,null,1,null,1,null,{"$f":"IF(Inventario!C11<>\"\",Inventario!C11,0)","v":0},1,{"$f":"M6","v":0},{"$f":"IF(O6=0,MAX($N$6:$N$1005)+1,N6)","v":1001},{"$f":"IFERROR(VLOOKUP(SMALL($P$6:$P$1005,N6),$N$6:$O$1005,2,FALSE),\" \")","v":" "},null,{"$f":"IF(Inventario!J11<>\"\",Inventario!J11,0)","v":0},1,{"$f":"S6","v":0},{"$f":"IF(U6=0,MAX($T$6:$T$1005)+1,T6)","v":1001},{"$f":"IFERROR(VLOOKUP(SMALL($V$6:$V$1005,T6),$T$6:$U$1005,2,FALSE),\" \")","v":" "},null,{"$f":"IF(AND(M6=0,S6=0),0,IF(AND(M6<>0,S6=0),M6,IF(AND(M6=0,S6<>0),S6,IF(AND(M6<>0,S6<>0),(CONCATENATE(M6,S6))))))","v":0},1,{"$f":"Y6","v":0},{"$f":"IF(AA6=0,MAX($Z$6:$Z$1005)+1,Z6)","v":1001},{"$f":"IFERROR(VLOOKUP(SMALL($AB$6:$AB$1005,Z6),$Z$6:$AA$1005,2,FALSE),\" \")","v":" "}]
[null,null,null,"MDS","MDS",null,2,null,2,null,2,null,{"$f":"IF(Inventario!C12<>\"\",Inventario!C12,0)","v":0},2,{"$f":"M7","v":0},{"$f":"IF(O7=0,MAX($N$6:$N$1005)+1,N7)","v":1001}," ",null,{"$f":"IF(Inventario!J12<>\"\",Inventario!J12,0)","v":0},2,{"$f":"S7","v":0},{"$f":"IF(U7=0,MAX($T$6:$T$1005)+1,T7)","v":1001}," ",null,{"$f":"IF(AND(M7=0,S7=0),0,IF(AND(M7<>0,S7=0),M7,IF(AND(M7=0,S7<>0),S7,IF(AND(M7<>0,S7<>0),(CONCATENATE(M7,S7))))))","v":0},2,{"$f":"Y7","v":0},{"$f":"IF(AA7=0,MAX($Z$6:$Z$1005)+1,Z7)","v":1001}," "]
[null,null,null,"M2D","M2D",null,3,null,3,null,3,null,{"$f":"IF(Inventario!C13<>\"\",Inventario!C13,0)","v":0},3,0,1001," ",null,{"$f":"IF(Inventario!J13<>\"\",Inventario!J13,0)","v":0},3,0,1001," ",null,0,3,0,1001," "]
[null,null,null,"MSI","MSI",null,4,null,4,null,4,null,{"$f":"IF(Inventario!C14<>\"\",Inventario!C14,0)","v":0},4,0,1001," ",null,{"$f":"IF(Inventario!J14<>\"\",Inventario!J14,0)","v":0},4,0,1001," ",null,0,4,0,1001," "]
[null,null,null,"M3i","M3I",null,null,null,5,null,5,null,{"$f":"IF(Inventario!C15<>\"\",Inventario!C15,0)","v":0},5,0,1001," ",null,{"$f":"IF(Inventario!J15<>\"\",Inventario!J15,0)","v":0},5,0,1001," ",null,0,5,0,1001," "]
[null,null,null,"M3i+","M3+",null,null,null,null,null,6,null,{"$f":"IF(Inventario!C16<>\"\",Inventario!C16,0)","v":0},6,0,1001," ",null,{"$f":"IF(Inventario!J16<>\"\",Inventario!J16,0)","v":0},6,0,1001," ",null,0,6,0,1001," "]
[null,null,null,"M4I","M4I",null,null,null,null,null,null,null,{"$f":"IF(Inventario!C17<>\"\",Inventario!C17,0)","v":0},7,0,1001," ",null,{"$f":"IF(Inventario!J17<>\"\",Inventario!J17,0)","v":0},7,0,1001," ",null,0,7,0,1001," "]
[null,null,null,"M4i+","M4+",null,null,null,null,null,null,null,{"$f":"IF(Inventario!C18<>\"\",Inventario!C18,0)","v":0},8,0,1001," ",null,{"$f":"IF(Inventario!J18<>\"\",Inventario!J18,0)","v":0},8,0,1001," ",null,0,8,0,1001," "]
[null,null,"SATLINK","D+ pila","D+",null,null,null,null,null,null,null,{"$f":"IF(Inventario!C19<>\"\",Inventario!C19,0)","v":0},9,0,1001," ",null,{"$f":"IF(Inventario!J19<>\"\",Inventario!J19,0)","v":0},9,0,1001," ",null,0,9,0,1001," "]
[null,null,null,"D+ pila con sonda","DS+",null,null,null,null,null,null,null,{"$f":"IF(Inventario!C20<>\"\",Inventario!C20,0)","v":0},10,0,1001," ",null,{"$f":"IF(Inventario!J20<>\"\",Inventario!J20,0)","v":0},10,0,1001," ",null,0,10,0,1001," "]
[null,null,null,"D+ solar","DL+",null,null,null,null,null,null,null,{"$f":"IF(Inventario!C21<>\"\",Inventario!C21,0)","v":0},11,0,1001," ",null,{"$f":"IF(Inventario!J21<>\"\",Inventario!J21,0)","v":0},11,0,1001," ",null,0,11,0,1001," "]
[null,null,null,"D+ solar con sonda","DSL+",null,null,null,null,null,null,null,{"$f":"IF(Inventario!C22<>\"\",Inventario!C22,0)","v":0},12,0,1001," ",null,{"$f":"IF(Inventario!J22<>\"\",Inventario!J22,0)","v":0},12,0,1001," ",null,0,12,0,1001," "]
[null,null,null,"IDP solar con sonda","ISL+",null,null,null,null,null,null,null,{"$f":"IF(Inventario!C23<>\"\",Inventario!C23,0)","v":0},13,0,1001," ",null,{"$f":"IF(Inventario!J23<>\"\",Inventario!J23,0)","v":0},13,0,1001," ",null,0,13,0,1001," "]
[null,null,null,"IDP solar disc. con sonda","ISD+",null,null,null,null,null,null,null,{"$f":"IF(Inventario!C24<>\"\",Inventario!C24,0)","v":0},14,0,1001," ",null,{"$f":"IF(Inventario!J24<>\"\",Inventario!J24,0)","v":0},14,0,1001," ",null,0,14,0,1001," "]
[null,null,null,"SLX solar \"ECO\"","SLX+",null,null,null,null,null,null,null,{"$f":"IF(Inventario!C25<>\"\",Inventario!C25,0)","v":0},15,0,1001," ",null,{"$f":"IF(Inventario!J25<>\"\",Inventario!J25,0)","v":0},15,0,1001," ",null,0,15,0,1001," "]
[null,null,"ZUNIBAL","Tunabal-7","T07",null,null,null,null,null,null,null,{"$f":"IF(Inventario!C26<>\"\",Inventario!C26,0)","v":0},16,0,1001," ",null,{"$f":"IF(Inventario!J26<>\"\",Inventario!J26,0)","v":0},16,0,1001," ",null,0,16,0,1001," "]
[null,null,null,"Tunabal-e7","Te7",null,null,null,null,null,null,null,{"$f":"IF(Inventario!C27<>\"\",Inventario!C27,0)","v":0},17,0,1001," ",null,{"$f":"IF(Inventario!J27<>\"\",Inventario!J27,0)","v":0},17,0,1001," ",null,0,17,0,1001," "]
[null,null,null,"Tunabal-e7+","T7+",null,null,null,null,null,null,null,{"$f":"IF(Inventario!C28<>\"\",Inventario!C28,0)","v":0},18,0,1001," ",null,{"$f":"IF(Inventario!J28<>\"\",Inventario!J28,0)","v":0},18,0,1001," ",null,0,18,0,1001," "]
[null,null,null,"Tuna8 Explorer","T8E",null,null,null,null,null,null,null,{"$f":"IF(Inventario!C29<>\"\",Inventario!C29,0)","v":0},19,0,1001," ",null,{"$f":"IF(Inventario!J29<>\"\",Inventario!J29,0)","v":0},19,0,1001," ",null,0,19,0,1001," "]
[null,null,null,"Tuna8 Xtreme","T8X",null,null,null,null,null,null,null,{"$f":"IF(Inventario!C30<>\"\",Inventario!C30,0)","v":0},20,0,1001," ",null,{"$f":"IF(Inventario!J30<>\"\",Inventario!J30,0)","v":0},20,0,1001," ",null,0,20,0,1001," "]
[null,null,null,"Tunabal-7 (F series)","F07",null,null,null,null,null,null,null,{"$f":"IF(Inventario!C31<>\"\",Inventario!C31,0)","v":0},21,0,1001," ",null,{"$f":"IF(Inventario!J31<>\"\",Inventario!J31,0)","v":0},21,0,1001," ",null,0,21,0,1001," "]
[null,null,null,"Tunabal-e7 (F series)","Fe7",null,null,null,null,null,null,null,{"$f":"IF(Inventario!C32<>\"\",Inventario!C32,0)","v":0},22,0,1001," ",null,{"$f":"IF(Inventario!J32<>\"\",Inventario!J32,0)","v":0},22,0,1001," ",null,0,22,0,1001," "]
[null,null,null,"Tunabal-e7+ (F-series)","F7+",null,null,null,null,null,null,null,{"$f":"IF(Inventario!C33<>\"\",Inventario!C33,0)","v":0},23,0,1001," ",null,{"$f":"IF(Inventario!J33<>\"\",Inventario!J33,0)","v":0},23,0,1001," ",null,0,23,0,1001," "]
[null,null,null,"Tuna8 Explorer (F-series)","F8E",null,null,null,null,null,null,null,{"$f":"IF(Inventario!C34<>\"\",Inventario!C34,0)","v":0},24,0,1001," ",null,{"$f":"IF(Inventario!J34<>\"\",Inventario!J34,0)","v":0},24,0,1001," ",null,0,24,0,1001," "]
[null,null,null,"Zuni sin sonda","Z07",null,null,null,null,null,null,null,{"$f":"IF(Inventario!C35<>\"\",Inventario!C35,0)","v":0},25,0,1001," ",null,{"$f":"IF(Inventario!J35<>\"\",Inventario!J35,0)","v":0},25,0,1001," ",null,0,25,0,1001," "]
[null,null,null,"Zuni sin sonda","Ze7",null,null,null,null,null,null,null,{"$f":"IF(Inventario!C36<>\"\",Inventario!C36,0)","v":0},26,0,1001," ",null,{"$f":"IF(Inventario!J36<>\"\",Inventario!J36,0)","v":0},26,0,1001," ",null,0,26,0,1001," "]
[null,null,null,null,null,null,null,null,null,null,null,null,{"$f":"IF(Inventario!C37<>\"\",Inventario!C37,0)","v":0},27,0,1001," ",null,{"$f":"IF(Inventario!J37<>\"\",Inventario!J37,0)","v":0},27,0,1001," ",null,0,27,0,1001," "]
[null,null,null,null,null,null,null,null,null,null,null,null,{"$f":"IF(Inventario!C38<>\"\",Inventario!C38,0)","v":0},28,0,1001," ",null,{"$f":"IF(Inventario!J38<>\"\",Inventario!J38,0)","v":0},28,0,1001," ",null,0,28,0,1001," "]
[null,null,null,null,null,null,null,null,null,null,null,null,{"$f":"IF(Inventario!C39<>\"\",Inventario!C39,0)","v":0},29,0,1001," ",null,{"$f":"IF(Inventario!J39<>\"\",Inventario!J39,0)","v":0},29,0,1001," ",null,0,29,0,1001," "]
[null,null,null,null,null,null,null,null,null,null,null,null,{"$f":"IF(Inventario!C40<>\"\",Inventario!C40,0)","v":0},30,0,1001," ",null,{"$f":"IF(Inventario!J40<>\"\",Inventario!J40,0)","v":0},30,0,1001," ",null,0,30,0,1001," "]
[null,null,null,null,null,null,null,null,null,null,null,null,{"$f":"IF(Inventario!C41<>\"\",Inventario!C41,0)","v":0},31,0,1001," ",null,{"$f":"IF(Inventario!J41<>\"\",Inventario!J41,0)","v":0},31,0,1001," ",null,0,31,0,1001," "]
[null,null,null,null,null,null,null,null,null,null,null,null,{"$f":"IF(Inventario!C42<>\"\",Inventario!C42,0)","v":0},32,0,1001," ",null,{"$f":"IF(Inventario!J42<>\"\",Inventario!J42,0)","v":0},32,0,1001," ",null,0,32,0,1001," "]
[null,null,null,null,null,null,null,null,null,null,null,null,{"$f":"IF(Inventario!C43<>\"\",Inventario!C43,0)","v":0},33,0,1001," ",null,{"$f":"IF(Inventario!J43<>\"\",Inventario!J43,0)","v":0},33,0,1001," ",null,0,33,0,1001," "]
[null,null,null,null,null,null,null,null,null,null,null,null,{"$f":"IF(Inventario!C44<>\"\",Inventario!C44,0)","v":0},34,0,1001," ",null,{"$f":"IF(Inventario!J44<>\"\",Inventario!J44,0)","v":0},34,0,1001," ",null,0,34,0,1001," "]
[null,null,null,null,null,null,null,null,null,null,null,null,{"$f":"IF(Inventario!C45<>\"\",Inventario!C45,0)","v":0},35,0,1001," ",null,{"$f":"IF(Inventario!J45<>\"\",Inventario!J45,0)","v":0},35,0,1001," ",null,0,35,0,1001," "]
[null,null,null,null,null,null,null,null,null,null,null,null,{"$f":"IF(Inventario!C46<>\"\",Inventario!C46,0)","v":0},36,0,1001," ",null,{"$f":"IF(Inventario!J46<>\"\",Inventario!J46,0)","v":0},36,0,1001," ",null,0,36,0,1001," "]
[null,null,null,null,null,null,null,null,null,null,null,null,{"$f":"IF(Inventario!C47<>\"\",Inventario!C47,0)","v":0},37,0,1001," ",null,{"$f":"IF(Inventario!J47<>\"\",Inventario!J47,0)","v":0},37,0,1001," ",null,0,37,0,1001," "]
[null,null,null,null,null,null,null,null,null,null,null,null,{"$f":"IF(Inventario!C48<>\"\",Inventario!C48,0)","v":0},38,0,1001," ",null,{"$f":"IF(Inventario!J48<>\"\",Inventario!J48,0)","v":0},38,0,1001," ",null,0,38,0,1001," "]
[null,null,null,null,null,null,null,null,null,null,null,null,{"$f":"IF(Inventario!C49<>\"\",Inventario!C49,0)","v":0},39,0,1001," ",null,{"$f":"IF(Inventario!J49<>\"\",Inventario!J49,0)","v":0},39,0,1001," ",null,0,39,0,1001," "]
[null,null,null,null,null,null,null,null,null,null,null,null,{"$f":"IF(Inventario!C50<>\"\",Inventario!C50,0)","v":0},40,0,1001," ",null,{"$f":"IF(Inventario!J50<>\"\",Inventario!J50,0)","v":0},40,0,1001," ",null,0,40,0,1001," "]
[null,null,null,null,null,null,null,null,null,null,null,null,{"$f":"IF(Inventario!C51<>\"\",Inventario!C51,0)","v":0},41,0,1001," ",null,{"$f":"IF(Inventario!J51<>\"\",Inventario!J51,0)","v":0},41,0,1001," ",null,0,41,0,1001," "]
[null,null,null,null,null,null,null,null,null,null,null,null,{"$f":"IF(Inventario!C52<>\"\",Inventario!C52,0)","v":0},42,0,1001," ",null,{"$f":"IF(Inventario!J52<>\"\",Inventario!J52,0)","v":0},42,0,1001," ",null,0,42,0,1001," "]
[null,null,null,null,null,null,null,null,null,null,null,null,{"$f":"IF(Inventario!C53<>\"\",Inventario!C53,0)","v":0},43,0,1001," ",null,{"$f":"IF(Inventario!J53<>\"\",Inventario!J53,0)","v":0},43,0,1001," ",null,0,43,0,1001," "]
[null,null,null,null,null,null,null,null,null,null,null,null,{"$f":"IF(Inventario!C54<>\"\",Inventario!C54,0)","v":0},44,0,1001," ",null,{"$f":"IF(Inventario!J54<>\"\",Inventario!J54,0)","v":0},44,0,1001," ",null,0,44,0,1001," "]
[null,null,null,null,null,null,null,null,null,null,null,null,{"$f":"IF(Inventario!C55<>\"\",Inventario!C55,0)","v":0},45,0,1001," ",null,{"$f":"IF(Inventario!J55<>\"\",Inventario!J55,0)","v":0},45,0,1001," ",null,0,45,0,1001," "]
[null,null,null,null,null,null,null,null,null,null,null,null,{"$f":"IF(Inventario!C56<>\"\",Inventario!C56,0)","v":0},46,0,1001," ",null,{"$f":"IF(Inventario!J56<>\"\",Inventario!J56,0)","v":0},46,0,1001," ",null,0,46,0,1001," "]
[null,null,null,null,null,null,null,null,null,null,null,null,{"$f":"IF(Inventario!C57<>\"\",Inventario!C57,0)","v":0},47,0,1001," ",null,{"$f":"IF(Inventario!J57<>\"\",Inventario!J57,0)","v":0},47,0,1001," ",null,0,47,0,1001," "]
[null,null,null,null,null,null,null,null,null,null,null,null,{"$f":"IF(Inventario!C58<>\"\",Inventario!C58,0)","v":0},48,0,1001," ",null,{"$f":"IF(Inventario!J58<>\"\",Inventario!J58,0)","v":0},48,0,1001," ",null,0,48,0,1001," "]
[null,null,null,null,null,null,null,null,null,null,null,null,{"$f":"IF(Inventario!C59<>\"\",Inventario!C59,0)","v":0},49,0,1001," ",null,{"$f":"IF(Inventario!J59<>\"\",Inventario!J59,0)","v":0},49,0,1001," ",null,0,49,0,1001," "]
[null,null,null,null,null,null,null,null,null,null,null,null,{"$f":"IF(Inventario!C60<>\"\",Inventario!C60,0)","v":0},50,0,1001," ",null,{"$f":"IF(Inventario!J60<>\"\",Inventario!J60,0)","v":0},50,0,1001," ",null,0,50,0,1001," "]
[null,null,null,null,null,null,null,null,null,null,null,null,{"$f":"IF(Inventario!C61<>\"\",Inventario!C61,0)","v":0},51,0,1001," ",null,{"$f":"IF(Inventario!J61<>\"\",Inventario!J61,0)","v":0},51,0,1001," ",null,0,51,0,1001," "]
[null,null,null,null,null,null,null,null,null,null,null,null,{"$f":"IF(Inventario!C62<>\"\",Inventario!C62,0)","v":0},52,0,1001," ",null,{"$f":"IF(Inventario!J62<>\"\",Inventario!J62,0)","v":0},52,0,1001," ",null,0,52,0,1001," "]
[null,null,null,null,null,null,null,null,null,null,null,null,{"$f":"IF(Inventario!C63<>\"\",Inventario!C63,0)","v":0},53,0,1001," ",null,{"$f":"IF(Inventario!J63<>\"\",Inventario!J63,0)","v":0},53,0,1001," ",null,0,53,0,1001," "]
[null,null,null,null,null,null,null,null,null,null,null,null,{"$f":"IF(Inventario!C64<>\"\",Inventario!C64,0)","v":0},54,0,1001," ",null,{"$f":"IF(Inventario!J64<>\"\",Inventario!J64,0)","v":0},54,0,1001," ",null,0,54,0,1001," "]
[null,null,null,null,null,null,null,null,null,null,null,null,{"$f":"IF(Inventario!C65<>\"\",Inventario!C65,0)","v":0},55,0,1001," ",null,{"$f":"IF(Inventario!J65<>\"\",Inventario!J65,0)","v":0},55,0,1001," ",null,0,55,0,1001," "]
[null,null,null,null,null,null,null,null,null,null,null,null,{"$f":"IF(Inventario!C66<>\"\",Inventario!C66,0)","v":0},56,0,1001," ",null,{"$f":"IF(Inventario!J66<>\"\",Inventario!J66,0)","v":0},56,0,1001," ",null,0,56,0,1001," "]
[null,null,null,null,null,null,null,null,null,null,null,null,{"$f":"IF(Inventario!C67<>\"\",Inventario!C67,0)","v":0},57,0,1001," ",null,{"$f":"IF(Inventario!J67<>\"\",Inventario!J67,0)","v":0},57,0,1001," ",null,0,57,0,1001," "]
[null,null,null,null,null,null,null,null,null,null,null,null,{"$f":"IF(Inventario!C68<>\"\",Inventario!C68,0)","v":0},58,0,1001," ",null,{"$f":"IF(Inventario!J68<>\"\",Inventario!J68,0)","v":0},58,0,1001," ",null,0,58,0,1001," "]
[null,null,null,null,null,null,null,null,null,null,null,null,{"$f":"IF(Inventario!C69<>\"\",Inventario!C69,0)","v":0},59,0,1001," ",null,{"$f":"IF(Inventario!J69<>\"\",Inventario!J69,0)","v":0},59,0,1001," ",null,0,59,0,1001," "]
[null,null,null,null,null,null,null,null,null,null,null,null,{"$f":"IF(Inventario!C70<>\"\",Inventario!C70,0)","v":0},60,0,1001," ",null,{"$f":"IF(Inventario!J70<>\"\",Inventario!J70,0)","v":0},60,0,1001," ",null,0,60,0,1001," "]
[null,null,null,null,null,null,null,null,null,null,null,null,{"$f":"IF(Inventario!C71<>\"\",Inventario!C71,0)","v":0},61,0,1001," ",null,{"$f":"IF(Inventario!J71<>\"\",Inventario!J71,0)","v":0},61,0,1001," ",null,0,61,0,1001," "]
[null,null,null,null,null,null,null,null,null,null,null,null,{"$f":"IF(Inventario!C72<>\"\",Inventario!C72,0)","v":0},62,0,1001," ",null,{"$f":"IF(Inventario!J72<>\"\",Inventario!J72,0)","v":0},62,0,1001," ",null,0,62,0,1001," "]
[null,null,null,null,null,null,null,null,null,null,null,null,{"$f":"IF(Inventario!C73<>\"\",Inventario!C73,0)","v":0},63,0,1001," ",null,{"$f":"IF(Inventario!J73<>\"\",Inventario!J73,0)","v":0},63,0,1001," ",null,0,63,0,1001," "]
[null,null,null,null,null,null,null,null,null,null,null,null,{"$f":"IF(Inventario!C74<>\"\",Inventario!C74,0)","v":0},64,0,1001," ",null,{"$f":"IF(Inventario!J74<>\"\",Inventario!J74,0)","v":0},64,0,1001," ",null,0,64,0,1001," "]
[null,null,null,null,null,null,null,null,null,null,null,null,{"$f":"IF(Inventario!C75<>\"\",Inventario!C75,0)","v":0},65,0,1001,{"$f":"IFERROR(VLOOKUP(SMALL($P$6:$P$1005,N70),$N$6:$O$1005,2,FALSE),\" \")","v":" "},null,{"$f":"IF(Inventario!J75<>\"\",Inventario!J75,0)","v":0},65,0,1001,{"$f":"IFERROR(VLOOKUP(SMALL($V$6:$V$1005,T70),$T$6:$U$1005,2,FALSE),\" \")","v":" "},null,0,65,0,1001,{"$f":"IFERROR(VLOOKUP(SMALL($AB$6:$AB$1005,Z70),$Z$6:$AA$1005,2,FALSE),\" \")","v":" "}]
[null,null,null,null,null,null,null,null,null,null,null,null,{"$f":"IF(Inventario!C76<>\"\",Inventario!C76,0)","v":0},66,{"$f":"M71","v":0},{"$f":"IF(O71=0,MAX($N$6:$N$1005)+1,N71)","v":1001}," ",null,{"$f":"IF(Inventario!J76<>\"\",Inventario!J76,0)","v":0},66,{"$f":"S71","v":0},{"$f":"IF(U71=0,MAX($T$6:$T$1005)+1,T71)","v":1001}," ",null,{"$f":"IF(AND(M71=0,S71=0),0,IF(AND(M71<>0,S71=0),M71,IF(AND(M71=0,S71<>0),S71,IF(AND(M71<>0,S71<>0),(CONCATENATE(M71,S71))))))","v":0},66,{"$f":"Y71","v":0},{"$f":"IF(AA71=0,MAX($Z$6:$Z$1005)+1,Z71)","v":1001}," "]
[null,null,null,null,null,null,null,null,null,null,null,null,{"$f":"IF(Inventario!C77<>\"\",Inventario!C77,0)","v":0},67,0,1001," ",null,{"$f":"IF(Inventario!J77<>\"\",Inventario!J77,0)","v":0},67,0,1001," ",null,0,67,0,1001," "]
[null,null,null,null,null,null,null,null,null,null,null,null,{"$f":"IF(Inventario!C78<>\"\",Inventario!C78,0)","v":0},68,0,1001," ",null,{"$f":"IF(Inventario!J78<>\"\",Inventario!J78,0)","v":0},68,0,1001," ",null,0,68,0,1001," "]
[null,null,null,null,null,null,null,null,null,null,null,null,{"$f":"IF(Inventario!C79<>\"\",Inventario!C79,0)","v":0},69,0,1001," ",null,{"$f":"IF(Inventario!J79<>\"\",Inventario!J79,0)","v":0},69,0,1001," ",null,0,69,0,1001," "]
[null,null,null,null,null,null,null,null,null,null,null,null,{"$f":"IF(Inventario!C80<>\"\",Inventario!C80,0)","v":0},70,0,1001," ",null,{"$f":"IF(Inventario!J80<>\"\",Inventario!J80,0)","v":0},70,0,1001," ",null,0,70,0,1001," "]
[null,null,null,null,null,null,null,null,null,null,null,null,{"$f":"IF(Inventario!C81<>\"\",Inventario!C81,0)","v":0},71,0,1001," ",null,{"$f":"IF(Inventario!J81<>\"\",Inventario!J81,0)","v":0},71,0,1001," ",null,0,71,0,1001," "]
[null,null,null,null,null,null,null,null,null,null,null,null,{"$f":"IF(Inventario!C82<>\"\",Inventario!C82,0)","v":0},72,0,1001," ",null,{"$f":"IF(Inventario!J82<>\"\",Inventario!J82,0)","v":0},72,0,1001," ",null,0,72,0,1001," "]
[null,null,null,null,null,null,null,null,null,null,null,null,{"$f":"IF(Inventario!C83<>\"\",Inventario!C83,0)","v":0},73,0,1001," ",null,{"$f":"IF(Inventario!J83<>\"\",Inventario!J83,0)","v":0},73,0,1001," ",null,0,73,0,1001," "]
[null,null,null,null,null,null,null,null,null,null,null,null,{"$f":"IF(Inventario!C84<>\"\",Inventario!C84,0)","v":0},74,0,1001," ",null,{"$f":"IF(Inventario!J84<>\"\",Inventario!J84,0)","v":0},74,0,1001," ",null,0,74,0,1001," "]
[null,null,null,null,null,null,null,null,null,null,null,null,{"$f":"IF(Inventario!C85<>\"\",Inventario!C85,0)","v":0},75,0,1001," ",null,{"$f":"IF(Inventario!J85<>\"\",Inventario!J85,0)","v":0},75,0,1001," ",null,0,75,0,1001," "]
[null,null,null,null,null,null,null,null,null,null,null,null,{"$f":"IF(Inventario!C86<>\"\",Inventario!C86,0)","v":0},76,0,1001," ",null,{"$f":"IF(Inventario!J86<>\"\",Inventario!J86,0)","v":0},76,0,1001," ",null,0,76,0,1001," "]
[null,null,null,null,null,null,null,null,null,null,null,null,{"$f":"IF(Inventario!C87<>\"\",Inventario!C87,0)","v":0},77,0,1001," ",null,{"$f":"IF(Inventario!J87<>\"\",Inventario!J87,0)","v":0},77,0,1001," ",null,0,77,0,1001," "]
[null,null,null,null,null,null,null,null,null,null,null,null,{"$f":"IF(Inventario!C88<>\"\",Inventario!C88,0)","v":0},78,0,1001," ",null,{"$f":"IF(Inventario!J88<>\"\",Inventario!J88,0)","v":0},78,0,1001," ",null,0,78,0,1001," "]
[null,null,null,null,null,null,null,null,null,null,null,null,{"$f":"IF(Inventario!C89<>\"\",Inventario!C89,0)","v":0},79,0,1001," ",null,{"$f":"IF(Inventario!J89<>\"\",Inventario!J89,0)","v":0},79,0,1001," ",null,0,79,0,1001," "]
[null,null,null,null,null,null,null,null,null,null,null,null,{"$f":"IF(Inventario!C90<>\"\",Inventario!C90,0)","v":0},80,0,1001," ",null,{"$f":"IF(Inventario!J90<>\"\",Inventario!J90,0)","v":0},80,0,1001," ",null,0,80,0,1001," "]
[null,null,null,null,null,null,null,null,null,null,null,null,{"$f":"IF(Inventario!C91<>\"\",Inventario!C91,0)","v":0},81,0,1001," ",null,{"$f":"IF(Inventario!J91<>\"\",Inventario!J91,0)","v":0},81,0,1001," ",null,0,81,0,1001," "]
[null,null,null,null,null,null,null,null,null,null,null,null,{"$f":"IF(Inventario!C92<>\"\",Inventario!C92,0)","v":0},82,0,1001," ",null,{"$f":"IF(Inventario!J92<>\"\",Inventario!J92,0)","v":0},82,0,1001," ",null,0,82,0,1001," "]
[null,null,null,null,null,null,null,null,null,null,null,null,{"$f":"IF(Inventario!C93<>\"\",Inventario!C93,0)","v":0},83,0,1001," ",null,{"$f":"IF(Inventario!J93<>\"\",Inventario!J93,0)","v":0},83,0,1001," ",null,0,83,0,1001," "]
[null,null,null,null,null,null,null,null,null,null,null,null,{"$f":"IF(Inventario!C94<>\"\",Inventario!C94,0)","v":0},84,0,1001," ",null,{"$f":"IF(Inventario!J94<>\"\",Inventario!J94,0)","v":0},84,0,1001," ",null,0,84,0,1001," "]
[null,null,null,null,null,null,null,null,null,null,null,null,{"$f":"IF(Inventario!C95<>\"\",Inventario!C95,0)","v":0},85,0,1001," ",null,{"$f":"IF(Inventario!J95<>\"\",Inventario!J95,0)","v":0},85,0,1001," ",null,0,85,0,1001," "]
[null,null,null,null,null,null,null,null,null,null,null,null,{"$f":"IF(Inventario!C96<>\"\",Inventario!C96,0)","v":0},86,0,1001," ",null,{"$f":"IF(Inventario!J96<>\"\",Inventario!J96,0)","v":0},86,0,1001," ",null,0,86,0,1001," "]
[null,null,null,null,null,null,null,null,null,null,null,null,{"$f":"IF(Inventario!C97<>\"\",Inventario!C97,0)","v":0},87,0,1001," ",null,{"$f":"IF(Inventario!J97<>\"\",Inventario!J97,0)","v":0},87,0,1001," ",null,0,87,0,1001," "]
[null,null,null,null,null,null,null,null,null,null,null,null,{"$f":"IF(Inventario!C98<>\"\",Inventario!C98,0)","v":0},88,0,1001," ",null,{"$f":"IF(Inventario!J98<>\"\",Inventario!J98,0)","v":0},88,0,1001," ",null,0,88,0,1001," "]
[null,null,null,null,null,null,null,null,null,null,null,null,{"$f":"IF(Inventario!C99<>\"\",Inventario!C99,0)","v":0},89,0,1001," ",null,{"$f":"IF(Inventario!J99<>\"\",Inventario!J99,0)","v":0},89,0,1001," ",null,0,89,0,1001," "]
[null,null,null,null,null,null,null,null,null,null,null,null,{"$f":"IF(Inventario!C100<>\"\",Inventario!C100,0)","v":0},90,0,1001," ",null,{"$f":"IF(Inventario!J100<>\"\",Inventario!J100,0)","v":0},90,0,1001," ",null,0,90,0,1001," "]
[null,null,null,null,null,null,null,null,null,null,null,null,{"$f":"IF(Inventario!C101<>\"\",Inventario!C101,0)","v":0},91,0,1001," ",null,{"$f":"IF(Inventario!J101<>\"\",Inventario!J101,0)","v":0},91,0,1001," ",null,0,91,0,1001," "]
[null,null,null,null,null,null,null,null,null,null,null,null,{"$f":"IF(Inventario!C102<>\"\",Inventario!C102,0)","v":0},92,0,1001," ",null,{"$f":"IF(Inventario!J102<>\"\",Inventario!J102,0)","v":0},92,0,1001," ",null,0,92,0,1001," "]
[null,null,null,null,null,null,null,null,null,null,null,null,{"$f":"IF(Inventario!C103<>\"\",Inventario!C103,0)","v":0},93,0,1001," ",null,{"$f":"IF(Inventario!J103<>\"\",Inventario!J103,0)","v":0},93,0,1001," ",null,0,93,0,1001," "]
[null,null,null,null,null,null,null,null,null,null,null,null,{"$f":"IF(Inventario!C104<>\"\",Inventario!C104,0)","v":0},94,0,1001," ",null,{"$f":"IF(Inventario!J104<>\"\",Inventario!J104,0)","v":0},94,0,1001," ",null,0,94,0,1001," "]
[null,null,null,null,null,null,null,null,null,null,null,null,{"$f":"IF(Inventario!C105<>\"\",Inventario!C105,0)","v":0},95,0,1001," ",null,{"$f":"IF(Inventario!J105<>\"\",Inventario!J105,0)","v":0},95,0,1001," ",null,0,95,0,1001," "]
[null,null,null,null,null,null,null,null,null,null,null,null,{"$f":"IF(Inventario!C106<>\"\",Inventario!C106,0)","v":0},96,0,1001," ",null,{"$f":"IF(Inventario!J106<>\"\",Inventario!J106,0)","v":0},96,0,1001," ",null,0,96,0,1001," "]
[null,null,null,null,null,null,null,null,null,null,null,null,{"$f":"IF(Inventario!C107<>\"\",Inventario!C107,0)","v":0},97,0,1001," ",null,{"$f":"IF(Inventario!J107<>\"\",Inventario!J107,0)","v":0},97,0,1001," ",null,0,97,0,1001," "]
[null,null,null,null,null,null,null,null,null,null,null,null,{"$f":"IF(Inventario!C108<>\"\",Inventario!C108,0)","v":0},98,0,1001," ",null,{"$f":"IF(Inventario!J108<>\"\",Inventario!J108,0)","v":0},98,0,1001," ",null,0,98,0,1001," "]
[null,null,null,null,null,null,null,null,null,null,null,null,{"$f":"IF(Inventario!C109<>\"\",Inventario!C109,0)","v":0},99,0,1001," ",null,{"$f":"IF(Inventario!J109<>\"\",Inventario!J109,0)","v":0},99,0,1001," ",null,0,99,0,1001," "]
[null,null,null,null,null,null,null,null,null,null,null,null,{"$f":"IF(Inventario!C110<>\"\",Inventario!C110,0)","v":0},100,0,1001," ",null,{"$f":"IF(Inventario!J110<>\"\",Inventario!J110,0)","v":0},100,0,1001," ",null,0,100,0,1001," "]
[null,null,null,null,null,null,null,null,null,null,null,null,{"$f":"IF(Inventario!C111<>\"\",Inventario!C111,0)","v":0},101,0,1001," ",null,{"$f":"IF(Inventario!J111<>\"\",Inventario!J111,0)","v":0},101,0,1001," ",null,0,101,0,1001," "]
[null,null,null,null,null,null,null,null,null,null,null,null,{"$f":"IF(Inventario!C112<>\"\",Inventario!C112,0)","v":0},102,0,1001," ",null,{"$f":"IF(Inventario!J112<>\"\",Inventario!J112,0)","v":0},102,0,1001," ",null,0,102,0,1001," "]
[null,null,null,null,null,null,null,null,null,null,null,null,{"$f":"IF(Inventario!C113<>\"\",Inventario!C113,0)","v":0},103,0,1001," ",null,{"$f":"IF(Inventario!J113<>\"\",Inventario!J113,0)","v":0},103,0,1001," ",null,0,103,0,1001," "]
[null,null,null,null,null,null,null,null,null,null,null,null,{"$f":"IF(Inventario!C114<>\"\",Inventario!C114,0)","v":0},104,0,1001," ",null,{"$f":"IF(Inventario!J114<>\"\",Inventario!J114,0)","v":0},104,0,1001," ",null,0,104,0,1001," "]
[null,null,null,null,null,null,null,null,null,null,null,null,{"$f":"IF(Inventario!C115<>\"\",Inventario!C115,0)","v":0},105,0,1001," ",null,{"$f":"IF(Inventario!J115<>\"\",Inventario!J115,0)","v":0},105,0,1001," ",null,0,105,0,1001," "]
[null,null,null,null,null,null,null,null,null,null,null,null,{"$f":"IF(Inventario!C116<>\"\",Inventario!C116,0)","v":0},106,0,1001," ",null,{"$f":"IF(Inventario!J116<>\"\",Inventario!J116,0)","v":0},106,0,1001," ",null,0,106,0,1001," "]
[null,null,null,null,null,null,null,null,null,null,null,null,{"$f":"IF(Inventario!C117<>\"\",Inventario!C117,0)","v":0},107,0,1001," ",null,{"$f":"IF(Inventario!J117<>\"\",Inventario!J117,0)","v":0},107,0,1001," ",null,0,107,0,1001," "]
[null,null,null,null,null,null,null,null,null,null,null,null,{"$f":"IF(Inventario!C118<>\"\",Inventario!C118,0)","v":0},108,0,1001," ",null,{"$f":"IF(Inventario!J118<>\"\",Inventario!J118,0)","v":0},108,0,1001," ",null,0,108,0,1001," "]
[null,null,null,null,null,null,null,null,null,null,null,null,{"$f":"IF(Inventario!C119<>\"\",Inventario!C119,0)","v":0},109,0,1001," ",null,{"$f":"IF(Inventario!J119<>\"\",Inventario!J119,0)","v":0},109,0,1001," ",null,0,109,0,1001," "]
[null,null,null,null,null,null,null,null,null,null,null,null,{"$f":"IF(Inventario!C120<>\"\",Inventario!C120,0)","v":0},110,0,1001," ",null,{"$f":"IF(Inventario!J120<>\"\",Inventario!J120,0)","v":0},110,0,1001," ",null,0,110,0,1001," "]
[null,null,null,null,null,null,null,null,null,null,null,null,{"$f":"IF(Inventario!C121<>\"\",Inventario!C121,0)","v":0},111,0,1001," ",null,{"$f":"IF(Inventario!J121<>\"\",Inventario!J121,0)","v":0},111,0,1001," ",null,0,111,0,1001," "]
[null,null,null,null,null,null,null,null,null,null,null,null,{"$f":"IF(Inventario!C122<>\"\",Inventario!C122,0)","v":0},112,0,1001," ",null,{"$f":"IF(Inventario!J122<>\"\",Inventario!J122,0)","v":0},112,0,1001," ",null,0,112,0,1001," "]
[null,null,null,null,null,null,null,null,null,null,null,null,{"$f":"IF(Inventario!C123<>\"\",Inventario!C123,0)","v":0},113,0,1001," ",null,{"$f":"IF(Inventario!J123<>\"\",Inventario!J123,0)","v":0},113,0,1001," ",null,0,113,0,1001," "]
[null,null,null,null,null,null,null,null,null,null,null,null,{"$f":"IF(Inventario!C124<>\"\",Inventario!C124,0)","v":0},114,0,1001," ",null,{"$f":"IF(Inventario!J124<>\"\",Inventario!J124,0)","v":0},114,0,1001," ",null,0,114,0,1001," "]
[null,null,null,null,null,null,null,null,null,null,null,null,{"$f":"IF(Inventario!C125<>\"\",Inventario!C125,0)","v":0},115,0,1001," ",null,{"$f":"IF(Inventario!J125<>\"\",Inventario!J125,0)","v":0},115,0,1001," ",null,0,115,0,1001," "]
[null,null,null,null,null,null,null,null,null,null,null,null,{"$f":"IF(Inventario!C126<>\"\",Inventario!C126,0)","v":0},116,0,1001," ",null,{"$f":"IF(Inventario!J126<>\"\",Inventario!J126,0)","v":0},116,0,1001," ",null,0,116,0,1001," "]
[null,null,null,null,null,null,null,null,null,null,null,null,{"$f":"IF(Inventario!C127<>\"\",Inventario!C127,0)","v":0},117,0,1001," ",null,{"$f":"IF(Inventario!J127<>\"\",Inventario!J127,0)","v":0},117,0,1001," ",null,0,117,0,1001," "]
[null,null,null,null,null,null,null,null,null,null,null,null,{"$f":"IF(Inventario!C128<>\"\",Inventario!C128,0)","v":0},118,0,1001," ",null,{"$f":"IF(Inventario!J128<>\"\",Inventario!J128,0)","v":0},118,0,1001," ",null,0,118,0,1001," "]
[null,null,null,null,null,null,null,null,null,null,null,null,{"$f":"IF(Inventario!C129<>\"\",Inventario!C129,0)","v":0},119,0,1001," ",null,{"$f":"IF(Inventario!J129<>\"\",Inventario!J129,0)","v":0},119,0,1001," ",null,0,119,0,1001," "]
[null,null,null,null,null,null,null,null,null,null,null,null,{"$f":"IF(Inventario!C130<>\"\",Inventario!C130,0)","v":0},120,0,1001," ",null,{"$f":"IF(Inventario!J130<>\"\",Inventario!J130,0)","v":0},120,0,1001," ",null,0,120,0,1001," "]
[null,null,null,null,null,null,null,null,null,null,null,null,{"$f":"IF(Inventario!C131<>\"\",Inventario!C131,0)","v":0},121,0,1001," ",null,{"$f":"IF(Inventario!J131<>\"\",Inventario!J131,0)","v":0},121,0,1001," ",null,0,121,0,1001," "]
[null,null,null,null,null,null,null,null,null,null,null,null,{"$f":"IF(Inventario!C132<>\"\",Inventario!C132,0)","v":0},122,0,1001," ",null,{"$f":"IF(Inventario!J132<>\"\",Inventario!J132,0)","v":0},122,0,1001," ",null,0,122,0,1001," "]
[null,null,null,null,null,null,null,null,null,null,null,null,{"$f":"IF(Inventario!C133<>\"\",Inventario!C133,0)","v":0},123,0,1001," ",null,{"$f":"IF(Inventario!J133<>\"\",Inventario!J133,0)","v":0},123,0,1001," ",null,0,123,0,1001," "]
[null,null,null,null,null,null,null,null,null,null,null,null,{"$f":"IF(Inventario!C134<>\"\",Inventario!C134,0)","v":0},124,0,1001," ",null,{"$f":"IF(Inventario!J134<>\"\",Inventario!J134,0)","v":0},124,0,1001," ",null,0,124,0,1001," "]
[null,null,null,null,null,null,null,null,null,null,null,null,{"$f":"IF(Inventario!C135<>\"\",Inventario!C135,0)","v":0},125,0,1001," ",null,{"$f":"IF(Inventario!J135<>\"\",Inventario!J135,0)","v":0},125,0,1001," ",null,0,125,0,1001," "]
[null,null,null,null,null,null,null,null,null,null,null,null,{"$f":"IF(Inventario!C136<>\"\",Inventario!C136,0)","v":0},126,0,1001," ",null,{"$f":"IF(Inventario!J136<>\"\",Inventario!J136,0)","v":0},126,0,1001," ",null,0,126,0,1001," "]
[null,null,null,null,null,null,null,null,null,null,null,null,{"$f":"IF(Inventario!C137<>\"\",Inventario!C137,0)","v":0},127,0,1001," ",null,{"$f":"IF(Inventario!J137<>\"\",Inventario!J137,0)","v":0},127,0,1001," ",null,0,127,0,1001," "]
[null,null,null,null,null,null,null,null,null,null,null,null,{"$f":"IF(Inventario!C138<>\"\",Inventario!C138,0)","v":0},128,0,1001," ",null,{"$f":"IF(Inventario!J138<>\"\",Inventario!J138,0)","v":0},128,0,1001," ",null,0,128,0,1001," "]
[null,null,null,null,null,null,null,null,null,null,null,null,{"$f":"IF(Inventario!C139<>\"\",Inventario!C139,0)","v":0},129,0,1001,{"$f":"IFERROR(VLOOKUP(SMALL($P$6:$P$1005,N134),$N$6:$O$1005,2,FALSE),\" \")","v":" "},null,{"$f":"IF(Inventario!J139<>\"\",Inventario!J139,0)","v":0},129,0,1001,{"$f":"IFERROR(VLOOKUP(SMALL($V$6:$V$1005,T134),$T$6:$U$1005,2,FALSE),\" \")","v":" "},null,0,129,0,1001,{"$f":"IFERROR(VLOOKUP(SMALL($AB$6:$AB$1005,Z134),$Z$6:$AA$1005,2,FALSE),\" \")","v":" "}]
[null,null,null,null,null,null,null,null,null,null,null,null,{"$f":"IF(Inventario!C140<>\"\",Inventario!C140,0)","v":0},130,{"$f":"M135","v":0},{"$f":"IF(O135=0,MAX($N$6:$N$1005)+1,N135)","v":1001}," ",null,{"$f":"IF(Inventario!J140<>\"\",Inventario!J140,0)","v":0},130,{"$f":"S135","v":0},{"$f":"IF(U135=0,MAX($T$6:$T$1005)+1,T135)","v":1001}," ",null,{"$f":"IF(AND(M135=0,S135=0),0,IF(AND(M135<>0,S135=0),M135,IF(AND(M135=0,S135<>0),S135,IF(AND(M135<>0,S135<>0),(CONCATENATE(M135,S135))))))","v":0},130,{"$f":"Y135","v":0},{"$f":"IF(AA135=0,MAX($Z$6:$Z$1005)+1,Z135)","v":1001}," "]
[null,null,null,null,null,null,null,null,null,null,null,null,{"$f":"IF(Inventario!C141<>\"\",Inventario!C141,0)","v":0},131,0,1001," ",null,{"$f":"IF(Inventario!J141<>\"\",Inventario!J141,0)","v":0},131,0,1001," ",null,0,131,0,1001," "]
[null,null,null,null,null,null,null,null,null,null,null,null,{"$f":"IF(Inventario!C142<>\"\",Inventario!C142,0)","v":0},132,0,1001," ",null,{"$f":"IF(Inventario!J142<>\"\",Inventario!J142,0)","v":0},132,0,1001," ",null,0,132,0,1001," "]
[null,null,null,null,null,null,null,null,null,null,null,null,{"$f":"IF(Inventario!C143<>\"\",Inventario!C143,0)","v":0},133,0,1001," ",null,{"$f":"IF(Inventario!J143<>\"\",Inventario!J143,0)","v":0},133,0,1001," ",null,0,133,0,1001," "]
[null,null,null,null,null,null,null,null,null,null,null,null,{"$f":"IF(Inventario!C144<>\"\",Inventario!C144,0)","v":0},134,0,1001," ",null,{"$f":"IF(Inventario!J144<>\"\",Inventario!J144,0)","v":0},134,0,1001," ",null,0,134,0,1001," "]
[null,null,null,null,null,null,null,null,null,null,null,null,{"$f":"IF(Inventario!C145<>\"\",Inventario!C145,0)","v":0},135,0,1001," ",null,{"$f":"IF(Inventario!J145<>\"\",Inventario!J145,0)","v":0},135,0,1001," ",null,0,135,0,1001," "]
[null,null,null,null,null,null,null,null,null,null,null,null,{"$f":"IF(Inventario!C146<>\"\",Inventario!C146,0)","v":0},136,0,1001," ",null,{"$f":"IF(Inventario!J146<>\"\",Inventario!J146,0)","v":0},136,0,1001," ",null,0,136,0,1001," "]
[null,null,null,null,null,null,null,null,null,null,null,null,{"$f":"IF(Inventario!C147<>\"\",Inventario!C147,0)","v":0},137,0,1001," ",null,{"$f":"IF(Inventario!J147<>\"\",Inventario!J147,0)","v":0},137,0,1001," ",null,0,137,0,1001," "]
[null,null,null,null,null,null,null,null,null,null,null,null,{"$f":"IF(Inventario!C148<>\"\",Inventario!C148,0)","v":0},138,0,1001," ",null,{"$f":"IF(Inventario!J148<>\"\",Inventario!J148,0)","v":0},138,0,1001," ",null,0,138,0,1001," "]
[null,null,null,null,null,null,null,null,null,null,null,null,{"$f":"IF(Inventario!C149<>\"\",Inventario!C149,0)","v":0},139,0,1001," ",null,{"$f":"IF(Inventario!J149<>\"\",Inventario!J149,0)","v":0},139,0,1001," ",null,0,139,0,1001," "]
[null,null,null,null,null,null,null,null,null,null,null,null,{"$f":"IF(Inventario!C150<>\"\",Inventario!C150,0)","v":0},140,0,1001," ",null,{"$f":"IF(Inventario!J150<>\"\",Inventario!J150,0)","v":0},140,0,1001," ",null,0,140,0,1001," "]
[null,null,null,null,null,null,null,null,null,null,null,null,{"$f":"IF(Inventario!C151<>\"\",Inventario!C151,0)","v":0},141,0,1001," ",null,{"$f":"IF(Inventario!J151<>\"\",Inventario!J151,0)","v":0},141,0,1001," ",null,0,141,0,1001," "]
[null,null,null,null,null,null,null,null,null,null,null,null,{"$f":"IF(Inventario!C152<>\"\",Inventario!C152,0)","v":0},142,0,1001," ",null,{"$f":"IF(Inventario!J152<>\"\",Inventario!J152,0)","v":0},142,0,1001," ",null,0,142,0,1001," "]
[null,null,null,null,null,null,null,null,null,null,null,null,{"$f":"IF(Inventario!C153<>\"\",Inventario!C153,0)","v":0},143,0,1001," ",null,{"$f":"IF(Inventario!J153<>\"\",Inventario!J153,0)","v":0},143,0,1001," ",null,0,143,0,1001," "]
[null,null,null,null,null,null,null,null,null,null,null,null,{"$f":"IF(Inventario!C154<>\"\",Inventario!C154,0)","v":0},144,0,1001," ",null,{"$f":"IF(Inventario!J154<>\"\",Inventario!J154,0)","v":0},144,0,1001," ",null,0,144,0,1001," "]
[null,null,null,null,null,null,null,null,null,null,null,null,{"$f":"IF(Inventario!C155<>\"\",Inventario!C155,0)","v":0},145,0,1001," ",null,{"$f":"IF(Inventario!J155<>\"\",Inventario!J155,0)","v":0},145,0,1001," ",null,0,145,0,1001," "]
[null,null,null,null,null,null,null,null,null,null,null,null,{"$f":"IF(Inventario!C156<>\"\",Inventario!C156,0)","v":0},146,0,1001," ",null,{"$f":"IF(Inventario!J156<>\"\",Inventario!J156,0)","v":0},146,0,1001," ",null,0,146,0,1001," "]
[null,null,null,null,null,null,null,null,null,null,null,null,{"$f":"IF(Inventario!C157<>\"\",Inventario!C157,0)","v":0},147,0,1001," ",null,{"$f":"IF(Inventario!J157<>\"\",Inventario!J157,0)","v":0},147,0,1001," ",null,0,147,0,1001," "]
[null,null,null,null,null,null,null,null,null,null,null,null,{"$f":"IF(Inventario!C158<>\"\",Inventario!C158,0)","v":0},148,0,1001," ",null,{"$f":"IF(Inventario!J158<>\"\",Inventario!J158,0)","v":0},148,0,1001," ",null,0,148,0,1001," "]
[null,null,null,null,null,null,null,null,null,null,null,null,{"$f":"IF(Inventario!C159<>\"\",Inventario!C159,0)","v":0},149,0,1001," ",null,{"$f":"IF(Inventario!J159<>\"\",Inventario!J159,0)","v":0},149,0,1001," ",null,0,149,0,1001," "]
[null,null,null,null,null,null,null,null,null,null,null,null,{"$f":"IF(Inventario!C160<>\"\",Inventario!C160,0)","v":0},150,0,1001," ",null,{"$f":"IF(Inventario!J160<>\"\",Inventario!J160,0)","v":0},150,0,1001," ",null,0,150,0,1001," "]
[null,null,null,null,null,null,null,null,null,null,null,null,{"$f":"IF(Inventario!C161<>\"\",Inventario!C161,0)","v":0},151,0,1001," ",null,{"$f":"IF(Inventario!J161<>\"\",Inventario!J161,0)","v":0},151,0,1001," ",null,0,151,0,1001," "]
[null,null,null,null,null,null,null,null,null,null,null,null,{"$f":"IF(Inventario!C162<>\"\",Inventario!C162,0)","v":0},152,0,1001," ",null,{"$f":"IF(Inventario!J162<>\"\",Inventario!J162,0)","v":0},152,0,1001," ",null,0,152,0,1001," "]
[null,null,null,null,null,null,null,null,null,null,null,null,{"$f":"IF(Inventario!C163<>\"\",Inventario!C163,0)","v":0},153,0,1001," ",null,{"$f":"IF(Inventario!J163<>\"\",Inventario!J163,0)","v":0},153,0,1001," ",null,0,153,0,1001," "]
[null,null,null,null,null,null,null,null,null,null,null,null,{"$f":"IF(Inventario!C164<>\"\",Inventario!C164,0)","v":0},154,0,1001," ",null,{"$f":"IF(Inventario!J164<>\"\",Inventario!J164,0)","v":0},154,0,1001," ",null,0,154,0,1001," "]
[null,null,null,null,null,null,null,null,null,null,null,null,{"$f":"IF(Inventario!C165<>\"\",Inventario!C165,0)","v":0},155,0,1001," ",null,{"$f":"IF(Inventario!J165<>\"\",Inventario!J165,0)","v":0},155,0,1001," ",null,0,155,0,1001," "]
[null,null,null,null,null,null,null,null,null,null,null,null,{"$f":"IF(Inventario!C166<>\"\",Inventario!C166,0)","v":0},156,0,1001," ",null,{"$f":"IF(Inventario!J166<>\"\",Inventario!J166,0)","v":0},156,0,1001," ",null,0,156,0,1001," "]
[null,null,null,null,null,null,null,null,null,null,null,null,{"$f":"IF(Inventario!C167<>\"\",Inventario!C167,0)","v":0},157,0,1001," ",null,{"$f":"IF(Inventario!J167<>\"\",Inventario!J167,0)","v":0},157,0,1001," ",null,0,157,0,1001," "]
[null,null,null,null,null,null,null,null,null,null,null,null,{"$f":"IF(Inventario!C168<>\"\",Inventario!C168,0)","v":0},158,0,1001," ",null,{"$f":"IF(Inventario!J168<>\"\",Inventario!J168,0)","v":0},158,0,1001," ",null,0,158,0,1001," "]
[null,null,null,null,null,null,null,null,null,null,null,null,{"$f":"IF(Inventario!C169<>\"\",Inventario!C169,0)","v":0},159,0,1001," ",null,{"$f":"IF(Inventario!J169<>\"\",Inventario!J169,0)","v":0},159,0,1001," ",null,0,159,0,1001," "]
[null,null,null,null,null,null,null,null,null,null,null,null,{"$f":"IF(Inventario!C170<>\"\",Inventario!C170,0)","v":0},160,0,1001," ",null,{"$f":"IF(Inventario!J170<>\"\",Inventario!J170,0)","v":0},160,0,1001," ",null,0,160,0,1001," "]
[null,null,null,null,null,null,null,null,null,null,null,null,{"$f":"IF(Inventario!C171<>\"\",Inventario!C171,0)","v":0},161,0,1001," ",null,{"$f":"IF(Inventario!J171<>\"\",Inventario!J171,0)","v":0},161,0,1001," ",null,0,161,0,1001," "]
[null,null,null,null,null,null,null,null,null,null,null,null,{"$f":"IF(Inventario!C172<>\"\",Inventario!C172,0)","v":0},162,0,1001," ",null,{"$f":"IF(Inventario!J172<>\"\",Inventario!J172,0)","v":0},162,0,1001," ",null,0,162,0,1001," "]
[null,null,null,null,null,null,null,null,null,null,null,null,{"$f":"IF(Inventario!C173<>\"\",Inventario!C173,0)","v":0},163,0,1001," ",null,{"$f":"IF(Inventario!J173<>\"\",Inventario!J173,0)","v":0},163,0,1001," ",null,0,163,0,1001," "]
[null,null,null,null,null,null,null,null,null,null,null,null,{"$f":"IF(Inventario!C174<>\"\",Inventario!C174,0)","v":0},164,0,1001," ",null,{"$f":"IF(Inventario!J174<>\"\",Inventario!J174,0)","v":0},164,0,1001," ",null,0,164,0,1001," "]
[null,null,null,null,null,null,null,null,null,null,null,null,{"$f":"IF(Inventario!C175<>\"\",Inventario!C175,0)","v":0},165,0,1001," ",null,{"$f":"IF(Inventario!J175<>\"\",Inventario!J175,0)","v":0},165,0,1001," ",null,0,165,0,1001," "]
[null,null,null,null,null,null,null,null,null,null,null,null,{"$f":"IF(Inventario!C176<>\"\",Inventario!C176,0)","v":0},166,0,1001," ",null,{"$f":"IF(Inventario!J176<>\"\",Inventario!J176,0)","v":0},166,0,1001," ",null,0,166,0,1001," "]
[null,null,null,null,null,null,null,null,null,null,null,null,{"$f":"IF(Inventario!C177<>\"\",Inventario!C177,0)","v":0},167,0,1001," ",null,{"$f":"IF(Inventario!J177<>\"\",Inventario!J177,0)","v":0},167,0,1001," ",null,0,167,0,1001," "]
[null,null,null,null,null,null,null,null,null,null,null,null,{"$f":"IF(Inventario!C178<>\"\",Inventario!C178,0)","v":0},168,0,1001," ",null,{"$f":"IF(Inventario!J178<>\"\",Inventario!J178,0)","v":0},168,0,1001," ",null,0,168,0,1001," "]
[null,null,null,null,null,null,null,null,null,null,null,null,{"$f":"IF(Inventario!C179<>\"\",Inventario!C179,0)","v":0},169,0,1001," ",null,{"$f":"IF(Inventario!J179<>\"\",Inventario!J179,0)","v":0},169,0,1001," ",null,0,169,0,1001," "]
[null,null,null,null,null,null,null,null,null,null,null,null,{"$f":"IF(Inventario!C180<>\"\",Inventario!C180,0)","v":0},170,0,1001," ",null,{"$f":"IF(Inventario!J180<>\"\",Inventario!J180,0)","v":0},170,0,1001," ",null,0,170,0,1001," "]
[null,null,null,null,null,null,null,null,null,null,null,null,{"$f":"IF(Inventario!C181<>\"\",Inventario!C181,0)","v":0},171,0,1001," ",null,{"$f":"IF(Inventario!J181<>\"\",Inventario!J181,0)","v":0},171,0,1001," ",null,0,171,0,1001," "]
[null,null,null,null,null,null,null,null,null,null,null,null,{"$f":"IF(Inventario!C182<>\"\",Inventario!C182,0)","v":0},172,0,1001," ",null,{"$f":"IF(Inventario!J182<>\"\",Inventario!J182,0)","v":0},172,0,1001," ",null,0,172,0,1001," "]
[null,null,null,null,null,null,null,null,null,null,null,null,{"$f":"IF(Inventario!C183<>\"\",Inventario!C183,0)","v":0},173,0,1001," ",null,{"$f":"IF(Inventario!J183<>\"\",Inventario!J183,0)","v":0},173,0,1001," ",null,0,173,0,1001," "]
[null,null,null,null,null,null,null,null,null,null,null,null,{"$f":"IF(Inventario!C184<>\"\",Inventario!C184,0)","v":0},174,0,1001," ",null,{"$f":"IF(Inventario!J184<>\"\",Inventario!J184,0)","v":0},174,0,1001," ",null,0,174,0,1001," "]
[null,null,null,null,null,null,null,null,null,null,null,null,{"$f":"IF(Inventario!C185<>\"\",Inventario!C185,0)","v":0},175,0,1001," ",null,{"$f":"IF(Inventario!J185<>\"\",Inventario!J185,0)","v":0},175,0,1001," ",null,0,175,0,1001," "]
[null,null,null,null,null,null,null,null,null,null,null,null,{"$f":"IF(Inventario!C186<>\"\",Inventario!C186,0)","v":0},176,0,1001," ",null,{"$f":"IF(Inventario!J186<>\"\",Inventario!J186,0)","v":0},176,0,1001," ",null,0,176,0,1001," "]
[null,null,null,null,null,null,null,null,null,null,null,null,{"$f":"IF(Inventario!C187<>\"\",Inventario!C187,0)","v":0},177,0,1001," ",null,{"$f":"IF(Inventario!J187<>\"\",Inventario!J187,0)","v":0},177,0,1001," ",null,0,177,0,1001," "]
[null,null,null,null,null,null,null,null,null,null,null,null,{"$f":"IF(Inventario!C188<>\"\",Inventario!C188,0)","v":0},178,0,1001," ",null,{"$f":"IF(Inventario!J188<>\"\",Inventario!J188,0)","v":0},178,0,1001," ",null,0,178,0,1001," "]
[null,null,null,null,null,null,null,null,null,null,null,null,{"$f":"IF(Inventario!C189<>\"\",Inventario!C189,0)","v":0},179,0,1001," ",null,{"$f":"IF(Inventario!J189<>\"\",Inventario!J189,0)","v":0},179,0,1001," ",null,0,179,0,1001," "]
[null,null,null,null,null,null,null,null,null,null,null,null,{"$f":"IF(Inventario!C190<>\"\",Inventario!C190,0)","v":0},180,0,1001," ",null,{"$f":"IF(Inventario!J190<>\"\",Inventario!J190,0)","v":0},180,0,1001," ",null,0,180,0,1001," "]
[null,null,null,null,null,null,null,null,null,null,null,null,{"$f":"IF(Inventario!C191<>\"\",Inventario!C191,0)","v":0},181,0,1001," ",null,{"$f":"IF(Inventario!J191<>\"\",Inventario!J191,0)","v":0},181,0,1001," ",null,0,181,0,1001," "]
[null,null,null,null,null,null,null,null,null,null,null,null,{"$f":"IF(Inventario!C192<>\"\",Inventario!C192,0)","v":0},182,0,1001," ",null,{"$f":"IF(Inventario!J192<>\"\",Inventario!J192,0)","v":0},182,0,1001," ",null,0,182,0,1001," "]
[null,null,null,null,null,null,null,null,null,null,null,null,{"$f":"IF(Inventario!C193<>\"\",Inventario!C193,0)","v":0},183,0,1001," ",null,{"$f":"IF(Inventario!J193<>\"\",Inventario!J193,0)","v":0},183,0,1001," ",null,0,183,0,1001," "]
[null,null,null,null,null,null,null,null,null,null,null,null,{"$f":"IF(Inventario!C194<>\"\",Inventario!C194,0)","v":0},184,0,1001," ",null,{"$f":"IF(Inventario!J194<>\"\",Inventario!J194,0)","v":0},184,0,1001," ",null,0,184,0,1001," "]
[null,null,null,null,null,null,null,null,null,null,null,null,{"$f":"IF(Inventario!C195<>\"\",Inventario!C195,0)","v":0},185,0,1001," ",null,{"$f":"IF(Inventario!J195<>\"\",Inventario!J195,0)","v":0},185,0,1001," ",null,0,185,0,1001," "]
[null,null,null,null,null,null,null,null,null,null,null,null,{"$f":"IF(Inventario!C196<>\"\",Inventario!C196,0)","v":0},186,0,1001," ",null,{"$f":"IF(Inventario!J196<>\"\",Inventario!J196,0)","v":0},186,0,1001," ",null,0,186,0,1001," "]
[null,null,null,null,null,null,null,null,null,null,null,null,{"$f":"IF(Inventario!C197<>\"\",Inventario!C197,0)","v":0},187,0,1001," ",null,{"$f":"IF(Inventario!J197<>\"\",Inventario!J197,0)","v":0},187,0,1001," ",null,0,187,0,1001," "]
[null,null,null,null,null,null,null,null,null,null,null,null,{"$f":"IF(Inventario!C198<>\"\",Inventario!C198,0)","v":0},188,0,1001," ",null,{"$f":"IF(Inventario!J198<>\"\",Inventario!J198,0)","v":0},188,0,1001," ",null,0,188,0,1001," "]
[null,null,null,null,null,null,null,null,null,null,null,null,{"$f":"IF(Inventario!C199<>\"\",Inventario!C199,0)","v":0},189,0,1001," ",null,{"$f":"IF(Inventario!J199<>\"\",Inventario!J199,0)","v":0},189,0,1001," ",null,0,189,0,1001," "]
[null,null,null,null,null,null,null,null,null,null,null,null,{"$f":"IF(Inventario!C200<>\"\",Inventario!C200,0)","v":0},190,0,1001," ",null,{"$f":"IF(Inventario!J200<>\"\",Inventario!J200,0)","v":0},190,0,1001," ",null,0,190,0,1001," "]
[null,null,null,null,null,null,null,null,null,null,null,null,{"$f":"IF(Inventario!C201<>\"\",Inventario!C201,0)","v":0},191,0,1001," ",null,{"$f":"IF(Inventario!J201<>\"\",Inventario!J201,0)","v":0},191,0,1001," ",null,0,191,0,1001," "]
[null,null,null,null,null,null,null,null,null,null,null,null,{"$f":"IF(Inventario!C202<>\"\",Inventario!C202,0)","v":0},192,0,1001," ",null,{"$f":"IF(Inventario!J202<>\"\",Inventario!J202,0)","v":0},192,0,1001," ",null,0,192,0,1001," "]
[null,null,null,null,null,null,null,null,null,null,null,null,{"$f":"IF(Inventario!C203<>\"\",Inventario!C203,0)","v":0},193,0,1001,{"$f":"IFERROR(VLOOKUP(SMALL($P$6:$P$1005,N198),$N$6:$O$1005,2,FALSE),\" \")","v":" "},null,{"$f":"IF(Inventario!J203<>\"\",Inventario!J203,0)","v":0},193,0,1001,{"$f":"IFERROR(VLOOKUP(SMALL($V$6:$V$1005,T198),$T$6:$U$1005,2,FALSE),\" \")","v":" "},null,0,193,0,1001,{"$f":"IFERROR(VLOOKUP(SMALL($AB$6:$AB$1005,Z198),$Z$6:$AA$1005,2,FALSE),\" \")","v":" "}]
[null,null,null,null,null,null,null,null,null,null,null,null,{"$f":"IF(Inventario!C204<>\"\",Inventario!C204,0)","v":0},194,{"$f":"M199","v":0},{"$f":"IF(O199=0,MAX($N$6:$N$1005)+1,N199)","v":1001}," ",null,{"$f":"IF(Inventario!J204<>\"\",Inventario!J204,0)","v":0},194,{"$f":"S199","v":0},{"$f":"IF(U199=0,MAX($T$6:$T$1005)+1,T199)","v":1001}," ",null,{"$f":"IF(AND(M199=0,S199=0),0,IF(AND(M199<>0,S199=0),M199,IF(AND(M199=0,S199<>0),S199,IF(AND(M199<>0,S199<>0),(CONCATENATE(M199,S199))))))","v":0},194,{"$f":"Y199","v":0},{"$f":"IF(AA199=0,MAX($Z$6:$Z$1005)+1,Z199)","v":1001}," "]
[null,null,null,null,null,null,null,null,null,null,null,null,{"$f":"IF(Inventario!C205<>\"\",Inventario!C205,0)","v":0},195,0,1001," ",null,{"$f":"IF(Inventario!J205<>\"\",Inventario!J205,0)","v":0},195,0,1001," ",null,0,195,0,1001," "]
[null,null,null,null,null,null,null,null,null,null,null,null,{"$f":"IF(Inventario!C206<>\"\",Inventario!C206,0)","v":0},196,0,1001," ",null,{"$f":"IF(Inventario!J206<>\"\",Inventario!J206,0)","v":0},196,0,1001," ",null,0,196,0,1001," "]
[null,null,null,null,null,null,null,null,null,null,null,null,{"$f":"IF(Inventario!C207<>\"\",Inventario!C207,0)","v":0},197,0,1001," ",null,{"$f":"IF(Inventario!J207<>\"\",Inventario!J207,0)","v":0},197,0,1001," ",null,0,197,0,1001," "]
[null,null,null,null,null,null,null,null,null,null,null,null,{"$f":"IF(Inventario!C208<>\"\",Inventario!C208,0)","v":0},198,0,1001," ",null,{"$f":"IF(Inventario!J208<>\"\",Inventario!J208,0)","v":0},198,0,1001," ",null,0,198,0,1001," "]
[null,null,null,null,null,null,null,null,null,null,null,null,{"$f":"IF(Inventario!C209<>\"\",Inventario!C209,0)","v":0},199,0,1001," ",null,{"$f":"IF(Inventario!J209<>\"\",Inventario!J209,0)","v":0},199,0,1001," ",null,0,199,0,1001," "]
[null,null,null,null,null,null,null,null,null,null,null,null,{"$f":"IF(Inventario!C210<>\"\",Inventario!C210,0)","v":0},200,0,1001," ",null,{"$f":"IF(Inventario!J210<>\"\",Inventario!J210,0)","v":0},200,0,1001," ",null,0,200,0,1001," "]
[null,null,null,null,null,null,null,null,null,null,null,null,{"$f":"IF(Inventario!C211<>\"\",Inventario!C211,0)","v":0},201,0,1001," ",null,{"$f":"IF(Inventario!J211<>\"\",Inventario!J211,0)","v":0},201,0,1001," ",null,0,201,0,1001," "]
[null,null,null,null,null,null,null,null,null,null,null,null,{"$f":"IF(Inventario!C212<>\"\",Inventario!C212,0)","v":0},202,0,1001," ",null,{"$f":"IF(Inventario!J212<>\"\",Inventario!J212,0)","v":0},202,0,1001," ",null,0,202,0,1001," "]
[null,null,null,null,null,null,null,null,null,null,null,null,{"$f":"IF(Inventario!C213<>\"\",Inventario!C213,0)","v":0},203,0,1001," ",null,{"$f":"IF(Inventario!J213<>\"\",Inventario!J213,0)","v":0},203,0,1001," ",null,0,203,0,1001," "]
[null,null,null,null,null,null,null,null,null,null,null,null,{"$f":"IF(Inventario!C214<>\"\",Inventario!C214,0)","v":0},204,0,1001," ",null,{"$f":"IF(Inventario!J214<>\"\",Inventario!J214,0)","v":0},204,0,1001," ",null,0,204,0,1001," "]
[null,null,null,null,null,null,null,null,null,null,null,null,{"$f":"IF(Inventario!C215<>\"\",Inventario!C215,0)","v":0},205,0,1001," ",null,{"$f":"IF(Inventario!J215<>\"\",Inventario!J215,0)","v":0},205,0,1001," ",null,0,205,0,1001," "]
[null,null,null,null,null,null,null,null,null,null,null,null,{"$f":"IF(Inventario!C216<>\"\",Inventario!C216,0)","v":0},206,0,1001," ",null,{"$f":"IF(Inventario!J216<>\"\",Inventario!J216,0)","v":0},206,0,1001," ",null,0,206,0,1001," "]
[null,null,null,null,null,null,null,null,null,null,null,null,{"$f":"IF(Inventario!C217<>\"\",Inventario!C217,0)","v":0},207,0,1001," ",null,{"$f":"IF(Inventario!J217<>\"\",Inventario!J217,0)","v":0},207,0,1001," ",null,0,207,0,1001," "]
[null,null,null,null,null,null,null,null,null,null,null,null,{"$f":"IF(Inventario!C218<>\"\",Inventario!C218,0)","v":0},208,0,1001," ",null,{"$f":"IF(Inventario!J218<>\"\",Inventario!J218,0)","v":0},208,0,1001," ",null,0,208,0,1001," "]
[null,null,null,null,null,null,null,null,null,null,null,null,{"$f":"IF(Inventario!C219<>\"\",Inventario!C219,0)","v":0},209,0,1001," ",null,{"$f":"IF(Inventario!J219<>\"\",Inventario!J219,0)","v":0},209,0,1001," ",null,0,209,0,1001," "]
[null,null,null,null,null,null,null,null,null,null,null,null,{"$f":"IF(Inventario!C220<>\"\",Inventario!C220,0)","v":0},210,0,1001," ",null,{"$f":"IF(Inventario!J220<>\"\",Inventario!J220,0)","v":0},210,0,1001," ",null,0,210,0,1001," "]
[null,null,null,null,null,null,null,null,null,null,null,null,{"$f":"IF(Inventario!C221<>\"\",Inventario!C221,0)","v":0},211,0,1001," ",null,{"$f":"IF(Inventario!J221<>\"\",Inventario!J221,0)","v":0},211,0,1001," ",null,0,211,0,1001," "]
[null,null,null,null,null,null,null,null,null,null,null,null,{"$f":"IF(Inventario!C222<>\"\",Inventario!C222,0)","v":0},212,0,1001," ",null,{"$f":"IF(Inventario!J222<>\"\",Inventario!J222,0)","v":0},212,0,1001," ",null,0,212,0,1001," "]
[null,null,null,null,null,null,null,null,null,null,null,null,{"$f":"IF(Inventario!C223<>\"\",Inventario!C223,0)","v":0},213,0,1001," ",null,{"$f":"IF(Inventario!J223<>\"\",Inventario!J223,0)","v":0},213,0,1001," ",null,0,213,0,1001," "]
[null,null,null,null,null,null,null,null,null,null,null,null,{"$f":"IF(Inventario!C224<>\"\",Inventario!C224,0)","v":0},214,0,1001," ",null,{"$f":"IF(Inventario!J224<>\"\",Inventario!J224,0)","v":0},214,0,1001," ",null,0,214,0,1001," "]
[null,null,null,null,null,null,null,null,null,null,null,null,{"$f":"IF(Inventario!C225<>\"\",Inventario!C225,0)","v":0},215,0,1001," ",null,{"$f":"IF(Inventario!J225<>\"\",Inventario!J225,0)","v":0},215,0,1001," ",null,0,215,0,1001," "]
[null,null,null,null,null,null,null,null,null,null,null,null,{"$f":"IF(Inventario!C226<>\"\",Inventario!C226,0)","v":0},216,0,1001," ",null,{"$f":"IF(Inventario!J226<>\"\",Inventario!J226,0)","v":0},216,0,1001," ",null,0,216,0,1001," "]
[null,null,null,null,null,null,null,null,null,null,null,null,{"$f":"IF(Inventario!C227<>\"\",Inventario!C227,0)","v":0},217,0,1001," ",null,{"$f":"IF(Inventario!J227<>\"\",Inventario!J227,0)","v":0},217,0,1001," ",null,0,217,0,1001," "]
[null,null,null,null,null,null,null,null,null,null,null,null,{"$f":"IF(Inventario!C228<>\"\",Inventario!C228,0)","v":0},218,0,1001," ",null,{"$f":"IF(Inventario!J228<>\"\",Inventario!J228,0)","v":0},218,0,1001," ",null,0,218,0,1001," "]
[null,null,null,null,null,null,null,null,null,null,null,null,{"$f":"IF(Inventario!C229<>\"\",Inventario!C229,0)","v":0},219,0,1001," ",null,{"$f":"IF(Inventario!J229<>\"\",Inventario!J229,0)","v":0},219,0,1001," ",null,0,219,0,1001," "]
[null,null,null,null,null,null,null,null,null,null,null,null,{"$f":"IF(Inventario!C230<>\"\",Inventario!C230,0)","v":0},220,0,1001," ",null,{"$f":"IF(Inventario!J230<>\"\",Inventario!J230,0)","v":0},220,0,1001," ",null,0,220,0,1001," "]
[null,null,null,null,null,null,null,null,null,null,null,null,{"$f":"IF(Inventario!C231<>\"\",Inventario!C231,0)","v":0},221,0,1001," ",null,{"$f":"IF(Inventario!J231<>\"\",Inventario!J231,0)","v":0},221,0,1001," ",null,0,221,0,1001," "]
[null,null,null,null,null,null,null,null,null,null,null,null,{"$f":"IF(Inventario!C232<>\"\",Inventario!C232,0)","v":0},222,0,1001," ",null,{"$f":"IF(Inventario!J232<>\"\",Inventario!J232,0)","v":0},222,0,1001," ",null,0,222,0,1001," "]
[null,null,null,null,null,null,null,null,null,null,null,null,{"$f":"IF(Inventario!C233<>\"\",Inventario!C233,0)","v":0},223,0,1001," ",null,{"$f":"IF(Inventario!J233<>\"\",Inventario!J233,0)","v":0},223,0,1001," ",null,0,223,0,1001," "]
[null,null,null,null,null,null,null,null,null,null,null,null,{"$f":"IF(Inventario!C234<>\"\",Inventario!C234,0)","v":0},224,0,1001," ",null,{"$f":"IF(Inventario!J234<>\"\",Inventario!J234,0)","v":0},224,0,1001," ",null,0,224,0,1001," "]
[null,null,null,null,null,null,null,null,null,null,null,null,{"$f":"IF(Inventario!C235<>\"\",Inventario!C235,0)","v":0},225,0,1001," ",null,{"$f":"IF(Inventario!J235<>\"\",Inventario!J235,0)","v":0},225,0,1001," ",null,0,225,0,1001," "]
[null,null,null,null,null,null,null,null,null,null,null,null,{"$f":"IF(Inventario!C236<>\"\",Inventario!C236,0)","v":0},226,0,1001," ",null,{"$f":"IF(Inventario!J236<>\"\",Inventario!J236,0)","v":0},226,0,1001," ",null,0,226,0,1001," "]
[null,null,null,null,null,null,null,null,null,null,null,null,{"$f":"IF(Inventario!C237<>\"\",Inventario!C237,0)","v":0},227,0,1001," ",null,{"$f":"IF(Inventario!J237<>\"\",Inventario!J237,0)","v":0},227,0,1001," ",null,0,227,0,1001," "]
[null,null,null,null,null,null,null,null,null,null,null,null,{"$f":"IF(Inventario!C238<>\"\",Inventario!C238,0)","v":0},228,0,1001," ",null,{"$f":"IF(Inventario!J238<>\"\",Inventario!J238,0)","v":0},228,0,1001," ",null,0,228,0,1001," "]
[null,null,null,null,null,null,null,null,null,null,null,null,{"$f":"IF(Inventario!C239<>\"\",Inventario!C239,0)","v":0},229,0,1001," ",null,{"$f":"IF(Inventario!J239<>\"\",Inventario!J239,0)","v":0},229,0,1001," ",null,0,229,0,1001," "]
[null,null,null,null,null,null,null,null,null,null,null,null,{"$f":"IF(Inventario!C240<>\"\",Inventario!C240,0)","v":0},230,0,1001," ",null,{"$f":"IF(Inventario!J240<>\"\",Inventario!J240,0)","v":0},230,0,1001," ",null,0,230,0,1001," "]
[null,null,null,null,null,null,null,null,null,null,null,null,{"$f":"IF(Inventario!C241<>\"\",Inventario!C241,0)","v":0},231,0,1001," ",null,{"$f":"IF(Inventario!J241<>\"\",Inventario!J241,0)","v":0},231,0,1001," ",null,0,231,0,1001," "]
[null,null,null,null,null,null,null,null,null,null,null,null,{"$f":"IF(Inventario!C242<>\"\",Inventario!C242,0)","v":0},232,0,1001," ",null,{"$f":"IF(Inventario!J242<>\"\",Inventario!J242,0)","v":0},232,0,1001," ",null,0,232,0,1001," "]
[null,null,null,null,null,null,null,null,null,null,null,null,{"$f":"IF(Inventario!C243<>\"\",Inventario!C243,0)","v":0},233,0,1001," ",null,{"$f":"IF(Inventario!J243<>\"\",Inventario!J243,0)","v":0},233,0,1001," ",null,0,233,0,1001," "]
[null,null,null,null,null,null,null,null,null,null,null,null,{"$f":"IF(Inventario!C244<>\"\",Inventario!C244,0)","v":0},234,0,1001," ",null,{"$f":"IF(Inventario!J244<>\"\",Inventario!J244,0)","v":0},234,0,1001," ",null,0,234,0,1001," "]
[null,null,null,null,null,null,null,null,null,null,null,null,{"$f":"IF(Inventario!C245<>\"\",Inventario!C245,0)","v":0},235,0,1001," ",null,{"$f":"IF(Inventario!J245<>\"\",Inventario!J245,0)","v":0},235,0,1001," ",null,0,235,0,1001," "]
[null,null,null,null,null,null,null,null,null,null,null,null,{"$f":"IF(Inventario!C246<>\"\",Inventario!C246,0)","v":0},236,0,1001," ",null,{"$f":"IF(Inventario!J246<>\"\",Inventario!J246,0)","v":0},236,0,1001," ",null,0,236,0,1001," "]
[null,null,null,null,null,null,null,null,null,null,null,null,{"$f":"IF(Inventario!C247<>\"\",Inventario!C247,0)","v":0},237,0,1001," ",null,{"$f":"IF(Inventario!J247<>\"\",Inventario!J247,0)","v":0},237,0,1001," ",null,0,237,0,1001," "]
[null,null,null,null,null,null,null,null,null,null,null,null,{"$f":"IF(Inventario!C248<>\"\",Inventario!C248,0)","v":0},238,0,1001," ",null,{"$f":"IF(Inventario!J248<>\"\",Inventario!J248,0)","v":0},238,0,1001," ",null,0,238,0,1001," "]
[null,null,null,null,null,null,null,null,null,null,null,null,{"$f":"IF(Inventario!C249<>\"\",Inventario!C249,0)","v":0},239,0,1001," ",null,{"$f":"IF(Inventario!J249<>\"\",Inventario!J249,0)","v":0},239,0,1001," ",null,0,239,0,1001," "]
[null,null,null,null,null,null,null,null,null,null,null,null,{"$f":"IF(Inventario!C250<>\"\",Inventario!C250,0)","v":0},240,0,1001," ",null,{"$f":"IF(Inventario!J250<>\"\",Inventario!J250,0)","v":0},240,0,1001," ",null,0,240,0,1001," "]
[null,null,null,null,null,null,null,null,null,null,null,null,{"$f":"IF(Inventario!C251<>\"\",Inventario!C251,0)","v":0},241,0,1001," ",null,{"$f":"IF(Inventario!J251<>\"\",Inventario!J251,0)","v":0},241,0,1001," ",null,0,241,0,1001," "]
[null,null,null,null,null,null,null,null,null,null,null,null,{"$f":"IF(Inventario!C252<>\"\",Inventario!C252,0)","v":0},242,0,1001," ",null,{"$f":"IF(Inventario!J252<>\"\",Inventario!J252,0)","v":0},242,0,1001," ",null,0,242,0,1001," "]
[null,null,null,null,null,null,null,null,null,null,null,null,{"$f":"IF(Inventario!C253<>\"\",Inventario!C253,0)","v":0},243,0,1001," ",null,{"$f":"IF(Inventario!J253<>\"\",Inventario!J253,0)","v":0},243,0,1001," ",null,0,243,0,1001," "]
[null,null,null,null,null,null,null,null,null,null,null,null,{"$f":"IF(Inventario!C254<>\"\",Inventario!C254,0)","v":0},244,0,1001," ",null,{"$f":"IF(Inventario!J254<>\"\",Inventario!J254,0)","v":0},244,0,1001," ",null,0,244,0,1001," "]
[null,null,null,null,null,null,null,null,null,null,null,null,{"$f":"IF(Inventario!C255<>\"\",Inventario!C255,0)","v":0},245,0,1001," ",null,{"$f":"IF(Inventario!J255<>\"\",Inventario!J255,0)","v":0},245,0,1001," ",null,0,245,0,1001," "]
[null,null,null,null,null,null,null,null,null,null,null,null,{"$f":"IF(Inventario!C256<>\"\",Inventario!C256,0)","v":0},246,0,1001," ",null,{"$f":"IF(Inventario!J256<>\"\",Inventario!J256,0)","v":0},246,0,1001," ",null,0,246,0,1001," "]
[null,null,null,null,null,null,null,null,null,null,null,null,{"$f":"IF(Inventario!C257<>\"\",Inventario!C257,0)","v":0},247,0,1001," ",null,{"$f":"IF(Inventario!J257<>\"\",Inventario!J257,0)","v":0},247,0,1001," ",null,0,247,0,1001," "]
[null,null,null,null,null,null,null,null,null,null,null,null,{"$f":"IF(Inventario!C258<>\"\",Inventario!C258,0)","v":0},248,0,1001," ",null,{"$f":"IF(Inventario!J258<>\"\",Inventario!J258,0)","v":0},248,0,1001," ",null,0,248,0,1001," "]
[null,null,null,null,null,null,null,null,null,null,null,null,{"$f":"IF(Inventario!C259<>\"\",Inventario!C259,0)","v":0},249,0,1001," ",null,{"$f":"IF(Inventario!J259<>\"\",Inventario!J259,0)","v":0},249,0,1001," ",null,0,249,0,1001," "]
[null,null,null,null,null,null,null,null,null,null,null,null,{"$f":"IF(Inventario!C260<>\"\",Inventario!C260,0)","v":0},250,0,1001," ",null,{"$f":"IF(Inventario!J260<>\"\",Inventario!J260,0)","v":0},250,0,1001," ",null,0,250,0,1001," "]
[null,null,null,null,null,null,null,null,null,null,null,null,{"$f":"IF(Inventario!C261<>\"\",Inventario!C261,0)","v":0},251,0,1001," ",null,{"$f":"IF(Inventario!J261<>\"\",Inventario!J261,0)","v":0},251,0,1001," ",null,0,251,0,1001," "]
[null,null,null,null,null,null,null,null,null,null,null,null,{"$f":"IF(Inventario!C262<>\"\",Inventario!C262,0)","v":0},252,0,1001," ",null,{"$f":"IF(Inventario!J262<>\"\",Inventario!J262,0)","v":0},252,0,1001," ",null,0,252,0,1001," "]
[null,null,null,null,null,null,null,null,null,null,null,null,{"$f":"IF(Inventario!C263<>\"\",Inventario!C263,0)","v":0},253,0,1001," ",null,{"$f":"IF(Inventario!J263<>\"\",Inventario!J263,0)","v":0},253,0,1001," ",null,0,253,0,1001," "]
[null,null,null,null,null,null,null,null,null,null,null,null,{"$f":"IF(Inventario!C264<>\"\",Inventario!C264,0)","v":0},254,0,1001," ",null,{"$f":"IF(Inventario!J264<>\"\",Inventario!J264,0)","v":0},254,0,1001," ",null,0,254,0,1001," "]
[null,null,null,null,null,null,null,null,null,null,null,null,{"$f":"IF(Inventario!C265<>\"\",Inventario!C265,0)","v":0},255,0,1001," ",null,{"$f":"IF(Inventario!J265<>\"\",Inventario!J265,0)","v":0},255,0,1001," ",null,0,255,0,1001," "]
[null,null,null,null,null,null,null,null,null,null,null,null,{"$f":"IF(Inventario!C266<>\"\",Inventario!C266,0)","v":0},256,0,1001," ",null,{"$f":"IF(Inventario!J266<>\"\",Inventario!J266,0)","v":0},256,0,1001," ",null,0,256,0,1001," "]
[null,null,null,null,null,null,null,null,null,null,null,null,{"$f":"IF(Inventario!C267<>\"\",Inventario!C267,0)","v":0},257,0,1001,{"$f":"IFERROR(VLOOKUP(SMALL($P$6:$P$1005,N262),$N$6:$O$1005,2,FALSE),\" \")","v":" "},null,{"$f":"IF(Inventario!J267<>\"\",Inventario!J267,0)","v":0},257,0,1001,{"$f":"IFERROR(VLOOKUP(SMALL($V$6:$V$1005,T262),$T$6:$U$1005,2,FALSE),\" \")","v":" "},null,0,257,0,1001,{"$f":"IFERROR(VLOOKUP(SMALL($AB$6:$AB$1005,Z262),$Z$6:$AA$1005,2,FALSE),\" \")","v":" "}]
[null,null,null,null,null,null,null,null,null,null,null,null,{"$f":"IF(Inventario!C268<>\"\",Inventario!C268,0)","v":0},258,{"$f":"M263","v":0},{"$f":"IF(O263=0,MAX($N$6:$N$1005)+1,N263)","v":1001}," ",null,{"$f":"IF(Inventario!J268<>\"\",Inventario!J268,0)","v":0},258,{"$f":"S263","v":0},{"$f":"IF(U263=0,MAX($T$6:$T$1005)+1,T263)","v":1001}," ",null,{"$f":"IF(AND(M263=0,S263=0),0,IF(AND(M263<>0,S263=0),M263,IF(AND(M263=0,S263<>0),S263,IF(AND(M263<>0,S263<>0),(CONCATENATE(M263,S263))))))","v":0},258,{"$f":"Y263","v":0},{"$f":"IF(AA263=0,MAX($Z$6:$Z$1005)+1,Z263)","v":1001}," "]
[null,null,null,null,null,null,null,null,null,null,null,null,{"$f":"IF(Inventario!C269<>\"\",Inventario!C269,0)","v":0},259,0,1001," ",null,{"$f":"IF(Inventario!J269<>\"\",Inventario!J269,0)","v":0},259,0,1001," ",null,0,259,0,1001," "]
[null,null,null,null,null,null,null,null,null,null,null,null,{"$f":"IF(Inventario!C270<>\"\",Inventario!C270,0)","v":0},260,0,1001," ",null,{"$f":"IF(Inventario!J270<>\"\",Inventario!J270,0)","v":0},260,0,1001," ",null,0,260,0,1001," "]
[null,null,null,null,null,null,null,null,null,null,null,null,{"$f":"IF(Inventario!C271<>\"\",Inventario!C271,0)","v":0},261,0,1001," ",null,{"$f":"IF(Inventario!J271<>\"\",Inventario!J271,0)","v":0},261,0,1001," ",null,0,261,0,1001," "]
[null,null,null,null,null,null,null,null,null,null,null,null,{"$f":"IF(Inventario!C272<>\"\",Inventario!C272,0)","v":0},262,0,1001," ",null,{"$f":"IF(Inventario!J272<>\"\",Inventario!J272,0)","v":0},262,0,1001," ",null,0,262,0,1001," "]
[null,null,null,null,null,null,null,null,null,null,null,null,{"$f":"IF(Inventario!C273<>\"\",Inventario!C273,0)","v":0},263,0,1001," ",null,{"$f":"IF(Inventario!J273<>\"\",Inventario!J273,0)","v":0},263,0,1001," ",null,0,263,0,1001," "]
[null,null,null,null,null,null,null,null,null,null,null,null,{"$f":"IF(Inventario!C274<>\"\",Inventario!C274,0)","v":0},264,0,1001," ",null,{"$f":"IF(Inventario!J274<>\"\",Inventario!J274,0)","v":0},264,0,1001," ",null,0,264,0,1001," "]
[null,null,null,null,null,null,null,null,null,null,null,null,{"$f":"IF(Inventario!C275<>\"\",Inventario!C275,0)","v":0},265,0,1001," ",null,{"$f":"IF(Inventario!J275<>\"\",Inventario!J275,0)","v":0},265,0,1001," ",null,0,265,0,1001," "]
[null,null,null,null,null,null,null,null,null,null,null,null,{"$f":"IF(Inventario!C276<>\"\",Inventario!C276,0)","v":0},266,0,1001," ",null,{"$f":"IF(Inventario!J276<>\"\",Inventario!J276,0)","v":0},266,0,1001," ",null,0,266,0,1001," "]
[null,null,null,null,null,null,null,null,null,null,null,null,{"$f":"IF(Inventario!C277<>\"\",Inventario!C277,0)","v":0},267,0,1001," ",null,{"$f":"IF(Inventario!J277<>\"\",Inventario!J277,0)","v":0},267,0,1001," ",null,0,267,0,1001," "]
[null,null,null,null,null,null,null,null,null,null,null,null,{"$f":"IF(Inventario!C278<>\"\",Inventario!C278,0)","v":0},268,0,1001," ",null,{"$f":"IF(Inventario!J278<>\"\",Inventario!J278,0)","v":0},268,0,1001," ",null,0,268,0,1001," "]
[null,null,null,null,null,null,null,null,null,null,null,null,{"$f":"IF(Inventario!C279<>\"\",Inventario!C279,0)","v":0},269,0,1001," ",null,{"$f":"IF(Inventario!J279<>\"\",Inventario!J279,0)","v":0},269,0,1001," ",null,0,269,0,1001," "]
[null,null,null,null,null,null,null,null,null,null,null,null,{"$f":"IF(Inventario!C280<>\"\",Inventario!C280,0)","v":0},270,0,1001," ",null,{"$f":"IF(Inventario!J280<>\"\",Inventario!J280,0)","v":0},270,0,1001," ",null,0,270,0,1001," "]
[null,null,null,null,null,null,null,null,null,null,null,null,{"$f":"IF(Inventario!C281<>\"\",Inventario!C281,0)","v":0},271,0,1001," ",null,{"$f":"IF(Inventario!J281<>\"\",Inventario!J281,0)","v":0},271,0,1001," ",null,0,271,0,1001," "]
[null,null,null,null,null,null,null,null,null,null,null,null,{"$f":"IF(Inventario!C282<>\"\",Inventario!C282,0)","v":0},272,0,1001," ",null,{"$f":"IF(Inventario!J282<>\"\",Inventario!J282,0)","v":0},272,0,1001," ",null,0,272,0,1001," "]
[null,null,null,null,null,null,null,null,null,null,null,null,{"$f":"IF(Inventario!C283<>\"\",Inventario!C283,0)","v":0},273,0,1001," ",null,{"$f":"IF(Inventario!J283<>\"\",Inventario!J283,0)","v":0},273,0,1001," ",null,0,273,0,1001," "]
[null,null,null,null,null,null,null,null,null,null,null,null,{"$f":"IF(Inventario!C284<>\"\",Inventario!C284,0)","v":0},274,0,1001," ",null,{"$f":"IF(Inventario!J284<>\"\",Inventario!J284,0)","v":0},274,0,1001," ",null,0,274,0,1001," "]
[null,null,null,null,null,null,null,null,null,null,null,null,{"$f":"IF(Inventario!C285<>\"\",Inventario!C285,0)","v":0},275,0,1001," ",null,{"$f":"IF(Inventario!J285<>\"\",Inventario!J285,0)","v":0},275,0,1001," ",null,0,275,0,1001," "]
[null,null,null,null,null,null,null,null,null,null,null,null,{"$f":"IF(Inventario!C286<>\"\",Inventario!C286,0)","v":0},276,0,1001," ",null,{"$f":"IF(Inventario!J286<>\"\",Inventario!J286,0)","v":0},276,0,1001," ",null,0,276,0,1001," "]
[null,null,null,null,null,null,null,null,null,null,null,null,{"$f":"IF(Inventario!C287<>\"\",Inventario!C287,0)","v":0},277,0,1001," ",null,{"$f":"IF(Inventario!J287<>\"\",Inventario!J287,0)","v":0},277,0,1001," ",null,0,277,0,1001," "]
[null,null,null,null,null,null,null,null,null,null,null,null,{"$f":"IF(Inventario!C288<>\"\",Inventario!C288,0)","v":0},278,0,1001," ",null,{"$f":"IF(Inventario!J288<>\"\",Inventario!J288,0)","v":0},278,0,1001," ",null,0,278,0,1001," "]
[null,null,null,null,null,null,null,null,null,null,null,null,{"$f":"IF(Inventario!C289<>\"\",Inventario!C289,0)","v":0},279,0,1001," ",null,{"$f":"IF(Inventario!J289<>\"\",Inventario!J289,0)","v":0},279,0,1001," ",null,0,279,0,1001," "]
[null,null,null,null,null,null,null,null,null,null,null,null,{"$f":"IF(Inventario!C290<>\"\",Inventario!C290,0)","v":0},280,0,1001," ",null,{"$f":"IF(Inventario!J290<>\"\",Inventario!J290,0)","v":0},280,0,1001," ",null,0,280,0,1001," "]
[null,null,null,null,null,null,null,null,null,null,null,null,{"$f":"IF(Inventario!C291<>\"\",Inventario!C291,0)","v":0},281,0,1001," ",null,{"$f":"IF(Inventario!J291<>\"\",Inventario!J291,0)","v":0},281,0,1001," ",null,0,281,0,1001," "]
[null,null,null,null,null,null,null,null,null,null,null,null,{"$f":"IF(Inventario!C292<>\"\",Inventario!C292,0)","v":0},282,0,1001," ",null,{"$f":"IF(Inventario!J292<>\"\",Inventario!J292,0)","v":0},282,0,1001," ",null,0,282,0,1001," "]
[null,null,null,null,null,null,null,null,null,null,null,null,{"$f":"IF(Inventario!C293<>\"\",Inventario!C293,0)","v":0},283,0,1001," ",null,{"$f":"IF(Inventario!J293<>\"\",Inventario!J293,0)","v":0},283,0,1001," ",null,0,283,0,1001," "]
[null,null,null,null,null,null,null,null,null,null,null,null,{"$f":"IF(Inventario!C294<>\"\",Inventario!C294,0)","v":0},284,0,1001," ",null,{"$f":"IF(Inventario!J294<>\"\",Inventario!J294,0)","v":0},284,0,1001," ",null,0,284,0,1001," "]
[null,null,null,null,null,null,null,null,null,null,null,null,{"$f":"IF(Inventario!C295<>\"\",Inventario!C295,0)","v":0},285,0,1001," ",null,{"$f":"IF(Inventario!J295<>\"\",Inventario!J295,0)","v":0},285,0,1001," ",null,0,285,0,1001," "]
[null,null,null,null,null,null,null,null,null,null,null,null,{"$f":"IF(Inventario!C296<>\"\",Inventario!C296,0)","v":0},286,0,1001," ",null,{"$f":"IF(Inventario!J296<>\"\",Inventario!J296,0)","v":0},286,0,1001," ",null,0,286,0,1001," "]
[null,null,null,null,null,null,null,null,null,null,null,null,{"$f":"IF(Inventario!C297<>\"\",Inventario!C297,0)","v":0},287,0,1001," ",null,{"$f":"IF(Inventario!J297<>\"\",Inventario!J297,0)","v":0},287,0,1001," ",null,0,287,0,1001," "]
[null,null,null,null,null,null,null,null,null,null,null,null,{"$f":"IF(Inventario!C298<>\"\",Inventario!C298,0)","v":0},288,0,1001," ",null,{"$f":"IF(Inventario!J298<>\"\",Inventario!J298,0)","v":0},288,0,1001," ",null,0,288,0,1001," "]
[null,null,null,null,null,null,null,null,null,null,null,null,{"$f":"IF(Inventario!C299<>\"\",Inventario!C299,0)","v":0},289,0,1001," ",null,{"$f":"IF(Inventario!J299<>\"\",Inventario!J299,0)","v":0},289,0,1001," ",null,0,289,0,1001," "]
[null,null,null,null,null,null,null,null,null,null,null,null,{"$f":"IF(Inventario!C300<>\"\",Inventario!C300,0)","v":0},290,0,1001," ",null,{"$f":"IF(Inventario!J300<>\"\",Inventario!J300,0)","v":0},290,0,1001," ",null,0,290,0,1001," "]
[null,null,null,null,null,null,null,null,null,null,null,null,{"$f":"IF(Inventario!C301<>\"\",Inventario!C301,0)","v":0},291,0,1001," ",null,{"$f":"IF(Inventario!J301<>\"\",Inventario!J301,0)","v":0},291,0,1001," ",null,0,291,0,1001," "]
[null,null,null,null,null,null,null,null,null,null,null,null,{"$f":"IF(Inventario!C302<>\"\",Inventario!C302,0)","v":0},292,0,1001," ",null,{"$f":"IF(Inventario!J302<>\"\",Inventario!J302,0)","v":0},292,0,1001," ",null,0,292,0,1001," "]
[null,null,null,null,null,null,null,null,null,null,null,null,{"$f":"IF(Inventario!C303<>\"\",Inventario!C303,0)","v":0},293,0,1001," ",null,{"$f":"IF(Inventario!J303<>\"\",Inventario!J303,0)","v":0},293,0,1001," ",null,0,293,0,1001," "]
[null,null,null,null,null,null,null,null,null,null,null,null,{"$f":"IF(Inventario!C304<>\"\",Inventario!C304,0)","v":0},294,0,1001," ",null,{"$f":"IF(Inventario!J304<>\"\",Inventario!J304,0)","v":0},294,0,1001," ",null,0,294,0,1001," "]
[null,null,null,null,null,null,null,null,null,null,null,null,{"$f":"IF(Inventario!C305<>\"\",Inventario!C305,0)","v":0},295,0,1001," ",null,{"$f":"IF(Inventario!J305<>\"\",Inventario!J305,0)","v":0},295,0,1001," ",null,0,295,0,1001," "]
[null,null,null,null,null,null,null,null,null,null,null,null,{"$f":"IF(Inventario!C306<>\"\",Inventario!C306,0)","v":0},296,0,1001," ",null,{"$f":"IF(Inventario!J306<>\"\",Inventario!J306,0)","v":0},296,0,1001," ",null,0,296,0,1001," "]
[null,null,null,null,null,null,null,null,null,null,null,null,{"$f":"IF(Inventario!C307<>\"\",Inventario!C307,0)","v":0},297,0,1001," ",null,{"$f":"IF(Inventario!J307<>\"\",Inventario!J307,0)","v":0},297,0,1001," ",null,0,297,0,1001," "]
[null,null,null,null,null,null,null,null,null,null,null,null,{"$f":"IF(Inventario!C308<>\"\",Inventario!C308,0)","v":0},298,0,1001," ",null,{"$f":"IF(Inventario!J308<>\"\",Inventario!J308,0)","v":0},298,0,1001," ",null,0,298,0,1001," "]
[null,null,null,null,null,null,null,null,null,null,null,null,{"$f":"IF(Inventario!C309<>\"\",Inventario!C309,0)","v":0},299,0,1001," ",null,{"$f":"IF(Inventario!J309<>\"\",Inventario!J309,0)","v":0},299,0,1001," ",null,0,299,0,1001," "]
[null,null,null,null,null,null,null,null,null,null,null,null,{"$f":"IF(Inventario!C310<>\"\",Inventario!C310,0)","v":0},300,0,1001," ",null,{"$f":"IF(Inventario!J310<>\"\",Inventario!J310,0)","v":0},300,0,1001," ",null,0,300,0,1001," "]
[null,null,null,null,null,null,null,null,null,null,null,null,{"$f":"IF(Inventario!C311<>\"\",Inventario!C311,0)","v":0},301,0,1001," ",null,{"$f":"IF(Inventario!J311<>\"\",Inventario!J311,0)","v":0},301,0,1001," ",null,0,301,0,1001," "]
[null,null,null,null,null,null,null,null,null,null,null,null,{"$f":"IF(Inventario!C312<>\"\",Inventario!C312,0)","v":0},302,0,1001," ",null,{"$f":"IF(Inventario!J312<>\"\",Inventario!J312,0)","v":0},302,0,1001," ",null,0,302,0,1001," "]
[null,null,null,null,null,null,null,null,null,null,null,null,{"$f":"IF(Inventario!C313<>\"\",Inventario!C313,0)","v":0},303,0,1001," ",null,{"$f":"IF(Inventario!J313<>\"\",Inventario!J313,0)","v":0},303,0,1001," ",null,0,303,0,1001," "]
[null,null,null,null,null,null,null,null,null,null,null,null,{"$f":"IF(Inventario!C314<>\"\",Inventario!C314,0)","v":0},304,0,1001," ",null,{"$f":"IF(Inventario!J314<>\"\",Inventario!J314,0)","v":0},304,0,1001," ",null,0,304,0,1001," "]
[null,null,null,null,null,null,null,null,null,null,null,null,{"$f":"IF(Inventario!C315<>\"\",Inventario!C315,0)","v":0},305,0,1001," ",null,{"$f":"IF(Inventario!J315<>\"\",Inventario!J315,0)","v":0},305,0,1001," ",null,0,305,0,1001," "]
[null,null,null,null,null,null,null,null,null,null,null,null,{"$f":"IF(Inventario!C316<>\"\",Inventario!C316,0)","v":0},306,0,1001," ",null,{"$f":"IF(Inventario!J316<>\"\",Inventario!J316,0)","v":0},306,0,1001," ",null,0,306,0,1001," "]
[null,null,null,null,null,null,null,null,null,null,null,null,{"$f":"IF(Inventario!C317<>\"\",Inventario!C317,0)","v":0},307,0,1001," ",null,{"$f":"IF(Inventario!J317<>\"\",Inventario!J317,0)","v":0},307,0,1001," ",null,0,307,0,1001," "]
[null,null,null,null,null,null,null,null,null,null,null,null,{"$f":"IF(Inventario!C318<>\"\",Inventario!C318,0)","v":0},308,0,1001," ",null,{"$f":"IF(Inventario!J318<>\"\",Inventario!J318,0)","v":0},308,0,1001," ",null,0,308,0,1001," "]
[null,null,null,null,null,null,null,null,null,null,null,null,{"$f":"IF(Inventario!C319<>\"\",Inventario!C319,0)","v":0},309,0,1001," ",null,{"$f":"IF(Inventario!J319<>\"\",Inventario!J319,0)","v":0},309,0,1001," ",null,0,309,0,1001," "]
[null,null,null,null,null,null,null,null,null,null,null,null,{"$f":"IF(Inventario!C320<>\"\",Inventario!C320,0)","v":0},310,0,1001," ",null,{"$f":"IF(Inventario!J320<>\"\",Inventario!J320,0)","v":0},310,0,1001," ",null,0,310,0,1001," "]
[null,null,null,null,null,null,null,null,null,null,null,null,{"$f":"IF(Inventario!C321<>\"\",Inventario!C321,0)","v":0},311,0,1001," ",null,{"$f":"IF(Inventario!J321<>\"\",Inventario!J321,0)","v":0},311,0,1001," ",null,0,311,0,1001," "]
[null,null,null,null,null,null,null,null,null,null,null,null,{"$f":"IF(Inventario!C322<>\"\",Inventario!C322,0)","v":0},312,0,1001," ",null,{"$f":"IF(Inventario!J322<>\"\",Inventario!J322,0)","v":0},312,0,1001," ",null,0,312,0,1001," "]
[null,null,null,null,null,null,null,null,null,null,null,null,{"$f":"IF(Inventario!C323<>\"\",Inventario!C323,0)","v":0},313,0,1001," ",null,{"$f":"IF(Inventario!J323<>\"\",Inventario!J323,0)","v":0},313,0,1001," ",null,0,313,0,1001," "]
[null,null,null,null,null,null,null,null,null,null,null,null,{"$f":"IF(Inventario!C324<>\"\",Inventario!C324,0)","v":0},314,0,1001," ",null,{"$f":"IF(Inventario!J324<>\"\",Inventario!J324,0)","v":0},314,0,1001," ",null,0,314,0,1001," "]
[null,null,null,null,null,null,null,null,null,null,null,null,{"$f":"IF(Inventario!C325<>\"\",Inventario!C325,0)","v":0},315,0,1001," ",null,{"$f":"IF(Inventario!J325<>\"\",Inventario!J325,0)","v":0},315,0,1001," ",null,0,315,0,1001," "]
[null,null,null,null,null,null,null,null,null,null,null,null,{"$f":"IF(Inventario!C326<>\"\",Inventario!C326,0)","v":0},316,0,1001," ",null,{"$f":"IF(Inventario!J326<>\"\",Inventario!J326,0)","v":0},316,0,1001," ",null,0,316,0,1001," "]
[null,null,null,null,null,null,null,null,null,null,null,null,{"$f":"IF(Inventario!C327<>\"\",Inventario!C327,0)","v":0},317,0,1001," ",null,{"$f":"IF(Inventario!J327<>\"\",Inventario!J327,0)","v":0},317,0,1001," ",null,0,317,0,1001," "]
[null,null,null,null,null,null,null,null,null,null,null,null,{"$f":"IF(Inventario!C328<>\"\",Inventario!C328,0)","v":0},318,0,1001," ",null,{"$f":"IF(Inventario!J328<>\"\",Inventario!J328,0)","v":0},318,0,1001," ",null,0,318,0,1001," "]
[null,null,null,null,null,null,null,null,null,null,null,null,{"$f":"IF(Inventario!C329<>\"\",Inventario!C329,0)","v":0},319,0,1001," ",null,{"$f":"IF(Inventario!J329<>\"\",Inventario!J329,0)","v":0},319,0,1001," ",null,0,319,0,1001," "]
[null,null,null,null,null,null,null,null,null,null,null,null,{"$f":"IF(Inventario!C330<>\"\",Inventario!C330,0)","v":0},320,0,1001," ",null,{"$f":"IF(Inventario!J330<>\"\",Inventario!J330,0)","v":0},320,0,1001," ",null,0,320,0,1001," "]
[null,null,null,null,null,null,null,null,null,null,null,null,{"$f":"IF(Inventario!C331<>\"\",Inventario!C331,0)","v":0},321,0,1001,{"$f":"IFERROR(VLOOKUP(SMALL($P$6:$P$1005,N326),$N$6:$O$1005,2,FALSE),\" \")","v":" "},null,{"$f":"IF(Inventario!J331<>\"\",Inventario!J331,0)","v":0},321,0,1001,{"$f":"IFERROR(VLOOKUP(SMALL($V$6:$V$1005,T326),$T$6:$U$1005,2,FALSE),\" \")","v":" "},null,0,321,0,1001,{"$f":"IFERROR(VLOOKUP(SMALL($AB$6:$AB$1005,Z326),$Z$6:$AA$1005,2,FALSE),\" \")","v":" "}]
[null,null,null,null,null,null,null,null,null,null,null,null,{"$f":"IF(Inventario!C332<>\"\",Inventario!C332,0)","v":0},322,{"$f":"M327","v":0},{"$f":"IF(O327=0,MAX($N$6:$N$1005)+1,N327)","v":1001}," ",null,{"$f":"IF(Inventario!J332<>\"\",Inventario!J332,0)","v":0},322,{"$f":"S327","v":0},{"$f":"IF(U327=0,MAX($T$6:$T$1005)+1,T327)","v":1001}," ",null,{"$f":"IF(AND(M327=0,S327=0),0,IF(AND(M327<>0,S327=0),M327,IF(AND(M327=0,S327<>0),S327,IF(AND(M327<>0,S327<>0),(CONCATENATE(M327,S327))))))","v":0},322,{"$f":"Y327","v":0},{"$f":"IF(AA327=0,MAX($Z$6:$Z$1005)+1,Z327)","v":1001}," "]
[null,null,null,null,null,null,null,null,null,null,null,null,{"$f":"IF(Inventario!C333<>\"\",Inventario!C333,0)","v":0},323,0,1001," ",null,{"$f":"IF(Inventario!J333<>\"\",Inventario!J333,0)","v":0},323,0,1001," ",null,0,323,0,1001," "]
[null,null,null,null,null,null,null,null,null,null,null,null,{"$f":"IF(Inventario!C334<>\"\",Inventario!C334,0)","v":0},324,0,1001," ",null,{"$f":"IF(Inventario!J334<>\"\",Inventario!J334,0)","v":0},324,0,1001," ",null,0,324,0,1001," "]
[null,null,null,null,null,null,null,null,null,null,null,null,{"$f":"IF(Inventario!C335<>\"\",Inventario!C335,0)","v":0},325,0,1001," ",null,{"$f":"IF(Inventario!J335<>\"\",Inventario!J335,0)","v":0},325,0,1001," ",null,0,325,0,1001," "]
[null,null,null,null,null,null,null,null,null,null,null,null,{"$f":"IF(Inventario!C336<>\"\",Inventario!C336,0)","v":0},326,0,1001," ",null,{"$f":"IF(Inventario!J336<>\"\",Inventario!J336,0)","v":0},326,0,1001," ",null,0,326,0,1001," "]
[null,null,null,null,null,null,null,null,null,null,null,null,{"$f":"IF(Inventario!C337<>\"\",Inventario!C337,0)","v":0},327,0,1001," ",null,{"$f":"IF(Inventario!J337<>\"\",Inventario!J337,0)","v":0},327,0,1001," ",null,0,327,0,1001," "]
[null,null,null,null,null,null,null,null,null,null,null,null,{"$f":"IF(Inventario!C338<>\"\",Inventario!C338,0)","v":0},328,0,1001," ",null,{"$f":"IF(Inventario!J338<>\"\",Inventario!J338,0)","v":0},328,0,1001," ",null,0,328,0,1001," "]
[null,null,null,null,null,null,null,null,null,null,null,null,{"$f":"IF(Inventario!C339<>\"\",Inventario!C339,0)","v":0},329,0,1001," ",null,{"$f":"IF(Inventario!J339<>\"\",Inventario!J339,0)","v":0},329,0,1001," ",null,0,329,0,1001," "]
[null,null,null,null,null,null,null,null,null,null,null,null,{"$f":"IF(Inventario!C340<>\"\",Inventario!C340,0)","v":0},330,0,1001," ",null,{"$f":"IF(Inventario!J340<>\"\",Inventario!J340,0)","v":0},330,0,1001," ",null,0,330,0,1001," "]
[null,null,null,null,null,null,null,null,null,null,null,null,{"$f":"IF(Inventario!C341<>\"\",Inventario!C341,0)","v":0},331,0,1001," ",null,{"$f":"IF(Inventario!J341<>\"\",Inventario!J341,0)","v":0},331,0,1001," ",null,0,331,0,1001," "]
[null,null,null,null,null,null,null,null,null,null,null,null,{"$f":"IF(Inventario!C342<>\"\",Inventario!C342,0)","v":0},332,0,1001," ",null,{"$f":"IF(Inventario!J342<>\"\",Inventario!J342,0)","v":0},332,0,1001," ",null,0,332,0,1001," "]
[null,null,null,null,null,null,null,null,null,null,null,null,{"$f":"IF(Inventario!C343<>\"\",Inventario!C343,0)","v":0},333,0,1001," ",null,{"$f":"IF(Inventario!J343<>\"\",Inventario!J343,0)","v":0},333,0,1001," ",null,0,333,0,1001," "]
[null,null,null,null,null,null,null,null,null,null,null,null,{"$f":"IF(Inventario!C344<>\"\",Inventario!C344,0)","v":0},334,0,1001," ",null,{"$f":"IF(Inventario!J344<>\"\",Inventario!J344,0)","v":0},334,0,1001," ",null,0,334,0,1001," "]
[null,null,null,null,null,null,null,null,null,null,null,null,{"$f":"IF(Inventario!C345<>\"\",Inventario!C345,0)","v":0},335,0,1001," ",null,{"$f":"IF(Inventario!J345<>\"\",Inventario!J345,0)","v":0},335,0,1001," ",null,0,335,0,1001," "]
[null,null,null,null,null,null,null,null,null,null,null,null,{"$f":"IF(Inventario!C346<>\"\",Inventario!C346,0)","v":0},336,0,1001," ",null,{"$f":"IF(Inventario!J346<>\"\",Inventario!J346,0)","v":0},336,0,1001," ",null,0,336,0,1001," "]
[null,null,null,null,null,null,null,null,null,null,null,null,{"$f":"IF(Inventario!C347<>\"\",Inventario!C347,0)","v":0},337,0,1001," ",null,{"$f":"IF(Inventario!J347<>\"\",Inventario!J347,0)","v":0},337,0,1001," ",null,0,337,0,1001," "]
[null,null,null,null,null,null,null,null,null,null,null,null,{"$f":"IF(Inventario!C348<>\"\",Inventario!C348,0)","v":0},338,0,1001," ",null,{"$f":"IF(Inventario!J348<>\"\",Inventario!J348,0)","v":0},338,0,1001," ",null,0,338,0,1001," "]
[null,null,null,null,null,null,null,null,null,null,null,null,{"$f":"IF(Inventario!C349<>\"\",Inventario!C349,0)","v":0},339,0,1001," ",null,{"$f":"IF(Inventario!J349<>\"\",Inventario!J349,0)","v":0},339,0,1001," ",null,0,339,0,1001," "]
[null,null,null,null,null,null,null,null,null,null,null,null,{"$f":"IF(Inventario!C350<>\"\",Inventario!C350,0)","v":0},340,0,1001," ",null,{"$f":"IF(Inventario!J350<>\"\",Inventario!J350,0)","v":0},340,0,1001," ",null,0,340,0,1001," "]
[null,null,null,null,null,null,null,null,null,null,null,null,{"$f":"IF(Inventario!C351<>\"\",Inventario!C351,0)","v":0},341,0,1001," ",null,{"$f":"IF(Inventario!J351<>\"\",Inventario!J351,0)","v":0},341,0,1001," ",null,0,341,0,1001," "]
[null,null,null,null,null,null,null,null,null,null,null,null,{"$f":"IF(Inventario!C352<>\"\",Inventario!C352,0)","v":0},342,0,1001," ",null,{"$f":"IF(Inventario!J352<>\"\",Inventario!J352,0)","v":0},342,0,1001," ",null,0,342,0,1001," "]
[null,null,null,null,null,null,null,null,null,null,null,null,{"$f":"IF(Inventario!C353<>\"\",Inventario!C353,0)","v":0},343,0,1001," ",null,{"$f":"IF(Inventario!J353<>\"\",Inventario!J353,0)","v":0},343,0,1001," ",null,0,343,0,1001," "]
[null,null,null,null,null,null,null,null,null,null,null,null,{"$f":"IF(Inventario!C354<>\"\",Inventario!C354,0)","v":0},344,0,1001," ",null,{"$f":"IF(Inventario!J354<>\"\",Inventario!J354,0)","v":0},344,0,1001," ",null,0,344,0,1001," "]
[null,null,null,null,null,null,null,null,null,null,null,null,{"$f":"IF(Inventario!C355<>\"\",Inventario!C355,0)","v":0},345,0,1001," ",null,{"$f":"IF(Inventario!J355<>\"\",Inventario!J355,0)","v":0},345,0,1001," ",null,0,345,0,1001," "]
[null,null,null,null,null,null,null,null,null,null,null,null,{"$f":"IF(Inventario!C356<>\"\",Inventario!C356,0)","v":0},346,0,1001," ",null,{"$f":"IF(Inventario!J356<>\"\",Inventario!J356,0)","v":0},346,0,1001," ",null,0,346,0,1001," "]
[null,null,null,null,null,null,null,null,null,null,null,null,{"$f":"IF(Inventario!C357<>\"\",Inventario!C357,0)","v":0},347,0,1001," ",null,{"$f":"IF(Inventario!J357<>\"\",Inventario!J357,0)","v":0},347,0,1001," ",null,0,347,0,1001," "]
[null,null,null,null,null,null,null,null,null,null,null,null,{"$f":"IF(Inventario!C358<>\"\",Inventario!C358,0)","v":0},348,0,1001," ",null,{"$f":"IF(Inventario!J358<>\"\",Inventario!J358,0)","v":0},348,0,1001," ",null,0,348,0,1001," "]
[null,null,null,null,null,null,null,null,null,null,null,null,{"$f":"IF(Inventario!C359<>\"\",Inventario!C359,0)","v":0},349,0,1001," ",null,{"$f":"IF(Inventario!J359<>\"\",Inventario!J359,0)","v":0},349,0,1001," ",null,0,349,0,1001," "]
[null,null,null,null,null,null,null,null,null,null,null,null,{"$f":"IF(Inventario!C360<>\"\",Inventario!C360,0)","v":0},350,0,1001," ",null,{"$f":"IF(Inventario!J360<>\"\",Inventario!J360,0)","v":0},350,0,1001," ",null,0,350,0,1001," "]
[null,null,null,null,null,null,null,null,null,null,null,null,{"$f":"IF(Inventario!C361<>\"\",Inventario!C361,0)","v":0},351,0,1001," ",null,{"$f":"IF(Inventario!J361<>\"\",Inventario!J361,0)","v":0},351,0,1001," ",null,0,351,0,1001," "]
[null,null,null,null,null,null,null,null,null,null,null,null,{"$f":"IF(Inventario!C362<>\"\",Inventario!C362,0)","v":0},352,0,1001," ",null,{"$f":"IF(Inventario!J362<>\"\",Inventario!J362,0)","v":0},352,0,1001," ",null,0,352,0,1001," "]
[null,null,null,null,null,null,null,null,null,null,null,null,{"$f":"IF(Inventario!C363<>\"\",Inventario!C363,0)","v":0},353,0,1001," ",null,{"$f":"IF(Inventario!J363<>\"\",Inventario!J363,0)","v":0},353,0,1001," ",null,0,353,0,1001," "]
[null,null,null,null,null,null,null,null,null,null,null,null,{"$f":"IF(Inventario!C364<>\"\",Inventario!C364,0)","v":0},354,0,1001," ",null,{"$f":"IF(Inventario!J364<>\"\",Inventario!J364,0)","v":0},354,0,1001," ",null,0,354,0,1001," "]
[null,null,null,null,null,null,null,null,null,null,null,null,{"$f":"IF(Inventario!C365<>\"\",Inventario!C365,0)","v":0},355,0,1001," ",null,{"$f":"IF(Inventario!J365<>\"\",Inventario!J365,0)","v":0},355,0,1001," ",null,0,355,0,1001," "]
[null,null,null,null,null,null,null,null,null,null,null,null,{"$f":"IF(Inventario!C366<>\"\",Inventario!C366,0)","v":0},356,0,1001," ",null,{"$f":"IF(Inventario!J366<>\"\",Inventario!J366,0)","v":0},356,0,1001," ",null,0,356,0,1001," "]
[null,null,null,null,null,null,null,null,null,null,null,null,{"$f":"IF(Inventario!C367<>\"\",Inventario!C367,0)","v":0},357,0,1001," ",null,{"$f":"IF(Inventario!J367<>\"\",Inventario!J367,0)","v":0},357,0,1001," ",null,0,357,0,1001," "]
[null,null,null,null,null,null,null,null,null,null,null,null,{"$f":"IF(Inventario!C368<>\"\",Inventario!C368,0)","v":0},358,0,1001," ",null,{"$f":"IF(Inventario!J368<>\"\",Inventario!J368,0)","v":0},358,0,1001," ",null,0,358,0,1001," "]
[null,null,null,null,null,null,null,null,null,null,null,null,{"$f":"IF(Inventario!C369<>\"\",Inventario!C369,0)","v":0},359,0,1001," ",null,{"$f":"IF(Inventario!J369<>\"\",Inventario!J369,0)","v":0},359,0,1001," ",null,0,359,0,1001," "]
[null,null,null,null,null,null,null,null,null,null,null,null,{"$f":"IF(Inventario!C370<>\"\",Inventario!C370,0)","v":0},360,0,1001," ",null,{"$f":"IF(Inventario!J370<>\"\",Inventario!J370,0)","v":0},360,0,1001," ",null,0,360,0,1001," "]
[null,null,null,null,null,null,null,null,null,null,null,null,{"$f":"IF(Inventario!C371<>\"\",Inventario!C371,0)","v":0},361,0,1001," ",null,{"$f":"IF(Inventario!J371<>\"\",Inventario!J371,0)","v":0},361,0,1001," ",null,0,361,0,1001," "]
[null,null,null,null,null,null,null,null,null,null,null,null,{"$f":"IF(Inventario!C372<>\"\",Inventario!C372,0)","v":0},362,0,1001," ",null,{"$f":"IF(Inventario!J372<>\"\",Inventario!J372,0)","v":0},362,0,1001," ",null,0,362,0,1001," "]
[null,null,null,null,null,null,null,null,null,null,null,null,{"$f":"IF(Inventario!C373<>\"\",Inventario!C373,0)","v":0},363,0,1001," ",null,{"$f":"IF(Inventario!J373<>\"\",Inventario!J373,0)","v":0},363,0,1001," ",null,0,363,0,1001," "]
[null,null,null,null,null,null,null,null,null,null,null,null,{"$f":"IF(Inventario!C374<>\"\",Inventario!C374,0)","v":0},364,0,1001," ",null,{"$f":"IF(Inventario!J374<>\"\",Inventario!J374,0)","v":0},364,0,1001," ",null,0,364,0,1001," "]
[null,null,null,null,null,null,null,null,null,null,null,null,{"$f":"IF(Inventario!C375<>\"\",Inventario!C375,0)","v":0},365,0,1001," ",null,{"$f":"IF(Inventario!J375<>\"\",Inventario!J375,0)","v":0},365,0,1001," ",null,0,365,0,1001," "]
[null,null,null,null,null,null,null,null,null,null,null,null,{"$f":"IF(Inventario!C376<>\"\",Inventario!C376,0)","v":0},366,0,1001," ",null,{"$f":"IF(Inventario!J376<>\"\",Inventario!J376,0)","v":0},366,0,1001," ",null,0,366,0,1001," "]
[null,null,null,null,null,null,null,null,null,null,null,null,{"$f":"IF(Inventario!C377<>\"\",Inventario!C377,0)","v":0},367,0,1001," ",null,{"$f":"IF(Inventario!J377<>\"\",Inventario!J377,0)","v":0},367,0,1001," ",null,0,367,0,1001," "]
[null,null,null,null,null,null,null,null,null,null,null,null,{"$f":"IF(Inventario!C378<>\"\",Inventario!C378,0)","v":0},368,0,1001," ",null,{"$f":"IF(Inventario!J378<>\"\",Inventario!J378,0)","v":0},368,0,1001," ",null,0,368,0,1001," "]
[null,null,null,null,null,null,null,null,null,null,null,null,{"$f":"IF(Inventario!C379<>\"\",Inventario!C379,0)","v":0},369,0,1001," ",null,{"$f":"IF(Inventario!J379<>\"\",Inventario!J379,0)","v":0},369,0,1001," ",null,0,369,0,1001," "]
[null,null,null,null,null,null,null,null,null,null,null,null,{"$f":"IF(Inventario!C380<>\"\",Inventario!C380,0)","v":0},370,0,1001," ",null,{"$f":"IF(Inventario!J380<>\"\",Inventario!J380,0)","v":0},370,0,1001," ",null,0,370,0,1001," "]
[null,null,null,null,null,null,null,null,null,null,null,null,{"$f":"IF(Inventario!C381<>\"\",Inventario!C381,0)","v":0},371,0,1001," ",null,{"$f":"IF(Inventario!J381<>\"\",Inventario!J381,0)","v":0},371,0,1001," ",null,0,371,0,1001," "]
[null,null,null,null,null,null,null,null,null,null,null,null,{"$f":"IF(Inventario!C382<>\"\",Inventario!C382,0)","v":0},372,0,1001," ",null,{"$f":"IF(Inventario!J382<>\"\",Inventario!J382,0)","v":0},372,0,1001," ",null,0,372,0,1001," "]
[null,null,null,null,null,null,null,null,null,null,null,null,{"$f":"IF(Inventario!C383<>\"\",Inventario!C383,0)","v":0},373,0,1001," ",null,{"$f":"IF(Inventario!J383<>\"\",Inventario!J383,0)","v":0},373,0,1001," ",null,0,373,0,1001," "]
[null,null,null,null,null,null,null,null,null,null,null,null,{"$f":"IF(Inventario!C384<>\"\",Inventario!C384,0)","v":0},374,0,1001," ",null,{"$f":"IF(Inventario!J384<>\"\",Inventario!J384,0)","v":0},374,0,1001," ",null,0,374,0,1001," "]
[null,null,null,null,null,null,null,null,null,null,null,null,{"$f":"IF(Inventario!C385<>\"\",Inventario!C385,0)","v":0},375,0,1001," ",null,{"$f":"IF(Inventario!J385<>\"\",Inventario!J385,0)","v":0},375,0,1001," ",null,0,375,0,1001," "]
[null,null,null,null,null,null,null,null,null,null,null,null,{"$f":"IF(Inventario!C386<>\"\",Inventario!C386,0)","v":0},376,0,1001," ",null,{"$f":"IF(Inventario!J386<>\"\",Inventario!J386,0)","v":0},376,0,1001," ",null,0,376,0,1001," "]
[null,null,null,null,null,null,null,null,null,null,null,null,{"$f":"IF(Inventario!C387<>\"\",Inventario!C387,0)","v":0},377,0,1001," ",null,{"$f":"IF(Inventario!J387<>\"\",Inventario!J387,0)","v":0},377,0,1001," ",null,0,377,0,1001," "]
[null,null,null,null,null,null,null,null,null,null,null,null,{"$f":"IF(Inventario!C388<>\"\",Inventario!C388,0)","v":0},378,0,1001," ",null,{"$f":"IF(Inventario!J388<>\"\",Inventario!J388,0)","v":0},378,0,1001," ",null,0,378,0,1001," "]
[null,null,null,null,null,null,null,null,null,null,null,null,{"$f":"IF(Inventario!C389<>\"\",Inventario!C389,0)","v":0},379,0,1001," ",null,{"$f":"IF(Inventario!J389<>\"\",Inventario!J389,0)","v":0},379,0,1001," ",null,0,379,0,1001," "]
[null,null,null,null,null,null,null,null,null,null,null,null,{"$f":"IF(Inventario!C390<>\"\",Inventario!C390,0)","v":0},380,0,1001," ",null,{"$f":"IF(Inventario!J390<>\"\",Inventario!J390,0)","v":0},380,0,1001," ",null,0,380,0,1001," "]
[null,null,null,null,null,null,null,null,null,null,null,null,{"$f":"IF(Inventario!C391<>\"\",Inventario!C391,0)","v":0},381,0,1001," ",null,{"$f":"IF(Inventario!J391<>\"\",Inventario!J391,0)","v":0},381,0,1001," ",null,0,381,0,1001," "]
[null,null,null,null,null,null,null,null,null,null,null,null,{"$f":"IF(Inventario!C392<>\"\",Inventario!C392,0)","v":0},382,0,1001," ",null,{"$f":"IF(Inventario!J392<>\"\",Inventario!J392,0)","v":0},382,0,1001," ",null,0,382,0,1001," "]
[null,null,null,null,null,null,null,null,null,null,null,null,{"$f":"IF(Inventario!C393<>\"\",Inventario!C393,0)","v":0},383,0,1001," ",null,{"$f":"IF(Inventario!J393<>\"\",Inventario!J393,0)","v":0},383,0,1001," ",null,0,383,0,1001," "]
[null,null,null,null,null,null,null,null,null,null,null,null,{"$f":"IF(Inventario!C394<>\"\",Inventario!C394,0)","v":0},384,0,1001," ",null,{"$f":"IF(Inventario!J394<>\"\",Inventario!J394,0)","v":0},384,0,1001," ",null,0,384,0,1001," "]
[null,null,null,null,null,null,null,null,null,null,null,null,{"$f":"IF(Inventario!C395<>\"\",Inventario!C395,0)","v":0},385,0,1001,{"$f":"IFERROR(VLOOKUP(SMALL($P$6:$P$1005,N390),$N$6:$O$1005,2,FALSE),\" \")","v":" "},null,{"$f":"IF(Inventario!J395<>\"\",Inventario!J395,0)","v":0},385,0,1001,{"$f":"IFERROR(VLOOKUP(SMALL($V$6:$V$1005,T390),$T$6:$U$1005,2,FALSE),\" \")","v":" "},null,0,385,0,1001,{"$f":"IFERROR(VLOOKUP(SMALL($AB$6:$AB$1005,Z390),$Z$6:$AA$1005,2,FALSE),\" \")","v":" "}]
[null,null,null,null,null,null,null,null,null,null,null,null,{"$f":"IF(Inventario!C396<>\"\",Inventario!C396,0)","v":0},386,{"$f":"M391","v":0},{"$f":"IF(O391=0,MAX($N$6:$N$1005)+1,N391)","v":1001}," ",null,{"$f":"IF(Inventario!J396<>\"\",Inventario!J396,0)","v":0},386,{"$f":"S391","v":0},{"$f":"IF(U391=0,MAX($T$6:$T$1005)+1,T391)","v":1001}," ",null,{"$f":"IF(AND(M391=0,S391=0),0,IF(AND(M391<>0,S391=0),M391,IF(AND(M391=0,S391<>0),S391,IF(AND(M391<>0,S391<>0),(CONCATENATE(M391,S391))))))","v":0},386,{"$f":"Y391","v":0},{"$f":"IF(AA391=0,MAX($Z$6:$Z$1005)+1,Z391)","v":1001}," "]
[null,null,null,null,null,null,null,null,null,null,null,null,{"$f":"IF(Inventario!C397<>\"\",Inventario!C397,0)","v":0},387,0,1001," ",null,{"$f":"IF(Inventario!J397<>\"\",Inventario!J397,0)","v":0},387,0,1001," ",null,0,387,0,1001," "]
[null,null,null,null,null,null,null,null,null,null,null,null,{"$f":"IF(Inventario!C398<>\"\",Inventario!C398,0)","v":0},388,0,1001," ",null,{"$f":"IF(Inventario!J398<>\"\",Inventario!J398,0)","v":0},388,0,1001," ",null,0,388,0,1001," "]
[null,null,null,null,null,null,null,null,null,null,null,null,{"$f":"IF(Inventario!C399<>\"\",Inventario!C399,0)","v":0},389,0,1001," ",null,{"$f":"IF(Inventario!J399<>\"\",Inventario!J399,0)","v":0},389,0,1001," ",null,0,389,0,1001," "]
[null,null,null,null,null,null,null,null,null,null,null,null,{"$f":"IF(Inventario!C400<>\"\",Inventario!C400,0)","v":0},390,0,1001," ",null,{"$f":"IF(Inventario!J400<>\"\",Inventario!J400,0)","v":0},390,0,1001," ",null,0,390,0,1001," "]
[null,null,null,null,null,null,null,null,null,null,null,null,{"$f":"IF(Inventario!C401<>\"\",Inventario!C401,0)","v":0},391,0,1001," ",null,{"$f":"IF(Inventario!J401<>\"\",Inventario!J401,0)","v":0},391,0,1001," ",null,0,391,0,1001," "]
[null,null,null,null,null,null,null,null,null,null,null,null,{"$f":"IF(Inventario!C402<>\"\",Inventario!C402,0)","v":0},392,0,1001," ",null,{"$f":"IF(Inventario!J402<>\"\",Inventario!J402,0)","v":0},392,0,1001," ",null,0,392,0,1001," "]
[null,null,null,null,null,null,null,null,null,null,null,null,{"$f":"IF(Inventario!C403<>\"\",Inventario!C403,0)","v":0},393,0,1001," ",null,{"$f":"IF(Inventario!J403<>\"\",Inventario!J403,0)","v":0},393,0,1001," ",null,0,393,0,1001," "]
[null,null,null,null,null,null,null,null,null,null,null,null,{"$f":"IF(Inventario!C404<>\"\",Inventario!C404,0)","v":0},394,0,1001," ",null,{"$f":"IF(Inventario!J404<>\"\",Inventario!J404,0)","v":0},394,0,1001," ",null,0,394,0,1001," "]
[null,null,null,null,null,null,null,null,null,null,null,null,{"$f":"IF(Inventario!C405<>\"\",Inventario!C405,0)","v":0},395,0,1001," ",null,{"$f":"IF(Inventario!J405<>\"\",Inventario!J405,0)","v":0},395,0,1001," ",null,0,395,0,1001," "]
[null,null,null,null,null,null,null,null,null,null,null,null,{"$f":"IF(Inventario!C406<>\"\",Inventario!C406,0)","v":0},396,0,1001," ",null,{"$f":"IF(Inventario!J406<>\"\",Inventario!J406,0)","v":0},396,0,1001," ",null,0,396,0,1001," "]
[null,null,null,null,null,null,null,null,null,null,null,null,{"$f":"IF(Inventario!C407<>\"\",Inventario!C407,0)","v":0},397,0,1001," ",null,{"$f":"IF(Inventario!J407<>\"\",Inventario!J407,0)","v":0},397,0,1001," ",null,0,397,0,1001," "]
[null,null,null,null,null,null,null,null,null,null,null,null,{"$f":"IF(Inventario!C408<>\"\",Inventario!C408,0)","v":0},398,0,1001," ",null,{"$f":"IF(Inventario!J408<>\"\",Inventario!J408,0)","v":0},398,0,1001," ",null,0,398,0,1001," "]
[null,null,null,null,null,null,null,null,null,null,null,null,{"$f":"IF(Inventario!C409<>\"\",Inventario!C409,0)","v":0},399,0,1001," ",null,{"$f":"IF(Inventario!J409<>\"\",Inventario!J409,0)","v":0},399,0,1001," ",null,0,399,0,1001," "]
[null,null,null,null,null,null,null,null,null,null,null,null,{"$f":"IF(Inventario!C410<>\"\",Inventario!C410,0)","v":0},400,0,1001," ",null,{"$f":"IF(Inventario!J410<>\"\",Inventario!J410,0)","v":0},400,0,1001," ",null,0,400,0,1001," "]
[null,null,null,null,null,null,null,null,null,null,null,null,{"$f":"IF(Inventario!C411<>\"\",Inventario!C411,0)","v":0},401,0,1001," ",null,{"$f":"IF(Inventario!J411<>\"\",Inventario!J411,0)","v":0},401,0,1001," ",null,0,401,0,1001," "]
[null,null,null,null,null,null,null,null,null,null,null,null,{"$f":"IF(Inventario!C412<>\"\",Inventario!C412,0)","v":0},402,0,1001," ",null,{"$f":"IF(Inventario!J412<>\"\",Inventario!J412,0)","v":0},402,0,1001," ",null,0,402,0,1001," "]
[null,null,null,null,null,null,null,null,null,null,null,null,{"$f":"IF(Inventario!C413<>\"\",Inventario!C413,0)","v":0},403,0,1001," ",null,{"$f":"IF(Inventario!J413<>\"\",Inventario!J413,0)","v":0},403,0,1001," ",null,0,403,0,1001," "]
[null,null,null,null,null,null,null,null,null,null,null,null,{"$f":"IF(Inventario!C414<>\"\",Inventario!C414,0)","v":0},404,0,1001," ",null,{"$f":"IF(Inventario!J414<>\"\",Inventario!J414,0)","v":0},404,0,1001," ",null,0,404,0,1001," "]
[null,null,null,null,null,null,null,null,null,null,null,null,{"$f":"IF(Inventario!C415<>\"\",Inventario!C415,0)","v":0},405,0,1001," ",null,{"$f":"IF(Inventario!J415<>\"\",Inventario!J415,0)","v":0},405,0,1001," ",null,0,405,0,1001," "]
[null,null,null,null,null,null,null,null,null,null,null,null,{"$f":"IF(Inventario!C416<>\"\",Inventario!C416,0)","v":0},406,0,1001," ",null,{"$f":"IF(Inventario!J416<>\"\",Inventario!J416,0)","v":0},406,0,1001," ",null,0,406,0,1001," "]
[null,null,null,null,null,null,null,null,null,null,null,null,{"$f":"IF(Inventario!C417<>\"\",Inventario!C417,0)","v":0},407,0,1001," ",null,{"$f":"IF(Inventario!J417<>\"\",Inventario!J417,0)","v":0},407,0,1001," ",null,0,407,0,1001," "]
[null,null,null,null,null,null,null,null,null,null,null,null,{"$f":"IF(Inventario!C418<>\"\",Inventario!C418,0)","v":0},408,0,1001," ",null,{"$f":"IF(Inventario!J418<>\"\",Inventario!J418,0)","v":0},408,0,1001," ",null,0,408,0,1001," "]
[null,null,null,null,null,null,null,null,null,null,null,null,{"$f":"IF(Inventario!C419<>\"\",Inventario!C419,0)","v":0},409,0,1001," ",null,{"$f":"IF(Inventario!J419<>\"\",Inventario!J419,0)","v":0},409,0,1001," ",null,0,409,0,1001," "]
[null,null,null,null,null,null,null,null,null,null,null,null,{"$f":"IF(Inventario!C420<>\"\",Inventario!C420,0)","v":0},410,0,1001," ",null,{"$f":"IF(Inventario!J420<>\"\",Inventario!J420,0)","v":0},410,0,1001," ",null,0,410,0,1001," "]
[null,null,null,null,null,null,null,null,null,null,null,null,{"$f":"IF(Inventario!C421<>\"\",Inventario!C421,0)","v":0},411,0,1001," ",null,{"$f":"IF(Inventario!J421<>\"\",Inventario!J421,0)","v":0},411,0,1001," ",null,0,411,0,1001," "]
[null,null,null,null,null,null,null,null,null,null,null,null,{"$f":"IF(Inventario!C422<>\"\",Inventario!C422,0)","v":0},412,0,1001," ",null,{"$f":"IF(Inventario!J422<>\"\",Inventario!J422,0)","v":0},412,0,1001," ",null,0,412,0,1001," "]
[null,null,null,null,null,null,null,null,null,null,null,null,{"$f":"IF(Inventario!C423<>\"\",Inventario!C423,0)","v":0},413,0,1001," ",null,{"$f":"IF(Inventario!J423<>\"\",Inventario!J423,0)","v":0},413,0,1001," ",null,0,413,0,1001," "]
[null,null,null,null,null,null,null,null,null,null,null,null,{"$f":"IF(Inventario!C424<>\"\",Inventario!C424,0)","v":0},414,0,1001," ",null,{"$f":"IF(Inventario!J424<>\"\",Inventario!J424,0)","v":0},414,0,1001," ",null,0,414,0,1001," "]
[null,null,null,null,null,null,null,null,null,null,null,null,{"$f":"IF(Inventario!C425<>\"\",Inventario!C425,0)","v":0},415,0,1001," ",null,{"$f":"IF(Inventario!J425<>\"\",Inventario!J425,0)","v":0},415,0,1001," ",null,0,415,0,1001," "]
[null,null,null,null,null,null,null,null,null,null,null,null,{"$f":"IF(Inventario!C426<>\"\",Inventario!C426,0)","v":0},416,0,1001," ",null,{"$f":"IF(Inventario!J426<>\"\",Inventario!J426,0)","v":0},416,0,1001," ",null,0,416,0,1001," "]
[null,null,null,null,null,null,null,null,null,null,null,null,{"$f":"IF(Inventario!C427<>\"\",Inventario!C427,0)","v":0},417,0,1001," ",null,{"$f":"IF(Inventario!J427<>\"\",Inventario!J427,0)","v":0},417,0,1001," ",null,0,417,0,1001," "]
[null,null,null,null,null,null,null,null,null,null,null,null,{"$f":"IF(Inventario!C428<>\"\",Inventario!C428,0)","v":0},418,0,1001," ",null,{"$f":"IF(Inventario!J428<>\"\",Inventario!J428,0)","v":0},418,0,1001," ",null,0,418,0,1001," "]
[null,null,null,null,null,null,null,null,null,null,null,null,{"$f":"IF(Inventario!C429<>\"\",Inventario!C429,0)","v":0},419,0,1001," ",null,{"$f":"IF(Inventario!J429<>\"\",Inventario!J429,0)","v":0},419,0,1001," ",null,0,419,0,1001," "]
[null,null,null,null,null,null,null,null,null,null,null,null,{"$f":"IF(Inventario!C430<>\"\",Inventario!C430,0)","v":0},420,0,1001," ",null,{"$f":"IF(Inventario!J430<>\"\",Inventario!J430,0)","v":0},420,0,1001," ",null,0,420,0,1001," "]
[null,null,null,null,null,null,null,null,null,null,null,null,{"$f":"IF(Inventario!C431<>\"\",Inventario!C431,0)","v":0},421,0,1001," ",null,{"$f":"IF(Inventario!J431<>\"\",Inventario!J431,0)","v":0},421,0,1001," ",null,0,421,0,1001," "]
[null,null,null,null,null,null,null,null,null,null,null,null,{"$f":"IF(Inventario!C432<>\"\",Inventario!C432,0)","v":0},422,0,1001," ",null,{"$f":"IF(Inventario!J432<>\"\",Inventario!J432,0)","v":0},422,0,1001," ",null,0,422,0,1001," "]
[null,null,null,null,null,null,null,null,null,null,null,null,{"$f":"IF(Inventario!C433<>\"\",Inventario!C433,0)","v":0},423,0,1001," ",null,{"$f":"IF(Inventario!J433<>\"\",Inventario!J433,0)","v":0},423,0,1001," ",null,0,423,0,1001," "]
[null,null,null,null,null,null,null,null,null,null,null,null,{"$f":"IF(Inventario!C434<>\"\",Inventario!C434,0)","v":0},424,0,1001," ",null,{"$f":"IF(Inventario!J434<>\"\",Inventario!J434,0)","v":0},424,0,1001," ",null,0,424,0,1001," "]
[null,null,null,null,null,null,null,null,null,null,null,null,{"$f":"IF(Inventario!C435<>\"\",Inventario!C435,0)","v":0},425,0,1001," ",null,{"$f":"IF(Inventario!J435<>\"\",Inventario!J435,0)","v":0},425,0,1001," ",null,0,425,0,1001," "]
[null,null,null,null,null,null,null,null,null,null,null,null,{"$f":"IF(Inventario!C436<>\"\",Inventario!C436,0)","v":0},426,0,1001," ",null,{"$f":"IF(Inventario!J436<>\"\",Inventario!J436,0)","v":0},426,0,1001," ",null,0,426,0,1001," "]
[null,null,null,null,null,null,null,null,null,null,null,null,{"$f":"IF(Inventario!C437<>\"\",Inventario!C437,0)","v":0},427,0,1001," ",null,{"$f":"IF(Inventario!J437<>\"\",Inventario!J437,0)","v":0},427,0,1001," ",null,0,427,0,1001," "]
[null,null,null,null,null,null,null,null,null,null,null,null,{"$f":"IF(Inventario!C438<>\"\",Inventario!C438,0)","v":0},428,0,1001," ",null,{"$f":"IF(Inventario!J438<>\"\",Inventario!J438,0)","v":0},428,0,1001," ",null,0,428,0,1001," "]
[null,null,null,null,null,null,null,null,null,null,null,null,{"$f":"IF(Inventario!C439<>\"\",Inventario!C439,0)","v":0},429,0,1001," ",null,{"$f":"IF(Inventario!J439<>\"\",Inventario!J439,0)","v":0},429,0,1001," ",null,0,429,0,1001," "]
[null,null,null,null,null,null,null,null,null,null,null,null,{"$f":"IF(Inventario!C440<>\"\",Inventario!C440,0)","v":0},430,0,1001," ",null,{"$f":"IF(Inventario!J440<>\"\",Inventario!J440,0)","v":0},430,0,1001," ",null,0,430,0,1001," "]
[null,null,null,null,null,null,null,null,null,null,null,null,{"$f":"IF(Inventario!C441<>\"\",Inventario!C441,0)","v":0},431,0,1001," ",null,{"$f":"IF(Inventario!J441<>\"\",Inventario!J441,0)","v":0},431,0,1001," ",null,0,431,0,1001," "]
[null,null,null,null,null,null,null,null,null,null,null,null,{"$f":"IF(Inventario!C442<>\"\",Inventario!C442,0)","v":0},432,0,1001," ",null,{"$f":"IF(Inventario!J442<>\"\",Inventario!J442,0)","v":0},432,0,1001," ",null,0,432,0,1001," "]
[null,null,null,null,null,null,null,null,null,null,null,null,{"$f":"IF(Inventario!C443<>\"\",Inventario!C443,0)","v":0},433,0,1001," ",null,{"$f":"IF(Inventario!J443<>\"\",Inventario!J443,0)","v":0},433,0,1001," ",null,0,433,0,1001," "]
[null,null,null,null,null,null,null,null,null,null,null,null,{"$f":"IF(Inventario!C444<>\"\",Inventario!C444,0)","v":0},434,0,1001," ",null,{"$f":"IF(Inventario!J444<>\"\",Inventario!J444,0)","v":0},434,0,1001," ",null,0,434,0,1001," "]
[null,null,null,null,null,null,null,null,null,null,null,null,{"$f":"IF(Inventario!C445<>\"\",Inventario!C445,0)","v":0},435,0,1001," ",null,{"$f":"IF(Inventario!J445<>\"\",Inventario!J445,0)","v":0},435,0,1001," ",null,0,435,0,1001," "]
[null,null,null,null,null,null,null,null,null,null,null,null,{"$f":"IF(Inventario!C446<>\"\",Inventario!C446,0)","v":0},436,0,1001," ",null,{"$f":"IF(Inventario!J446<>\"\",Inventario!J446,0)","v":0},436,0,1001," ",null,0,436,0,1001," "]
[null,null,null,null,null,null,null,null,null,null,null,null,{"$f":"IF(Inventario!C447<>\"\",Inventario!C447,0)","v":0},437,0,1001," ",null,{"$f":"IF(Inventario!J447<>\"\",Inventario!J447,0)","v":0},437,0,1001," ",null,0,437,0,1001," "]
[null,null,null,null,null,null,null,null,null,null,null,null,{"$f":"IF(Inventario!C448<>\"\",Inventario!C448,0)","v":0},438,0,1001," ",null,{"$f":"IF(Inventario!J448<>\"\",Inventario!J448,0)","v":0},438,0,1001," ",null,0,438,0,1001," "]
[null,null,null,null,null,null,null,null,null,null,null,null,{"$f":"IF(Inventario!C449<>\"\",Inventario!C449,0)","v":0},439,0,1001," ",null,{"$f":"IF(Inventario!J449<>\"\",Inventario!J449,0)","v":0},439,0,1001," ",null,0,439,0,1001," "]
[null,null,null,null,null,null,null,null,null,null,null,null,{"$f":"IF(Inventario!C450<>\"\",Inventario!C450,0)","v":0},440,0,1001," ",null,{"$f":"IF(Inventario!J450<>\"\",Inventario!J450,0)","v":0},440,0,1001," ",null,0,440,0,1001," "]
[null,null,null,null,null,null,null,null,null,null,null,null,{"$f":"IF(Inventario!C451<>\"\",Inventario!C451,0)","v":0},441,0,1001," ",null,{"$f":"IF(Inventario!J451<>\"\",Inventario!J451,0)","v":0},441,0,1001," ",null,0,441,0,1001," "]
[null,null,null,null,null,null,null,null,null,null,null,null,{"$f":"IF(Inventario!C452<>\"\",Inventario!C452,0)","v":0},442,0,1001," ",null,{"$f":"IF(Inventario!J452<>\"\",Inventario!J452,0)","v":0},442,0,1001," ",null,0,442,0,1001," "]
[null,null,null,null,null,null,null,null,null,null,null,null,{"$f":"IF(Inventario!C453<>\"\",Inventario!C453,0)","v":0},443,0,1001," ",null,{"$f":"IF(Inventario!J453<>\"\",Inventario!J453,0)","v":0},443,0,1001," ",null,0,443,0,1001," "]
[null,null,null,null,null,null,null,null,null,null,null,null,{"$f":"IF(Inventario!C454<>\"\",Inventario!C454,0)","v":0},444,0,1001," ",null,{"$f":"IF(Inventario!J454<>\"\",Inventario!J454,0)","v":0},444,0,1001," ",null,0,444,0,1001," "]
[null,null,null,null,null,null,null,null,null,null,null,null,{"$f":"IF(Inventario!C455<>\"\",Inventario!C455,0)","v":0},445,0,1001," ",null,{"$f":"IF(Inventario!J455<>\"\",Inventario!J455,0)","v":0},445,0,1001," ",null,0,445,0,1001," "]
[null,null,null,null,null,null,null,null,null,null,null,null,{"$f":"IF(Inventario!C456<>\"\",Inventario!C456,0)","v":0},446,0,1001," ",null,{"$f":"IF(Inventario!J456<>\"\",Inventario!J456,0)","v":0},446,0,1001," ",null,0,446,0,1001," "]
[null,null,null,null,null,null,null,null,null,null,null,null,{"$f":"IF(Inventario!C457<>\"\",Inventario!C457,0)","v":0},447,0,1001," ",null,{"$f":"IF(Inventario!J457<>\"\",Inventario!J457,0)","v":0},447,0,1001," ",null,0,447,0,1001," "]
[null,null,null,null,null,null,null,null,null,null,null,null,{"$f":"IF(Inventario!C458<>\"\",Inventario!C458,0)","v":0},448,0,1001," ",null,{"$f":"IF(Inventario!J458<>\"\",Inventario!J458,0)","v":0},448,0,1001," ",null,0,448,0,1001," "]
[null,null,null,null,null,null,null,null,null,null,null,null,{"$f":"IF(Inventario!C459<>\"\",Inventario!C459,0)","v":0},449,0,1001,{"$f":"IFERROR(VLOOKUP(SMALL($P$6:$P$1005,N454),$N$6:$O$1005,2,FALSE),\" \")","v":" "},null,{"$f":"IF(Inventario!J459<>\"\",Inventario!J459,0)","v":0},449,0,1001,{"$f":"IFERROR(VLOOKUP(SMALL($V$6:$V$1005,T454),$T$6:$U$1005,2,FALSE),\" \")","v":" "},null,0,449,0,1001,{"$f":"IFERROR(VLOOKUP(SMALL($AB$6:$AB$1005,Z454),$Z$6:$AA$1005,2,FALSE),\" \")","v":" "}]
[null,null,null,null,null,null,null,null,null,null,null,null,{"$f":"IF(Inventario!C460<>\"\",Inventario!C460,0)","v":0},450,{"$f":"M455","v":0},{"$f":"IF(O455=0,MAX($N$6:$N$1005)+1,N455)","v":1001}," ",null,{"$f":"IF(Inventario!J460<>\"\",Inventario!J460,0)","v":0},450,{"$f":"S455","v":0},{"$f":"IF(U455=0,MAX($T$6:$T$1005)+1,T455)","v":1001}," ",null,{"$f":"IF(AND(M455=0,S455=0),0,IF(AND(M455<>0,S455=0),M455,IF(AND(M455=0,S455<>0),S455,IF(AND(M455<>0,S455<>0),(CONCATENATE(M455,S455))))))","v":0},450,{"$f":"Y455","v":0},{"$f":"IF(AA455=0,MAX($Z$6:$Z$1005)+1,Z455)","v":1001}," "]
[null,null,null,null,null,null,null,null,null,null,null,null,{"$f":"IF(Inventario!C461<>\"\",Inventario!C461,0)","v":0},451,0,1001," ",null,{"$f":"IF(Inventario!J461<>\"\",Inventario!J461,0)","v":0},451,0,1001," ",null,0,451,0,1001," "]
[null,null,null,null,null,null,null,null,null,null,null,null,{"$f":"IF(Inventario!C462<>\"\",Inventario!C462,0)","v":0},452,0,1001," ",null,{"$f":"IF(Inventario!J462<>\"\",Inventario!J462,0)","v":0},452,0,1001," ",null,0,452,0,1001," "]
[null,null,null,null,null,null,null,null,null,null,null,null,{"$f":"IF(Inventario!C463<>\"\",Inventario!C463,0)","v":0},453,0,1001," ",null,{"$f":"IF(Inventario!J463<>\"\",Inventario!J463,0)","v":0},453,0,1001," ",null,0,453,0,1001," "]
[null,null,null,null,null,null,null,null,null,null,null,null,{"$f":"IF(Inventario!C464<>\"\",Inventario!C464,0)","v":0},454,0,1001," ",null,{"$f":"IF(Inventario!J464<>\"\",Inventario!J464,0)","v":0},454,0,1001," ",null,0,454,0,1001," "]
[null,null,null,null,null,null,null,null,null,null,null,null,{"$f":"IF(Inventario!C465<>\"\",Inventario!C465,0)","v":0},455,0,1001," ",null,{"$f":"IF(Inventario!J465<>\"\",Inventario!J465,0)","v":0},455,0,1001," ",null,0,455,0,1001," "]
[null,null,null,null,null,null,null,null,null,null,null,null,{"$f":"IF(Inventario!C466<>\"\",Inventario!C466,0)","v":0},456,0,1001," ",null,{"$f":"IF(Inventario!J466<>\"\",Inventario!J466,0)","v":0},456,0,1001," ",null,0,456,0,1001," "]
[null,null,null,null,null,null,null,null,null,null,null,null,{"$f":"IF(Inventario!C467<>\"\",Inventario!C467,0)","v":0},457,0,1001," ",null,{"$f":"IF(Inventario!J467<>\"\",Inventario!J467,0)","v":0},457,0,1001," ",null,0,457,0,1001," "]
[null,null,null,null,null,null,null,null,null,null,null,null,{"$f":"IF(Inventario!C468<>\"\",Inventario!C468,0)","v":0},458,0,1001," ",null,{"$f":"IF(Inventario!J468<>\"\",Inventario!J468,0)","v":0},458,0,1001," ",null,0,458,0,1001," "]
[null,null,null,null,null,null,null,null,null,null,null,null,{"$f":"IF(Inventario!C469<>\"\",Inventario!C469,0)","v":0},459,0,1001," ",null,{"$f":"IF(Inventario!J469<>\"\",Inventario!J469,0)","v":0},459,0,1001," ",null,0,459,0,1001," "]
[null,null,null,null,null,null,null,null,null,null,null,null,{"$f":"IF(Inventario!C470<>\"\",Inventario!C470,0)","v":0},460,0,1001," ",null,{"$f":"IF(Inventario!J470<>\"\",Inventario!J470,0)","v":0},460,0,1001," ",null,0,460,0,1001," "]
[null,null,null,null,null,null,null,null,null,null,null,null,{"$f":"IF(Inventario!C471<>\"\",Inventario!C471,0)","v":0},461,0,1001," ",null,{"$f":"IF(Inventario!J471<>\"\",Inventario!J471,0)","v":0},461,0,1001," ",null,0,461,0,1001," "]
[null,null,null,null,null,null,null,null,null,null,null,null,{"$f":"IF(Inventario!C472<>\"\",Inventario!C472,0)","v":0},462,0,1001," ",null,{"$f":"IF(Inventario!J472<>\"\",Inventario!J472,0)","v":0},462,0,1001," ",null,0,462,0,1001," "]
[null,null,null,null,null,null,null,null,null,null,null,null,{"$f":"IF(Inventario!C473<>\"\",Inventario!C473,0)","v":0},463,0,1001," ",null,{"$f":"IF(Inventario!J473<>\"\",Inventario!J473,0)","v":0},463,0,1001," ",null,0,463,0,1001," "]
[null,null,null,null,null,null,null,null,null,null,null,null,{"$f":"IF(Inventario!C474<>\"\",Inventario!C474,0)","v":0},464,0,1001," ",null,{"$f":"IF(Inventario!J474<>\"\",Inventario!J474,0)","v":0},464,0,1001," ",null,0,464,0,1001," "]
[null,null,null,null,null,null,null,null,null,null,null,null,{"$f":"IF(Inventario!C475<>\"\",Inventario!C475,0)","v":0},465,0,1001," ",null,{"$f":"IF(Inventario!J475<>\"\",Inventario!J475,0)","v":0},465,0,1001," ",null,0,465,0,1001," "]
[null,null,null,null,null,null,null,null,null,null,null,null,{"$f":"IF(Inventario!C476<>\"\",Inventario!C476,0)","v":0},466,0,1001," ",null,{"$f":"IF(Inventario!J476<>\"\",Inventario!J476,0)","v":0},466,0,1001," ",null,0,466,0,1001," "]
[null,null,null,null,null,null,null,null,null,null,null,null,{"$f":"IF(Inventario!C477<>\"\",Inventario!C477,0)","v":0},467,0,1001," ",null,{"$f":"IF(Inventario!J477<>\"\",Inventario!J477,0)","v":0},467,0,1001," ",null,0,467,0,1001," "]
[null,null,null,null,null,null,null,null,null,null,null,null,{"$f":"IF(Inventario!C478<>\"\",Inventario!C478,0)","v":0},468,0,1001," ",null,{"$f":"IF(Inventario!J478<>\"\",Inventario!J478,0)","v":0},468,0,1001," ",null,0,468,0,1001," "]
[null,null,null,null,null,null,null,null,null,null,null,null,{"$f":"IF(Inventario!C479<>\"\",Inventario!C479,0)","v":0},469,0,1001," ",null,{"$f":"IF(Inventario!J479<>\"\",Inventario!J479,0)","v":0},469,0,1001," ",null,0,469,0,1001," "]
[null,null,null,null,null,null,null,null,null,null,null,null,{"$f":"IF(Inventario!C480<>\"\",Inventario!C480,0)","v":0},470,0,1001," ",null,{"$f":"IF(Inventario!J480<>\"\",Inventario!J480,0)","v":0},470,0,1001," ",null,0,470,0,1001," "]
[null,null,null,null,null,null,null,null,null,null,null,null,{"$f":"IF(Inventario!C481<>\"\",Inventario!C481,0)","v":0},471,0,1001," ",null,{"$f":"IF(Inventario!J481<>\"\",Inventario!J481,0)","v":0},471,0,1001," ",null,0,471,0,1001," "]
[null,null,null,null,null,null,null,null,null,null,null,null,{"$f":"IF(Inventario!C482<>\"\",Inventario!C482,0)","v":0},472,0,1001," ",null,{"$f":"IF(Inventario!J482<>\"\",Inventario!J482,0)","v":0},472,0,1001," ",null,0,472,0,1001," "]
[null,null,null,null,null,null,null,null,null,null,null,null,{"$f":"IF(Inventario!C483<>\"\",Inventario!C483,0)","v":0},473,0,1001," ",null,{"$f":"IF(Inventario!J483<>\"\",Inventario!J483,0)","v":0},473,0,1001," ",null,0,473,0,1001," "]
[null,null,null,null,null,null,null,null,null,null,null,null,{"$f":"IF(Inventario!C484<>\"\",Inventario!C484,0)","v":0},474,0,1001," ",null,{"$f":"IF(Inventario!J484<>\"\",Inventario!J484,0)","v":0},474,0,1001," ",null,0,474,0,1001," "]
[null,null,null,null,null,null,null,null,null,null,null,null,{"$f":"IF(Inventario!C485<>\"\",Inventario!C485,0)","v":0},475,0,1001," ",null,{"$f":"IF(Inventario!J485<>\"\",Inventario!J485,0)","v":0},475,0,1001," ",null,0,475,0,1001," "]
[null,null,null,null,null,null,null,null,null,null,null,null,{"$f":"IF(Inventario!C486<>\"\",Inventario!C486,0)","v":0},476,0,1001," ",null,{"$f":"IF(Inventario!J486<>\"\",Inventario!J486,0)","v":0},476,0,1001," ",null,0,476,0,1001," "]
[null,null,null,null,null,null,null,null,null,null,null,null,{"$f":"IF(Inventario!C487<>\"\",Inventario!C487,0)","v":0},477,0,1001," ",null,{"$f":"IF(Inventario!J487<>\"\",Inventario!J487,0)","v":0},477,0,1001," ",null,0,477,0,1001," "]
[null,null,null,null,null,null,null,null,null,null,null,null,{"$f":"IF(Inventario!C488<>\"\",Inventario!C488,0)","v":0},478,0,1001," ",null,{"$f":"IF(Inventario!J488<>\"\",Inventario!J488,0)","v":0},478,0,1001," ",null,0,478,0,1001," "]
[null,null,null,null,null,null,null,null,null,null,null,null,{"$f":"IF(Inventario!C489<>\"\",Inventario!C489,0)","v":0},479,0,1001," ",null,{"$f":"IF(Inventario!J489<>\"\",Inventario!J489,0)","v":0},479,0,1001," ",null,0,479,0,1001," "]
[null,null,null,null,null,null,null,null,null,null,null,null,{"$f":"IF(Inventario!C490<>\"\",Inventario!C490,0)","v":0},480,0,1001," ",null,{"$f":"IF(Inventario!J490<>\"\",Inventario!J490,0)","v":0},480,0,1001," ",null,0,480,0,1001," "]
[null,null,null,null,null,null,null,null,null,null,null,null,{"$f":"IF(Inventario!C491<>\"\",Inventario!C491,0)","v":0},481,0,1001," ",null,{"$f":"IF(Inventario!J491<>\"\",Inventario!J491,0)","v":0},481,0,1001," ",null,0,481,0,1001," "]
[null,null,null,null,null,null,null,null,null,null,null,null,{"$f":"IF(Inventario!C492<>\"\",Inventario!C492,0)","v":0},482,0,1001," ",null,{"$f":"IF(Inventario!J492<>\"\",Inventario!J492,0)","v":0},482,0,1001," ",null,0,482,0,1001," "]
[null,null,null,null,null,null,null,null,null,null,null,null,{"$f":"IF(Inventario!C493<>\"\",Inventario!C493,0)","v":0},483,0,1001," ",null,{"$f":"IF(Inventario!J493<>\"\",Inventario!J493,0)","v":0},483,0,1001," ",null,0,483,0,1001," "]
[null,null,null,null,null,null,null,null,null,null,null,null,{"$f":"IF(Inventario!C494<>\"\",Inventario!C494,0)","v":0},484,0,1001," ",null,{"$f":"IF(Inventario!J494<>\"\",Inventario!J494,0)","v":0},484,0,1001," ",null,0,484,0,1001," "]
[null,null,null,null,null,null,null,null,null,null,null,null,{"$f":"IF(Inventario!C495<>\"\",Inventario!C495,0)","v":0},485,0,1001," ",null,{"$f":"IF(Inventario!J495<>\"\",Inventario!J495,0)","v":0},485,0,1001," ",null,0,485,0,1001," "]
[null,null,null,null,null,null,null,null,null,null,null,null,{"$f":"IF(Inventario!C496<>\"\",Inventario!C496,0)","v":0},486,0,1001," ",null,{"$f":"IF(Inventario!J496<>\"\",Inventario!J496,0)","v":0},486,0,1001," ",null,0,486,0,1001," "]
[null,null,null,null,null,null,null,null,null,null,null,null,{"$f":"IF(Inventario!C497<>\"\",Inventario!C497,0)","v":0},487,0,1001," ",null,{"$f":"IF(Inventario!J497<>\"\",Inventario!J497,0)","v":0},487,0,1001," ",null,0,487,0,1001," "]
[null,null,null,null,null,null,null,null,null,null,null,null,{"$f":"IF(Inventario!C498<>\"\",Inventario!C498,0)","v":0},488,0,1001," ",null,{"$f":"IF(Inventario!J498<>\"\",Inventario!J498,0)","v":0},488,0,1001," ",null,0,488,0,1001," "]
[null,null,null,null,null,null,null,null,null,null,null,null,{"$f":"IF(Inventario!C499<>\"\",Inventario!C499,0)","v":0},489,0,1001," ",null,{"$f":"IF(Inventario!J499<>\"\",Inventario!J499,0)","v":0},489,0,1001," ",null,0,489,0,1001," "]
[null,null,null,null,null,null,null,null,null,null,null,null,{"$f":"IF(Inventario!C500<>\"\",Inventario!C500,0)","v":0},490,0,1001," ",null,{"$f":"IF(Inventario!J500<>\"\",Inventario!J500,0)","v":0},490,0,1001," ",null,0,490,0,1001," "]
[null,null,null,null,null,null,null,null,null,null,null,null,{"$f":"IF(Inventario!C501<>\"\",Inventario!C501,0)","v":0},491,0,1001," ",null,{"$f":"IF(Inventario!J501<>\"\",Inventario!J501,0)","v":0},491,0,1001," ",null,0,491,0,1001," "]
[null,null,null,null,null,null,null,null,null,null,null,null,{"$f":"IF(Inventario!C502<>\"\",Inventario!C502,0)","v":0},492,0,1001," ",null,{"$f":"IF(Inventario!J502<>\"\",Inventario!J502,0)","v":0},492,0,1001," ",null,0,492,0,1001," "]
[null,null,null,null,null,null,null,null,null,null,null,null,{"$f":"IF(Inventario!C503<>\"\",Inventario!C503,0)","v":0},493,0,1001," ",null,{"$f":"IF(Inventario!J503<>\"\",Inventario!J503,0)","v":0},493,0,1001," ",null,0,493,0,1001," "]
[null,null,null,null,null,null,null,null,null,null,null,null,{"$f":"IF(Inventario!C504<>\"\",Inventario!C504,0)","v":0},494,0,1001," ",null,{"$f":"IF(Inventario!J504<>\"\",Inventario!J504,0)","v":0},494,0,1001," ",null,0,494,0,1001," "]
[null,null,null,null,null,null,null,null,null,null,null,null,{"$f":"IF(Inventario!C505<>\"\",Inventario!C505,0)","v":0},495,0,1001," ",null,{"$f":"IF(Inventario!J505<>\"\",Inventario!J505,0)","v":0},495,0,1001," ",null,0,495,0,1001," "]
[null,null,null,null,null,null,null,null,null,null,null,null,{"$f":"IF(Inventario!C506<>\"\",Inventario!C506,0)","v":0},496,0,1001," ",null,{"$f":"IF(Inventario!J506<>\"\",Inventario!J506,0)","v":0},496,0,1001," ",null,0,496,0,1001," "]
[null,null,null,null,null,null,null,null,null,null,null,null,{"$f":"IF(Inventario!C507<>\"\",Inventario!C507,0)","v":0},497,0,1001," ",null,{"$f":"IF(Inventario!J507<>\"\",Inventario!J507,0)","v":0},497,0,1001," ",null,0,497,0,1001," "]
[null,null,null,null,null,null,null,null,null,null,null,null,{"$f":"IF(Inventario!C508<>\"\",Inventario!C508,0)","v":0},498,0,1001," ",null,{"$f":"IF(Inventario!J508<>\"\",Inventario!J508,0)","v":0},498,0,1001," ",null,0,498,0,1001," "]
[null,null,null,null,null,null,null,null,null,null,null,null,{"$f":"IF(Inventario!C509<>\"\",Inventario!C509,0)","v":0},499,0,1001," ",null,{"$f":"IF(Inventario!J509<>\"\",Inventario!J509,0)","v":0},499,0,1001," ",null,0,499,0,1001," "]
[null,null,null,null,null,null,null,null,null,null,null,null,{"$f":"IF(Inventario!C510<>\"\",Inventario!C510,0)","v":0},500,0,1001," ",null,{"$f":"IF(Inventario!J510<>\"\",Inventario!J510,0)","v":0},500,0,1001," ",null,0,500,0,1001," "]
[null,null,null,null,null,null,null,null,null,null,null,null,{"$f":"IF(Inventario!C511<>\"\",Inventario!C511,0)","v":0},501,0,1001," ",null,{"$f":"IF(Inventario!J511<>\"\",Inventario!J511,0)","v":0},501,0,1001," ",null,0,501,0,1001," "]
[null,null,null,null,null,null,null,null,null,null,null,null,{"$f":"IF(Inventario!C512<>\"\",Inventario!C512,0)","v":0},502,0,1001," ",null,{"$f":"IF(Inventario!J512<>\"\",Inventario!J512,0)","v":0},502,0,1001," ",null,0,502,0,1001," "]
[null,null,null,null,null,null,null,null,null,null,null,null,{"$f":"IF(Inventario!C513<>\"\",Inventario!C513,0)","v":0},503,0,1001," ",null,{"$f":"IF(Inventario!J513<>\"\",Inventario!J513,0)","v":0},503,0,1001," ",null,0,503,0,1001," "]
[null,null,null,null,null,null,null,null,null,null,null,null,{"$f":"IF(Inventario!C514<>\"\",Inventario!C514,0)","v":0},504,0,1001," ",null,{"$f":"IF(Inventario!J514<>\"\",Inventario!J514,0)","v":0},504,0,1001," ",null,0,504,0,1001," "]
[null,null,null,null,null,null,null,null,null,null,null,null,{"$f":"IF(Inventario!C515<>\"\",Inventario!C515,0)","v":0},505,0,1001," ",null,{"$f":"IF(Inventario!J515<>\"\",Inventario!J515,0)","v":0},505,0,1001," ",null,0,505,0,1001," "]
[null,null,null,null,null,null,null,null,null,null,null,null,{"$f":"IF(Inventario!C516<>\"\",Inventario!C516,0)","v":0},506,0,1001," ",null,{"$f":"IF(Inventario!J516<>\"\",Inventario!J516,0)","v":0},506,0,1001," ",null,0,506,0,1001," "]
[null,null,null,null,null,null,null,null,null,null,null,null,{"$f":"IF(Inventario!C517<>\"\",Inventario!C517,0)","v":0},507,0,1001," ",null,{"$f":"IF(Inventario!J517<>\"\",Inventario!J517,0)","v":0},507,0,1001," ",null,0,507,0,1001," "]
[null,null,null,null,null,null,null,null,null,null,null,null,{"$f":"IF(Inventario!C518<>\"\",Inventario!C518,0)","v":0},508,0,1001," ",null,{"$f":"IF(Inventario!J518<>\"\",Inventario!J518,0)","v":0},508,0,1001," ",null,0,508,0,1001," "]
[null,null,null,null,null,null,null,null,null,null,null,null,{"$f":"IF(Inventario!C519<>\"\",Inventario!C519,0)","v":0},509,0,1001," ",null,{"$f":"IF(Inventario!J519<>\"\",Inventario!J519,0)","v":0},509,0,1001," ",null,0,509,0,1001," "]
[null,null,null,null,null,null,null,null,null,null,null,null,{"$f":"IF(Inventario!C520<>\"\",Inventario!C520,0)","v":0},510,0,1001," ",null,{"$f":"IF(Inventario!J520<>\"\",Inventario!J520,0)","v":0},510,0,1001," ",null,0,510,0,1001," "]
[null,null,null,null,null,null,null,null,null,null,null,null,{"$f":"IF(Inventario!C521<>\"\",Inventario!C521,0)","v":0},511,0,1001," ",null,{"$f":"IF(Inventario!J521<>\"\",Inventario!J521,0)","v":0},511,0,1001," ",null,0,511,0,1001," "]
[null,null,null,null,null,null,null,null,null,null,null,null,{"$f":"IF(Inventario!C522<>\"\",Inventario!C522,0)","v":0},512,0,1001," ",null,{"$f":"IF(Inventario!J522<>\"\",Inventario!J522,0)","v":0},512,0,1001," ",null,0,512,0,1001," "]
[null,null,null,null,null,null,null,null,null,null,null,null,{"$f":"IF(Inventario!C523<>\"\",Inventario!C523,0)","v":0},513,0,1001,{"$f":"IFERROR(VLOOKUP(SMALL($P$6:$P$1005,N518),$N$6:$O$1005,2,FALSE),\" \")","v":" "},null,{"$f":"IF(Inventario!J523<>\"\",Inventario!J523,0)","v":0},513,0,1001,{"$f":"IFERROR(VLOOKUP(SMALL($V$6:$V$1005,T518),$T$6:$U$1005,2,FALSE),\" \")","v":" "},null,0,513,0,1001,{"$f":"IFERROR(VLOOKUP(SMALL($AB$6:$AB$1005,Z518),$Z$6:$AA$1005,2,FALSE),\" \")","v":" "}]
[null,null,null,null,null,null,null,null,null,null,null,null,{"$f":"IF(Inventario!C524<>\"\",Inventario!C524,0)","v":0},514,{"$f":"M519","v":0},{"$f":"IF(O519=0,MAX($N$6:$N$1005)+1,N519)","v":1001}," ",null,{"$f":"IF(Inventario!J524<>\"\",Inventario!J524,0)","v":0},514,{"$f":"S519","v":0},{"$f":"IF(U519=0,MAX($T$6:$T$1005)+1,T519)","v":1001}," ",null,{"$f":"IF(AND(M519=0,S519=0),0,IF(AND(M519<>0,S519=0),M519,IF(AND(M519=0,S519<>0),S519,IF(AND(M519<>0,S519<>0),(CONCATENATE(M519,S519))))))","v":0},514,{"$f":"Y519","v":0},{"$f":"IF(AA519=0,MAX($Z$6:$Z$1005)+1,Z519)","v":1001}," "]
[null,null,null,null,null,null,null,null,null,null,null,null,{"$f":"IF(Inventario!C525<>\"\",Inventario!C525,0)","v":0},515,0,1001," ",null,{"$f":"IF(Inventario!J525<>\"\",Inventario!J525,0)","v":0},515,0,1001," ",null,0,515,0,1001," "]
[null,null,null,null,null,null,null,null,null,null,null,null,{"$f":"IF(Inventario!C526<>\"\",Inventario!C526,0)","v":0},516,0,1001," ",null,{"$f":"IF(Inventario!J526<>\"\",Inventario!J526,0)","v":0},516,0,1001," ",null,0,516,0,1001," "]
[null,null,null,null,null,null,null,null,null,null,null,null,{"$f":"IF(Inventario!C527<>\"\",Inventario!C527,0)","v":0},517,0,1001," ",null,{"$f":"IF(Inventario!J527<>\"\",Inventario!J527,0)","v":0},517,0,1001," ",null,0,517,0,1001," "]
[null,null,null,null,null,null,null,null,null,null,null,null,{"$f":"IF(Inventario!C528<>\"\",Inventario!C528,0)","v":0},518,0,1001," ",null,{"$f":"IF(Inventario!J528<>\"\",Inventario!J528,0)","v":0},518,0,1001," ",null,0,518,0,1001," "]
[null,null,null,null,null,null,null,null,null,null,null,null,{"$f":"IF(Inventario!C529<>\"\",Inventario!C529,0)","v":0},519,0,1001," ",null,{"$f":"IF(Inventario!J529<>\"\",Inventario!J529,0)","v":0},519,0,1001," ",null,0,519,0,1001," "]
[null,null,null,null,null,null,null,null,null,null,null,null,{"$f":"IF(Inventario!C530<>\"\",Inventario!C530,0)","v":0},520,0,1001," ",null,{"$f":"IF(Inventario!J530<>\"\",Inventario!J530,0)","v":0},520,0,1001," ",null,0,520,0,1001," "]
[null,null,null,null,null,null,null,null,null,null,null,null,{"$f":"IF(Inventario!C531<>\"\",Inventario!C531,0)","v":0},521,0,1001," ",null,{"$f":"IF(Inventario!J531<>\"\",Inventario!J531,0)","v":0},521,0,1001," ",null,0,521,0,1001," "]
[null,null,null,null,null,null,null,null,null,null,null,null,{"$f":"IF(Inventario!C532<>\"\",Inventario!C532,0)","v":0},522,0,1001," ",null,{"$f":"IF(Inventario!J532<>\"\",Inventario!J532,0)","v":0},522,0,1001," ",null,0,522,0,1001," "]
[null,null,null,null,null,null,null,null,null,null,null,null,{"$f":"IF(Inventario!C533<>\"\",Inventario!C533,0)","v":0},523,0,1001," ",null,{"$f":"IF(Inventario!J533<>\"\",Inventario!J533,0)","v":0},523,0,1001," ",null,0,523,0,1001," "]
[null,null,null,null,null,null,null,null,null,null,null,null,{"$f":"IF(Inventario!C534<>\"\",Inventario!C534,0)","v":0},524,0,1001," ",null,{"$f":"IF(Inventario!J534<>\"\",Inventario!J534,0)","v":0},524,0,1001," ",null,0,524,0,1001," "]
[null,null,null,null,null,null,null,null,null,null,null,null,{"$f":"IF(Inventario!C535<>\"\",Inventario!C535,0)","v":0},525,0,1001," ",null,{"$f":"IF(Inventario!J535<>\"\",Inventario!J535,0)","v":0},525,0,1001," ",null,0,525,0,1001," "]
[null,null,null,null,null,null,null,null,null,null,null,null,{"$f":"IF(Inventario!C536<>\"\",Inventario!C536,0)","v":0},526,0,1001," ",null,{"$f":"IF(Inventario!J536<>\"\",Inventario!J536,0)","v":0},526,0,1001," ",null,0,526,0,1001," "]
[null,null,null,null,null,null,null,null,null,null,null,null,{"$f":"IF(Inventario!C537<>\"\",Inventario!C537,0)","v":0},527,0,1001," ",null,{"$f":"IF(Inventario!J537<>\"\",Inventario!J537,0)","v":0},527,0,1001," ",null,0,527,0,1001," "]
[null,null,null,null,null,null,null,null,null,null,null,null,{"$f":"IF(Inventario!C538<>\"\",Inventario!C538,0)","v":0},528,0,1001," ",null,{"$f":"IF(Inventario!J538<>\"\",Inventario!J538,0)","v":0},528,0,1001," ",null,0,528,0,1001," "]
[null,null,null,null,null,null,null,null,null,null,null,null,{"$f":"IF(Inventario!C539<>\"\",Inventario!C539,0)","v":0},529,0,1001," ",null,{"$f":"IF(Inventario!J539<>\"\",Inventario!J539,0)","v":0},529,0,1001," ",null,0,529,0,1001," "]
[null,null,null,null,null,null,null,null,null,null,null,null,{"$f":"IF(Inventario!C540<>\"\",Inventario!C540,0)","v":0},530,0,1001," ",null,{"$f":"IF(Inventario!J540<>\"\",Inventario!J540,0)","v":0},530,0,1001," ",null,0,530,0,1001," "]
[null,null,null,null,null,null,null,null,null,null,null,null,{"$f":"IF(Inventario!C541<>\"\",Inventario!C541,0)","v":0},531,0,1001," ",null,{"$f":"IF(Inventario!J541<>\"\",Inventario!J541,0)","v":0},531,0,1001," ",null,0,531,0,1001," "]
[null,null,null,null,null,null,null,null,null,null,null,null,{"$f":"IF(Inventario!C542<>\"\",Inventario!C542,0)","v":0},532,0,1001," ",null,{"$f":"IF(Inventario!J542<>\"\",Inventario!J542,0)","v":0},532,0,1001," ",null,0,532,0,1001," "]
[null,null,null,null,null,null,null,null,null,null,null,null,{"$f":"IF(Inventario!C543<>\"\",Inventario!C543,0)","v":0},533,0,1001," ",null,{"$f":"IF(Inventario!J543<>\"\",Inventario!J543,0)","v":0},533,0,1001," ",null,0,533,0,1001," "]
[null,null,null,null,null,null,null,null,null,null,null,null,{"$f":"IF(Inventario!C544<>\"\",Inventario!C544,0)","v":0},534,0,1001," ",null,{"$f":"IF(Inventario!J544<>\"\",Inventario!J544,0)","v":0},534,0,1001," ",null,0,534,0,1001," "]
[null,null,null,null,null,null,null,null,null,null,null,null,{"$f":"IF(Inventario!C545<>\"\",Inventario!C545,0)","v":0},535,0,1001," ",null,{"$f":"IF(Inventario!J545<>\"\",Inventario!J545,0)","v":0},535,0,1001," ",null,0,535,0,1001," "]
[null,null,null,null,null,null,null,null,null,null,null,null,{"$f":"IF(Inventario!C546<>\"\",Inventario!C546,0)","v":0},536,0,1001," ",null,{"$f":"IF(Inventario!J546<>\"\",Inventario!J546,0)","v":0},536,0,1001," ",null,0,536,0,1001," "]
[null,null,null,null,null,null,null,null,null,null,null,null,{"$f":"IF(Inventario!C547<>\"\",Inventario!C547,0)","v":0},537,0,1001," ",null,{"$f":"IF(Inventario!J547<>\"\",Inventario!J547,0)","v":0},537,0,1001," ",null,0,537,0,1001," "]
[null,null,null,null,null,null,null,null,null,null,null,null,{"$f":"IF(Inventario!C548<>\"\",Inventario!C548,0)","v":0},538,0,1001," ",null,{"$f":"IF(Inventario!J548<>\"\",Inventario!J548,0)","v":0},538,0,1001," ",null,0,538,0,1001," "]
[null,null,null,null,null,null,null,null,null,null,null,null,{"$f":"IF(Inventario!C549<>\"\",Inventario!C549,0)","v":0},539,0,1001," ",null,{"$f":"IF(Inventario!J549<>\"\",Inventario!J549,0)","v":0},539,0,1001," ",null,0,539,0,1001," "]
[null,null,null,null,null,null,null,null,null,null,null,null,{"$f":"IF(Inventario!C550<>\"\",Inventario!C550,0)","v":0},540,0,1001," ",null,{"$f":"IF(Inventario!J550<>\"\",Inventario!J550,0)","v":0},540,0,1001," ",null,0,540,0,1001," "]
[null,null,null,null,null,null,null,null,null,null,null,null,{"$f":"IF(Inventario!C551<>\"\",Inventario!C551,0)","v":0},541,0,1001," ",null,{"$f":"IF(Inventario!J551<>\"\",Inventario!J551,0)","v":0},541,0,1001," ",null,0,541,0,1001," "]
[null,null,null,null,null,null,null,null,null,null,null,null,{"$f":"IF(Inventario!C552<>\"\",Inventario!C552,0)","v":0},542,0,1001," ",null,{"$f":"IF(Inventario!J552<>\"\",Inventario!J552,0)","v":0},542,0,1001," ",null,0,542,0,1001," "]
[null,null,null,null,null,null,null,null,null,null,null,null,{"$f":"IF(Inventario!C553<>\"\",Inventario!C553,0)","v":0},543,0,1001," ",null,{"$f":"IF(Inventario!J553<>\"\",Inventario!J553,0)","v":0},543,0,1001," ",null,0,543,0,1001," "]
[null,null,null,null,null,null,null,null,null,null,null,null,{"$f":"IF(Inventario!C554<>\"\",Inventario!C554,0)","v":0},544,0,1001," ",null,{"$f":"IF(Inventario!J554<>\"\",Inventario!J554,0)","v":0},544,0,1001," ",null,0,544,0,1001," "]
[null,null,null,null,null,null,null,null,null,null,null,null,{"$f":"IF(Inventario!C555<>\"\",Inventario!C555,0)","v":0},545,0,1001," ",null,{"$f":"IF(Inventario!J555<>\"\",Inventario!J555,0)","v":0},545,0,1001," ",null,0,545,0,1001," "]
[null,null,null,null,null,null,null,null,null,null,null,null,{"$f":"IF(Inventario!C556<>\"\",Inventario!C556,0)","v":0},546,0,1001," ",null,{"$f":"IF(Inventario!J556<>\"\",Inventario!J556,0)","v":0},546,0,1001," ",null,0,546,0,1001," "]
[null,null,null,null,null,null,null,null,null,null,null,null,{"$f":"IF(Inventario!C557<>\"\",Inventario!C557,0)","v":0},547,0,1001," ",null,{"$f":"IF(Inventario!J557<>\"\",Inventario!J557,0)","v":0},547,0,1001," ",null,0,547,0,1001," "]
[null,null,null,null,null,null,null,null,null,null,null,null,{"$f":"IF(Inventario!C558<>\"\",Inventario!C558,0)","v":0},548,0,1001," ",null,{"$f":"IF(Inventario!J558<>\"\",Inventario!J558,0)","v":0},548,0,1001," ",null,0,548,0,1001," "]
[null,null,null,null,null,null,null,null,null,null,null,null,{"$f":"IF(Inventario!C559<>\"\",Inventario!C559,0)","v":0},549,0,1001," ",null,{"$f":"IF(Inventario!J559<>\"\",Inventario!J559,0)","v":0},549,0,1001," ",null,0,549,0,1001," "]
[null,null,null,null,null,null,null,null,null,null,null,null,{"$f":"IF(Inventario!C560<>\"\",Inventario!C560,0)","v":0},550,0,1001," ",null,{"$f":"IF(Inventario!J560<>\"\",Inventario!J560,0)","v":0},550,0,1001," ",null,0,550,0,1001," "]
[null,null,null,null,null,null,null,null,null,null,null,null,{"$f":"IF(Inventario!C561<>\"\",Inventario!C561,0)","v":0},551,0,1001," ",null,{"$f":"IF(Inventario!J561<>\"\",Inventario!J561,0)","v":0},551,0,1001," ",null,0,551,0,1001," "]
[null,null,null,null,null,null,null,null,null,null,null,null,{"$f":"IF(Inventario!C562<>\"\",Inventario!C562,0)","v":0},552,0,1001," ",null,{"$f":"IF(Inventario!J562<>\"\",Inventario!J562,0)","v":0},552,0,1001," ",null,0,552,0,1001," "]
[null,null,null,null,null,null,null,null,null,null,null,null,{"$f":"IF(Inventario!C563<>\"\",Inventario!C563,0)","v":0},553,0,1001," ",null,{"$f":"IF(Inventario!J563<>\"\",Inventario!J563,0)","v":0},553,0,1001," ",null,0,553,0,1001," "]
[null,null,null,null,null,null,null,null,null,null,null,null,{"$f":"IF(Inventario!C564<>\"\",Inventario!C564,0)","v":0},554,0,1001," ",null,{"$f":"IF(Inventario!J564<>\"\",Inventario!J564,0)","v":0},554,0,1001," ",null,0,554,0,1001," "]
[null,null,null,null,null,null,null,null,null,null,null,null,{"$f":"IF(Inventario!C565<>\"\",Inventario!C565,0)","v":0},555,0,1001," ",null,{"$f":"IF(Inventario!J565<>\"\",Inventario!J565,0)","v":0},555,0,1001," ",null,0,555,0,1001," "]
[null,null,null,null,null,null,null,null,null,null,null,null,{"$f":"IF(Inventario!C566<>\"\",Inventario!C566,0)","v":0},556,0,1001," ",null,{"$f":"IF(Inventario!J566<>\"\",Inventario!J566,0)","v":0},556,0,1001," ",null,0,556,0,1001," "]
[null,null,null,null,null,null,null,null,null,null,null,null,{"$f":"IF(Inventario!C567<>\"\",Inventario!C567,0)","v":0},557,0,1001," ",null,{"$f":"IF(Inventario!J567<>\"\",Inventario!J567,0)","v":0},557,0,1001," ",null,0,557,0,1001," "]
[null,null,null,null,null,null,null,null,null,null,null,null,{"$f":"IF(Inventario!C568<>\"\",Inventario!C568,0)","v":0},558,0,1001," ",null,{"$f":"IF(Inventario!J568<>\"\",Inventario!J568,0)","v":0},558,0,1001," ",null,0,558,0,1001," "]
[null,null,null,null,null,null,null,null,null,null,null,null,{"$f":"IF(Inventario!C569<>\"\",Inventario!C569,0)","v":0},559,0,1001," ",null,{"$f":"IF(Inventario!J569<>\"\",Inventario!J569,0)","v":0},559,0,1001," ",null,0,559,0,1001," "]
[null,null,null,null,null,null,null,null,null,null,null,null,{"$f":"IF(Inventario!C570<>\"\",Inventario!C570,0)","v":0},560,0,1001," ",null,{"$f":"IF(Inventario!J570<>\"\",Inventario!J570,0)","v":0},560,0,1001," ",null,0,560,0,1001," "]
[null,null,null,null,null,null,null,null,null,null,null,null,{"$f":"IF(Inventario!C571<>\"\",Inventario!C571,0)","v":0},561,0,1001," ",null,{"$f":"IF(Inventario!J571<>\"\",Inventario!J571,0)","v":0},561,0,1001," ",null,0,561,0,1001," "]
[null,null,null,null,null,null,null,null,null,null,null,null,{"$f":"IF(Inventario!C572<>\"\",Inventario!C572,0)","v":0},562,0,1001," ",null,{"$f":"IF(Inventario!J572<>\"\",Inventario!J572,0)","v":0},562,0,1001," ",null,0,562,0,1001," "]
[null,null,null,null,null,null,null,null,null,null,null,null,{"$f":"IF(Inventario!C573<>\"\",Inventario!C573,0)","v":0},563,0,1001," ",null,{"$f":"IF(Inventario!J573<>\"\",Inventario!J573,0)","v":0},563,0,1001," ",null,0,563,0,1001," "]
[null,null,null,null,null,null,null,null,null,null,null,null,{"$f":"IF(Inventario!C574<>\"\",Inventario!C574,0)","v":0},564,0,1001," ",null,{"$f":"IF(Inventario!J574<>\"\",Inventario!J574,0)","v":0},564,0,1001," ",null,0,564,0,1001," "]
[null,null,null,null,null,null,null,null,null,null,null,null,{"$f":"IF(Inventario!C575<>\"\",Inventario!C575,0)","v":0},565,0,1001," ",null,{"$f":"IF(Inventario!J575<>\"\",Inventario!J575,0)","v":0},565,0,1001," ",null,0,565,0,1001," "]
[null,null,null,null,null,null,null,null,null,null,null,null,{"$f":"IF(Inventario!C576<>\"\",Inventario!C576,0)","v":0},566,0,1001," ",null,{"$f":"IF(Inventario!J576<>\"\",Inventario!J576,0)","v":0},566,0,1001," ",null,0,566,0,1001," "]
[null,null,null,null,null,null,null,null,null,null,null,null,{"$f":"IF(Inventario!C577<>\"\",Inventario!C577,0)","v":0},567,0,1001," ",null,{"$f":"IF(Inventario!J577<>\"\",Inventario!J577,0)","v":0},567,0,1001," ",null,0,567,0,1001," "]
[null,null,null,null,null,null,null,null,null,null,null,null,{"$f":"IF(Inventario!C578<>\"\",Inventario!C578,0)","v":0},568,0,1001," ",null,{"$f":"IF(Inventario!J578<>\"\",Inventario!J578,0)","v":0},568,0,1001," ",null,0,568,0,1001," "]
[null,null,null,null,null,null,null,null,null,null,null,null,{"$f":"IF(Inventario!C579<>\"\",Inventario!C579,0)","v":0},569,0,1001," ",null,{"$f":"IF(Inventario!J579<>\"\",Inventario!J579,0)","v":0},569,0,1001," ",null,0,569,0,1001," "]
[null,null,null,null,null,null,null,null,null,null,null,null,{"$f":"IF(Inventario!C580<>\"\",Inventario!C580,0)","v":0},570,0,1001," ",null,{"$f":"IF(Inventario!J580<>\"\",Inventario!J580,0)","v":0},570,0,1001," ",null,0,570,0,1001," "]
[null,null,null,null,null,null,null,null,null,null,null,null,{"$f":"IF(Inventario!C581<>\"\",Inventario!C581,0)","v":0},571,0,1001," ",null,{"$f":"IF(Inventario!J581<>\"\",Inventario!J581,0)","v":0},571,0,1001," ",null,0,571,0,1001," "]
[null,null,null,null,null,null,null,null,null,null,null,null,{"$f":"IF(Inventario!C582<>\"\",Inventario!C582,0)","v":0},572,0,1001," ",null,{"$f":"IF(Inventario!J582<>\"\",Inventario!J582,0)","v":0},572,0,1001," ",null,0,572,0,1001," "]
[null,null,null,null,null,null,null,null,null,null,null,null,{"$f":"IF(Inventario!C583<>\"\",Inventario!C583,0)","v":0},573,0,1001," ",null,{"$f":"IF(Inventario!J583<>\"\",Inventario!J583,0)","v":0},573,0,1001," ",null,0,573,0,1001," "]
[null,null,null,null,null,null,null,null,null,null,null,null,{"$f":"IF(Inventario!C584<>\"\",Inventario!C584,0)","v":0},574,0,1001," ",null,{"$f":"IF(Inventario!J584<>\"\",Inventario!J584,0)","v":0},574,0,1001," ",null,0,574,0,1001," "]
[null,null,null,null,null,null,null,null,null,null,null,null,{"$f":"IF(Inventario!C585<>\"\",Inventario!C585,0)","v":0},575,0,1001," ",null,{"$f":"IF(Inventario!J585<>\"\",Inventario!J585,0)","v":0},575,0,1001," ",null,0,575,0,1001," "]
[null,null,null,null,null,null,null,null,null,null,null,null,{"$f":"IF(Inventario!C586<>\"\",Inventario!C586,0)","v":0},576,0,1001," ",null,{"$f":"IF(Inventario!J586<>\"\",Inventario!J586,0)","v":0},576,0,1001," ",null,0,576,0,1001," "]
[null,null,null,null,null,null,null,null,null,null,null,null,{"$f":"IF(Inventario!C587<>\"\",Inventario!C587,0)","v":0},577,0,1001,{"$f":"IFERROR(VLOOKUP(SMALL($P$6:$P$1005,N582),$N$6:$O$1005,2,FALSE),\" \")","v":" "},null,{"$f":"IF(Inventario!J587<>\"\",Inventario!J587,0)","v":0},577,0,1001,{"$f":"IFERROR(VLOOKUP(SMALL($V$6:$V$1005,T582),$T$6:$U$1005,2,FALSE),\" \")","v":" "},null,0,577,0,1001,{"$f":"IFERROR(VLOOKUP(SMALL($AB$6:$AB$1005,Z582),$Z$6:$AA$1005,2,FALSE),\" \")","v":" "}]
[null,null,null,null,null,null,null,null,null,null,null,null,{"$f":"IF(Inventario!C588<>\"\",Inventario!C588,0)","v":0},578,{"$f":"M583","v":0},{"$f":"IF(O583=0,MAX($N$6:$N$1005)+1,N583)","v":1001}," ",null,{"$f":"IF(Inventario!J588<>\"\",Inventario!J588,0)","v":0},578,{"$f":"S583","v":0},{"$f":"IF(U583=0,MAX($T$6:$T$1005)+1,T583)","v":1001}," ",null,{"$f":"IF(AND(M583=0,S583=0),0,IF(AND(M583<>0,S583=0),M583,IF(AND(M583=0,S583<>0),S583,IF(AND(M583<>0,S583<>0),(CONCATENATE(M583,S583))))))","v":0},578,{"$f":"Y583","v":0},{"$f":"IF(AA583=0,MAX($Z$6:$Z$1005)+1,Z583)","v":1001}," "]
[null,null,null,null,null,null,null,null,null,null,null,null,{"$f":"IF(Inventario!C589<>\"\",Inventario!C589,0)","v":0},579,0,1001," ",null,{"$f":"IF(Inventario!J589<>\"\",Inventario!J589,0)","v":0},579,0,1001," ",null,0,579,0,1001," "]
[null,null,null,null,null,null,null,null,null,null,null,null,{"$f":"IF(Inventario!C590<>\"\",Inventario!C590,0)","v":0},580,0,1001," ",null,{"$f":"IF(Inventario!J590<>\"\",Inventario!J590,0)","v":0},580,0,1001," ",null,0,580,0,1001," "]
[null,null,null,null,null,null,null,null,null,null,null,null,{"$f":"IF(Inventario!C591<>\"\",Inventario!C591,0)","v":0},581,0,1001," ",null,{"$f":"IF(Inventario!J591<>\"\",Inventario!J591,0)","v":0},581,0,1001," ",null,0,581,0,1001," "]
[null,null,null,null,null,null,null,null,null,null,null,null,{"$f":"IF(Inventario!C592<>\"\",Inventario!C592,0)","v":0},582,0,1001," ",null,{"$f":"IF(Inventario!J592<>\"\",Inventario!J592,0)","v":0},582,0,1001," ",null,0,582,0,1001," "]
[null,null,null,null,null,null,null,null,null,null,null,null,{"$f":"IF(Inventario!C593<>\"\",Inventario!C593,0)","v":0},583,0,1001," ",null,{"$f":"IF(Inventario!J593<>\"\",Inventario!J593,0)","v":0},583,0,1001," ",null,0,583,0,1001," "]
[null,null,null,null,null,null,null,null,null,null,null,null,{"$f":"IF(Inventario!C594<>\"\",Inventario!C594,0)","v":0},584,0,1001," ",null,{"$f":"IF(Inventario!J594<>\"\",Inventario!J594,0)","v":0},584,0,1001," ",null,0,584,0,1001," "]
[null,null,null,null,null,null,null,null,null,null,null,null,{"$f":"IF(Inventario!C595<>\"\",Inventario!C595,0)","v":0},585,0,1001," ",null,{"$f":"IF(Inventario!J595<>\"\",Inventario!J595,0)","v":0},585,0,1001," ",null,0,585,0,1001," "]
[null,null,null,null,null,null,null,null,null,null,null,null,{"$f":"IF(Inventario!C596<>\"\",Inventario!C596,0)","v":0},586,0,1001," ",null,{"$f":"IF(Inventario!J596<>\"\",Inventario!J596,0)","v":0},586,0,1001," ",null,0,586,0,1001," "]
[null,null,null,null,null,null,null,null,null,null,null,null,{"$f":"IF(Inventario!C597<>\"\",Inventario!C597,0)","v":0},587,0,1001," ",null,{"$f":"IF(Inventario!J597<>\"\",Inventario!J597,0)","v":0},587,0,1001," ",null,0,587,0,1001," "]
[null,null,null,null,null,null,null,null,null,null,null,null,{"$f":"IF(Inventario!C598<>\"\",Inventario!C598,0)","v":0},588,0,1001," ",null,{"$f":"IF(Inventario!J598<>\"\",Inventario!J598,0)","v":0},588,0,1001," ",null,0,588,0,1001," "]
[null,null,null,null,null,null,null,null,null,null,null,null,{"$f":"IF(Inventario!C599<>\"\",Inventario!C599,0)","v":0},589,0,1001," ",null,{"$f":"IF(Inventario!J599<>\"\",Inventario!J599,0)","v":0},589,0,1001," ",null,0,589,0,1001," "]
[null,null,null,null,null,null,null,null,null,null,null,null,{"$f":"IF(Inventario!C600<>\"\",Inventario!C600,0)","v":0},590,0,1001," ",null,{"$f":"IF(Inventario!J600<>\"\",Inventario!J600,0)","v":0},590,0,1001," ",null,0,590,0,1001," "]
[null,null,null,null,null,null,null,null,null,null,null,null,{"$f":"IF(Inventario!C601<>\"\",Inventario!C601,0)","v":0},591,0,1001," ",null,{"$f":"IF(Inventario!J601<>\"\",Inventario!J601,0)","v":0},591,0,1001," ",null,0,591,0,1001," "]
[null,null,null,null,null,null,null,null,null,null,null,null,{"$f":"IF(Inventario!C602<>\"\",Inventario!C602,0)","v":0},592,0,1001," ",null,{"$f":"IF(Inventario!J602<>\"\",Inventario!J602,0)","v":0},592,0,1001," ",null,0,592,0,1001," "]
[null,null,null,null,null,null,null,null,null,null,null,null,{"$f":"IF(Inventario!C603<>\"\",Inventario!C603,0)","v":0},593,0,1001," ",null,{"$f":"IF(Inventario!J603<>\"\",Inventario!J603,0)","v":0},593,0,1001," ",null,0,593,0,1001," "]
[null,null,null,null,null,null,null,null,null,null,null,null,{"$f":"IF(Inventario!C604<>\"\",Inventario!C604,0)","v":0},594,0,1001," ",null,{"$f":"IF(Inventario!J604<>\"\",Inventario!J604,0)","v":0},594,0,1001," ",null,0,594,0,1001," "]
[null,null,null,null,null,null,null,null,null,null,null,null,{"$f":"IF(Inventario!C605<>\"\",Inventario!C605,0)","v":0},595,0,1001," ",null,{"$f":"IF(Inventario!J605<>\"\",Inventario!J605,0)","v":0},595,0,1001," ",null,0,595,0,1001," "]
[null,null,null,null,null,null,null,null,null,null,null,null,{"$f":"IF(Inventario!C606<>\"\",Inventario!C606,0)","v":0},596,0,1001," ",null,{"$f":"IF(Inventario!J606<>\"\",Inventario!J606,0)","v":0},596,0,1001," ",null,0,596,0,1001," "]
[null,null,null,null,null,null,null,null,null,null,null,null,{"$f":"IF(Inventario!C607<>\"\",Inventario!C607,0)","v":0},597,0,1001," ",null,{"$f":"IF(Inventario!J607<>\"\",Inventario!J607,0)","v":0},597,0,1001," ",null,0,597,0,1001," "]
[null,null,null,null,null,null,null,null,null,null,null,null,{"$f":"IF(Inventario!C608<>\"\",Inventario!C608,0)","v":0},598,0,1001," ",null,{"$f":"IF(Inventario!J608<>\"\",Inventario!J608,0)","v":0},598,0,1001," ",null,0,598,0,1001," "]
[null,null,null,null,null,null,null,null,null,null,null,null,{"$f":"IF(Inventario!C609<>\"\",Inventario!C609,0)","v":0},599,0,1001," ",null,{"$f":"IF(Inventario!J609<>\"\",Inventario!J609,0)","v":0},599,0,1001," ",null,0,599,0,1001," "]
[null,null,null,null,null,null,null,null,null,null,null,null,{"$f":"IF(Inventario!C610<>\"\",Inventario!C610,0)","v":0},600,0,1001," ",null,{"$f":"IF(Inventario!J610<>\"\",Inventario!J610,0)","v":0},600,0,1001," ",null,0,600,0,1001," "]
[null,null,null,null,null,null,null,null,null,null,null,null,{"$f":"IF(Inventario!C611<>\"\",Inventario!C611,0)","v":0},601,0,1001," ",null,{"$f":"IF(Inventario!J611<>\"\",Inventario!J611,0)","v":0},601,0,1001," ",null,0,601,0,1001," "]
[null,null,null,null,null,null,null,null,null,null,null,null,{"$f":"IF(Inventario!C612<>\"\",Inventario!C612,0)","v":0},602,0,1001," ",null,{"$f":"IF(Inventario!J612<>\"\",Inventario!J612,0)","v":0},602,0,1001," ",null,0,602,0,1001," "]
[null,null,null,null,null,null,null,null,null,null,null,null,{"$f":"IF(Inventario!C613<>\"\",Inventario!C613,0)","v":0},603,0,1001," ",null,{"$f":"IF(Inventario!J613<>\"\",Inventario!J613,0)","v":0},603,0,1001," ",null,0,603,0,1001," "]
[null,null,null,null,null,null,null,null,null,null,null,null,{"$f":"IF(Inventario!C614<>\"\",Inventario!C614,0)","v":0},604,0,1001," ",null,{"$f":"IF(Inventario!J614<>\"\",Inventario!J614,0)","v":0},604,0,1001," ",null,0,604,0,1001," "]
[null,null,null,null,null,null,null,null,null,null,null,null,{"$f":"IF(Inventario!C615<>\"\",Inventario!C615,0)","v":0},605,0,1001," ",null,{"$f":"IF(Inventario!J615<>\"\",Inventario!J615,0)","v":0},605,0,1001," ",null,0,605,0,1001," "]
[null,null,null,null,null,null,null,null,null,null,null,null,{"$f":"IF(Inventario!C616<>\"\",Inventario!C616,0)","v":0},606,0,1001," ",null,{"$f":"IF(Inventario!J616<>\"\",Inventario!J616,0)","v":0},606,0,1001," ",null,0,606,0,1001," "]
[null,null,null,null,null,null,null,null,null,null,null,null,{"$f":"IF(Inventario!C617<>\"\",Inventario!C617,0)","v":0},607,0,1001," ",null,{"$f":"IF(Inventario!J617<>\"\",Inventario!J617,0)","v":0},607,0,1001," ",null,0,607,0,1001," "]
[null,null,null,null,null,null,null,null,null,null,null,null,{"$f":"IF(Inventario!C618<>\"\",Inventario!C618,0)","v":0},608,0,1001," ",null,{"$f":"IF(Inventario!J618<>\"\",Inventario!J618,0)","v":0},608,0,1001," ",null,0,608,0,1001," "]
[null,null,null,null,null,null,null,null,null,null,null,null,{"$f":"IF(Inventario!C619<>\"\",Inventario!C619,0)","v":0},609,0,1001," ",null,{"$f":"IF(Inventario!J619<>\"\",Inventario!J619,0)","v":0},609,0,1001," ",null,0,609,0,1001," "]
[null,null,null,null,null,null,null,null,null,null,null,null,{"$f":"IF(Inventario!C620<>\"\",Inventario!C620,0)","v":0},610,0,1001," ",null,{"$f":"IF(Inventario!J620<>\"\",Inventario!J620,0)","v":0},610,0,1001," ",null,0,610,0,1001," "]
[null,null,null,null,null,null,null,null,null,null,null,null,{"$f":"IF(Inventario!C621<>\"\",Inventario!C621,0)","v":0},611,0,1001," ",null,{"$f":"IF(Inventario!J621<>\"\",Inventario!J621,0)","v":0},611,0,1001," ",null,0,611,0,1001," "]
[null,null,null,null,null,null,null,null,null,null,null,null,{"$f":"IF(Inventario!C622<>\"\",Inventario!C622,0)","v":0},612,0,1001," ",null,{"$f":"IF(Inventario!J622<>\"\",Inventario!J622,0)","v":0},612,0,1001," ",null,0,612,0,1001," "]
[null,null,null,null,null,null,null,null,null,null,null,null,{"$f":"IF(Inventario!C623<>\"\",Inventario!C623,0)","v":0},613,0,1001," ",null,{"$f":"IF(Inventario!J623<>\"\",Inventario!J623,0)","v":0},613,0,1001," ",null,0,613,0,1001," "]
[null,null,null,null,null,null,null,null,null,null,null,null,{"$f":"IF(Inventario!C624<>\"\",Inventario!C624,0)","v":0},614,0,1001," ",null,{"$f":"IF(Inventario!J624<>\"\",Inventario!J624,0)","v":0},614,0,1001," ",null,0,614,0,1001," "]
[null,null,null,null,null,null,null,null,null,null,null,null,{"$f":"IF(Inventario!C625<>\"\",Inventario!C625,0)","v":0},615,0,1001," ",null,{"$f":"IF(Inventario!J625<>\"\",Inventario!J625,0)","v":0},615,0,1001," ",null,0,615,0,1001," "]
[null,null,null,null,null,null,null,null,null,null,null,null,{"$f":"IF(Inventario!C626<>\"\",Inventario!C626,0)","v":0},616,0,1001," ",null,{"$f":"IF(Inventario!J626<>\"\",Inventario!J626,0)","v":0},616,0,1001," ",null,0,616,0,1001," "]
[null,null,null,null,null,null,null,null,null,null,null,null,{"$f":"IF(Inventario!C627<>\"\",Inventario!C627,0)","v":0},617,0,1001," ",null,{"$f":"IF(Inventario!J627<>\"\",Inventario!J627,0)","v":0},617,0,1001," ",null,0,617,0,1001," "]
[null,null,null,null,null,null,null,null,null,null,null,null,{"$f":"IF(Inventario!C628<>\"\",Inventario!C628,0)","v":0},618,0,1001," ",null,{"$f":"IF(Inventario!J628<>\"\",Inventario!J628,0)","v":0},618,0,1001," ",null,0,618,0,1001," "]
[null,null,null,null,null,null,null,null,null,null,null,null,{"$f":"IF(Inventario!C629<>\"\",Inventario!C629,0)","v":0},619,0,1001," ",null,{"$f":"IF(Inventario!J629<>\"\",Inventario!J629,0)","v":0},619,0,1001," ",null,0,619,0,1001," "]
[null,null,null,null,null,null,null,null,null,null,null,null,{"$f":"IF(Inventario!C630<>\"\",Inventario!C630,0)","v":0},620,0,1001," ",null,{"$f":"IF(Inventario!J630<>\"\",Inventario!J630,0)","v":0},620,0,1001," ",null,0,620,0,1001," "]
[null,null,null,null,null,null,null,null,null,null,null,null,{"$f":"IF(Inventario!C631<>\"\",Inventario!C631,0)","v":0},621,0,1001," ",null,{"$f":"IF(Inventario!J631<>\"\",Inventario!J631,0)","v":0},621,0,1001," ",null,0,621,0,1001," "]
[null,null,null,null,null,null,null,null,null,null,null,null,{"$f":"IF(Inventario!C632<>\"\",Inventario!C632,0)","v":0},622,0,1001," ",null,{"$f":"IF(Inventario!J632<>\"\",Inventario!J632,0)","v":0},622,0,1001," ",null,0,622,0,1001," "]
[null,null,null,null,null,null,null,null,null,null,null,null,{"$f":"IF(Inventario!C633<>\"\",Inventario!C633,0)","v":0},623,0,1001," ",null,{"$f":"IF(Inventario!J633<>\"\",Inventario!J633,0)","v":0},623,0,1001," ",null,0,623,0,1001," "]
[null,null,null,null,null,null,null,null,null,null,null,null,{"$f":"IF(Inventario!C634<>\"\",Inventario!C634,0)","v":0},624,0,1001," ",null,{"$f":"IF(Inventario!J634<>\"\",Inventario!J634,0)","v":0},624,0,1001," ",null,0,624,0,1001," "]
[null,null,null,null,null,null,null,null,null,null,null,null,{"$f":"IF(Inventario!C635<>\"\",Inventario!C635,0)","v":0},625,0,1001," ",null,{"$f":"IF(Inventario!J635<>\"\",Inventario!J635,0)","v":0},625,0,1001," ",null,0,625,0,1001," "]
[null,null,null,null,null,null,null,null,null,null,null,null,{"$f":"IF(Inventario!C636<>\"\",Inventario!C636,0)","v":0},626,0,1001," ",null,{"$f":"IF(Inventario!J636<>\"\",Inventario!J636,0)","v":0},626,0,1001," ",null,0,626,0,1001," "]
[null,null,null,null,null,null,null,null,null,null,null,null,{"$f":"IF(Inventario!C637<>\"\",Inventario!C637,0)","v":0},627,0,1001," ",null,{"$f":"IF(Inventario!J637<>\"\",Inventario!J637,0)","v":0},627,0,1001," ",null,0,627,0,1001," "]
[null,null,null,null,null,null,null,null,null,null,null,null,{"$f":"IF(Inventario!C638<>\"\",Inventario!C638,0)","v":0},628,0,1001," ",null,{"$f":"IF(Inventario!J638<>\"\",Inventario!J638,0)","v":0},628,0,1001," ",null,0,628,0,1001," "]
[null,null,null,null,null,null,null,null,null,null,null,null,{"$f":"IF(Inventario!C639<>\"\",Inventario!C639,0)","v":0},629,0,1001," ",null,{"$f":"IF(Inventario!J639<>\"\",Inventario!J639,0)","v":0},629,0,1001," ",null,0,629,0,1001," "]
[null,null,null,null,null,null,null,null,null,null,null,null,{"$f":"IF(Inventario!C640<>\"\",Inventario!C640,0)","v":0},630,0,1001," ",null,{"$f":"IF(Inventario!J640<>\"\",Inventario!J640,0)","v":0},630,0,1001," ",null,0,630,0,1001," "]
[null,null,null,null,null,null,null,null,null,null,null,null,{"$f":"IF(Inventario!C641<>\"\",Inventario!C641,0)","v":0},631,0,1001," ",null,{"$f":"IF(Inventario!J641<>\"\",Inventario!J641,0)","v":0},631,0,1001," ",null,0,631,0,1001," "]
[null,null,null,null,null,null,null,null,null,null,null,null,{"$f":"IF(Inventario!C642<>\"\",Inventario!C642,0)","v":0},632,0,1001," ",null,{"$f":"IF(Inventario!J642<>\"\",Inventario!J642,0)","v":0},632,0,1001," ",null,0,632,0,1001," "]
[null,null,null,null,null,null,null,null,null,null,null,null,{"$f":"IF(Inventario!C643<>\"\",Inventario!C643,0)","v":0},633,0,1001," ",null,{"$f":"IF(Inventario!J643<>\"\",Inventario!J643,0)","v":0},633,0,1001," ",null,0,633,0,1001," "]
[null,null,null,null,null,null,null,null,null,null,null,null,{"$f":"IF(Inventario!C644<>\"\",Inventario!C644,0)","v":0},634,0,1001," ",null,{"$f":"IF(Inventario!J644<>\"\",Inventario!J644,0)","v":0},634,0,1001," ",null,0,634,0,1001," "]
[null,null,null,null,null,null,null,null,null,null,null,null,{"$f":"IF(Inventario!C645<>\"\",Inventario!C645,0)","v":0},635,0,1001," ",null,{"$f":"IF(Inventario!J645<>\"\",Inventario!J645,0)","v":0},635,0,1001," ",null,0,635,0,1001," "]
[null,null,null,null,null,null,null,null,null,null,null,null,{"$f":"IF(Inventario!C646<>\"\",Inventario!C646,0)","v":0},636,0,1001," ",null,{"$f":"IF(Inventario!J646<>\"\",Inventario!J646,0)","v":0},636,0,1001," ",null,0,636,0,1001," "]
[null,null,null,null,null,null,null,null,null,null,null,null,{"$f":"IF(Inventario!C647<>\"\",Inventario!C647,0)","v":0},637,0,1001," ",null,{"$f":"IF(Inventario!J647<>\"\",Inventario!J647,0)","v":0},637,0,1001," ",null,0,637,0,1001," "]
[null,null,null,null,null,null,null,null,null,null,null,null,{"$f":"IF(Inventario!C648<>\"\",Inventario!C648,0)","v":0},638,0,1001," ",null,{"$f":"IF(Inventario!J648<>\"\",Inventario!J648,0)","v":0},638,0,1001," ",null,0,638,0,1001," "]
[null,null,null,null,null,null,null,null,null,null,null,null,{"$f":"IF(Inventario!C649<>\"\",Inventario!C649,0)","v":0},639,0,1001," ",null,{"$f":"IF(Inventario!J649<>\"\",Inventario!J649,0)","v":0},639,0,1001," ",null,0,639,0,1001," "]
[null,null,null,null,null,null,null,null,null,null,null,null,{"$f":"IF(Inventario!C650<>\"\",Inventario!C650,0)","v":0},640,0,1001," ",null,{"$f":"IF(Inventario!J650<>\"\",Inventario!J650,0)","v":0},640,0,1001," ",null,0,640,0,1001," "]
[null,null,null,null,null,null,null,null,null,null,null,null,{"$f":"IF(Inventario!C651<>\"\",Inventario!C651,0)","v":0},641,0,1001,{"$f":"IFERROR(VLOOKUP(SMALL($P$6:$P$1005,N646),$N$6:$O$1005,2,FALSE),\" \")","v":" "},null,{"$f":"IF(Inventario!J651<>\"\",Inventario!J651,0)","v":0},641,0,1001,{"$f":"IFERROR(VLOOKUP(SMALL($V$6:$V$1005,T646),$T$6:$U$1005,2,FALSE),\" \")","v":" "},null,0,641,0,1001,{"$f":"IFERROR(VLOOKUP(SMALL($AB$6:$AB$1005,Z646),$Z$6:$AA$1005,2,FALSE),\" \")","v":" "}]
[null,null,null,null,null,null,null,null,null,null,null,null,{"$f":"IF(Inventario!C652<>\"\",Inventario!C652,0)","v":0},642,{"$f":"M647","v":0},{"$f":"IF(O647=0,MAX($N$6:$N$1005)+1,N647)","v":1001}," ",null,{"$f":"IF(Inventario!J652<>\"\",Inventario!J652,0)","v":0},642,{"$f":"S647","v":0},{"$f":"IF(U647=0,MAX($T$6:$T$1005)+1,T647)","v":1001}," ",null,{"$f":"IF(AND(M647=0,S647=0),0,IF(AND(M647<>0,S647=0),M647,IF(AND(M647=0,S647<>0),S647,IF(AND(M647<>0,S647<>0),(CONCATENATE(M647,S647))))))","v":0},642,{"$f":"Y647","v":0},{"$f":"IF(AA647=0,MAX($Z$6:$Z$1005)+1,Z647)","v":1001}," "]
[null,null,null,null,null,null,null,null,null,null,null,null,{"$f":"IF(Inventario!C653<>\"\",Inventario!C653,0)","v":0},643,0,1001," ",null,{"$f":"IF(Inventario!J653<>\"\",Inventario!J653,0)","v":0},643,0,1001," ",null,0,643,0,1001," "]
[null,null,null,null,null,null,null,null,null,null,null,null,{"$f":"IF(Inventario!C654<>\"\",Inventario!C654,0)","v":0},644,0,1001," ",null,{"$f":"IF(Inventario!J654<>\"\",Inventario!J654,0)","v":0},644,0,1001," ",null,0,644,0,1001," "]
[null,null,null,null,null,null,null,null,null,null,null,null,{"$f":"IF(Inventario!C655<>\"\",Inventario!C655,0)","v":0},645,0,1001," ",null,{"$f":"IF(Inventario!J655<>\"\",Inventario!J655,0)","v":0},645,0,1001," ",null,0,645,0,1001," "]
[null,null,null,null,null,null,null,null,null,null,null,null,{"$f":"IF(Inventario!C656<>\"\",Inventario!C656,0)","v":0},646,0,1001," ",null,{"$f":"IF(Inventario!J656<>\"\",Inventario!J656,0)","v":0},646,0,1001," ",null,0,646,0,1001," "]
[null,null,null,null,null,null,null,null,null,null,null,null,{"$f":"IF(Inventario!C657<>\"\",Inventario!C657,0)","v":0},647,0,1001," ",null,{"$f":"IF(Inventario!J657<>\"\",Inventario!J657,0)","v":0},647,0,1001," ",null,0,647,0,1001," "]
[null,null,null,null,null,null,null,null,null,null,null,null,{"$f":"IF(Inventario!C658<>\"\",Inventario!C658,0)","v":0},648,0,1001," ",null,{"$f":"IF(Inventario!J658<>\"\",Inventario!J658,0)","v":0},648,0,1001," ",null,0,648,0,1001," "]
[null,null,null,null,null,null,null,null,null,null,null,null,{"$f":"IF(Inventario!C659<>\"\",Inventario!C659,0)","v":0},649,0,1001," ",null,{"$f":"IF(Inventario!J659<>\"\",Inventario!J659,0)","v":0},649,0,1001," ",null,0,649,0,1001," "]
[null,null,null,null,null,null,null,null,null,null,null,null,{"$f":"IF(Inventario!C660<>\"\",Inventario!C660,0)","v":0},650,0,1001," ",null,{"$f":"IF(Inventario!J660<>\"\",Inventario!J660,0)","v":0},650,0,1001," ",null,0,650,0,1001," "]
[null,null,null,null,null,null,null,null,null,null,null,null,{"$f":"IF(Inventario!C661<>\"\",Inventario!C661,0)","v":0},651,0,1001," ",null,{"$f":"IF(Inventario!J661<>\"\",Inventario!J661,0)","v":0},651,0,1001," ",null,0,651,0,1001," "]
[null,null,null,null,null,null,null,null,null,null,null,null,{"$f":"IF(Inventario!C662<>\"\",Inventario!C662,0)","v":0},652,0,1001," ",null,{"$f":"IF(Inventario!J662<>\"\",Inventario!J662,0)","v":0},652,0,1001," ",null,0,652,0,1001," "]
[null,null,null,null,null,null,null,null,null,null,null,null,{"$f":"IF(Inventario!C663<>\"\",Inventario!C663,0)","v":0},653,0,1001," ",null,{"$f":"IF(Inventario!J663<>\"\",Inventario!J663,0)","v":0},653,0,1001," ",null,0,653,0,1001," "]
[null,null,null,null,null,null,null,null,null,null,null,null,{"$f":"IF(Inventario!C664<>\"\",Inventario!C664,0)","v":0},654,0,1001," ",null,{"$f":"IF(Inventario!J664<>\"\",Inventario!J664,0)","v":0},654,0,1001," ",null,0,654,0,1001," "]
[null,null,null,null,null,null,null,null,null,null,null,null,{"$f":"IF(Inventario!C665<>\"\",Inventario!C665,0)","v":0},655,0,1001," ",null,{"$f":"IF(Inventario!J665<>\"\",Inventario!J665,0)","v":0},655,0,1001," ",null,0,655,0,1001," "]
[null,null,null,null,null,null,null,null,null,null,null,null,{"$f":"IF(Inventario!C666<>\"\",Inventario!C666,0)","v":0},656,0,1001," ",null,{"$f":"IF(Inventario!J666<>\"\",Inventario!J666,0)","v":0},656,0,1001," ",null,0,656,0,1001," "]
[null,null,null,null,null,null,null,null,null,null,null,null,{"$f":"IF(Inventario!C667<>\"\",Inventario!C667,0)","v":0},657,0,1001," ",null,{"$f":"IF(Inventario!J667<>\"\",Inventario!J667,0)","v":0},657,0,1001," ",null,0,657,0,1001," "]
[null,null,null,null,null,null,null,null,null,null,null,null,{"$f":"IF(Inventario!C668<>\"\",Inventario!C668,0)","v":0},658,0,1001," ",null,{"$f":"IF(Inventario!J668<>\"\",Inventario!J668,0)","v":0},658,0,1001," ",null,0,658,0,1001," "]
[null,null,null,null,null,null,null,null,null,null,null,null,{"$f":"IF(Inventario!C669<>\"\",Inventario!C669,0)","v":0},659,0,1001," ",null,{"$f":"IF(Inventario!J669<>\"\",Inventario!J669,0)","v":0},659,0,1001," ",null,0,659,0,1001," "]
[null,null,null,null,null,null,null,null,null,null,null,null,{"$f":"IF(Inventario!C670<>\"\",Inventario!C670,0)","v":0},660,0,1001," ",null,{"$f":"IF(Inventario!J670<>\"\",Inventario!J670,0)","v":0},660,0,1001," ",null,0,660,0,1001," "]
[null,null,null,null,null,null,null,null,null,null,null,null,{"$f":"IF(Inventario!C671<>\"\",Inventario!C671,0)","v":0},661,0,1001," ",null,{"$f":"IF(Inventario!J671<>\"\",Inventario!J671,0)","v":0},661,0,1001," ",null,0,661,0,1001," "]
[null,null,null,null,null,null,null,null,null,null,null,null,{"$f":"IF(Inventario!C672<>\"\",Inventario!C672,0)","v":0},662,0,1001," ",null,{"$f":"IF(Inventario!J672<>\"\",Inventario!J672,0)","v":0},662,0,1001," ",null,0,662,0,1001," "]
[null,null,null,null,null,null,null,null,null,null,null,null,{"$f":"IF(Inventario!C673<>\"\",Inventario!C673,0)","v":0},663,0,1001," ",null,{"$f":"IF(Inventario!J673<>\"\",Inventario!J673,0)","v":0},663,0,1001," ",null,0,663,0,1001," "]
[null,null,null,null,null,null,null,null,null,null,null,null,{"$f":"IF(Inventario!C674<>\"\",Inventario!C674,0)","v":0},664,0,1001," ",null,{"$f":"IF(Inventario!J674<>\"\",Inventario!J674,0)","v":0},664,0,1001," ",null,0,664,0,1001," "]
[null,null,null,null,null,null,null,null,null,null,null,null,{"$f":"IF(Inventario!C675<>\"\",Inventario!C675,0)","v":0},665,0,1001," ",null,{"$f":"IF(Inventario!J675<>\"\",Inventario!J675,0)","v":0},665,0,1001," ",null,0,665,0,1001," "]
[null,null,null,null,null,null,null,null,null,null,null,null,{"$f":"IF(Inventario!C676<>\"\",Inventario!C676,0)","v":0},666,0,1001," ",null,{"$f":"IF(Inventario!J676<>\"\",Inventario!J676,0)","v":0},666,0,1001," ",null,0,666,0,1001," "]
[null,null,null,null,null,null,null,null,null,null,null,null,{"$f":"IF(Inventario!C677<>\"\",Inventario!C677,0)","v":0},667,0,1001," ",null,{"$f":"IF(Inventario!J677<>\"\",Inventario!J677,0)","v":0},667,0,1001," ",null,0,667,0,1001," "]
[null,null,null,null,null,null,null,null,null,null,null,null,{"$f":"IF(Inventario!C678<>\"\",Inventario!C678,0)","v":0},668,0,1001," ",null,{"$f":"IF(Inventario!J678<>\"\",Inventario!J678,0)","v":0},668,0,1001," ",null,0,668,0,1001," "]
[null,null,null,null,null,null,null,null,null,null,null,null,{"$f":"IF(Inventario!C679<>\"\",Inventario!C679,0)","v":0},669,0,1001," ",null,{"$f":"IF(Inventario!J679<>\"\",Inventario!J679,0)","v":0},669,0,1001," ",null,0,669,0,1001," "]
[null,null,null,null,null,null,null,null,null,null,null,null,{"$f":"IF(Inventario!C680<>\"\",Inventario!C680,0)","v":0},670,0,1001," ",null,{"$f":"IF(Inventario!J680<>\"\",Inventario!J680,0)","v":0},670,0,1001," ",null,0,670,0,1001," "]
[null,null,null,null,null,null,null,null,null,null,null,null,{"$f":"IF(Inventario!C681<>\"\",Inventario!C681,0)","v":0},671,0,1001," ",null,{"$f":"IF(Inventario!J681<>\"\",Inventario!J681,0)","v":0},671,0,1001," ",null,0,671,0,1001," "]
[null,null,null,null,null,null,null,null,null,null,null,null,{"$f":"IF(Inventario!C682<>\"\",Inventario!C682,0)","v":0},672,0,1001," ",null,{"$f":"IF(Inventario!J682<>\"\",Inventario!J682,0)","v":0},672,0,1001," ",null,0,672,0,1001," "]
[null,null,null,null,null,null,null,null,null,null,null,null,{"$f":"IF(Inventario!C683<>\"\",Inventario!C683,0)","v":0},673,0,1001," ",null,{"$f":"IF(Inventario!J683<>\"\",Inventario!J683,0)","v":0},673,0,1001," ",null,0,673,0,1001," "]
[null,null,null,null,null,null,null,null,null,null,null,null,{"$f":"IF(Inventario!C684<>\"\",Inventario!C684,0)","v":0},674,0,1001," ",null,{"$f":"IF(Inventario!J684<>\"\",Inventario!J684,0)","v":0},674,0,1001," ",null,0,674,0,1001," "]
[null,null,null,null,null,null,null,null,null,null,null,null,{"$f":"IF(Inventario!C685<>\"\",Inventario!C685,0)","v":0},675,0,1001," ",null,{"$f":"IF(Inventario!J685<>\"\",Inventario!J685,0)","v":0},675,0,1001," ",null,0,675,0,1001," "]
[null,null,null,null,null,null,null,null,null,null,null,null,{"$f":"IF(Inventario!C686<>\"\",Inventario!C686,0)","v":0},676,0,1001," ",null,{"$f":"IF(Inventario!J686<>\"\",Inventario!J686,0)","v":0},676,0,1001," ",null,0,676,0,1001," "]
[null,null,null,null,null,null,null,null,null,null,null,null,{"$f":"IF(Inventario!C687<>\"\",Inventario!C687,0)","v":0},677,0,1001," ",null,{"$f":"IF(Inventario!J687<>\"\",Inventario!J687,0)","v":0},677,0,1001," ",null,0,677,0,1001," "]
[null,null,null,null,null,null,null,null,null,null,null,null,{"$f":"IF(Inventario!C688<>\"\",Inventario!C688,0)","v":0},678,0,1001," ",null,{"$f":"IF(Inventario!J688<>\"\",Inventario!J688,0)","v":0},678,0,1001," ",null,0,678,0,1001," "]
[null,null,null,null,null,null,null,null,null,null,null,null,{"$f":"IF(Inventario!C689<>\"\",Inventario!C689,0)","v":0},679,0,1001," ",null,{"$f":"IF(Inventario!J689<>\"\",Inventario!J689,0)","v":0},679,0,1001," ",null,0,679,0,1001," "]
[null,null,null,null,null,null,null,null,null,null,null,null,{"$f":"IF(Inventario!C690<>\"\",Inventario!C690,0)","v":0},680,0,1001," ",null,{"$f":"IF(Inventario!J690<>\"\",Inventario!J690,0)","v":0},680,0,1001," ",null,0,680,0,1001," "]
[null,null,null,null,null,null,null,null,null,null,null,null,{"$f":"IF(Inventario!C691<>\"\",Inventario!C691,0)","v":0},681,0,1001," ",null,{"$f":"IF(Inventario!J691<>\"\",Inventario!J691,0)","v":0},681,0,1001," ",null,0,681,0,1001," "]
[null,null,null,null,null,null,null,null,null,null,null,null,{"$f":"IF(Inventario!C692<>\"\",Inventario!C692,0)","v":0},682,0,1001," ",null,{"$f":"IF(Inventario!J692<>\"\",Inventario!J692,0)","v":0},682,0,1001," ",null,0,682,0,1001," "]
[null,null,null,null,null,null,null,null,null,null,null,null,{"$f":"IF(Inventario!C693<>\"\",Inventario!C693,0)","v":0},683,0,1001," ",null,{"$f":"IF(Inventario!J693<>\"\",Inventario!J693,0)","v":0},683,0,1001," ",null,0,683,0,1001," "]
[null,null,null,null,null,null,null,null,null,null,null,null,{"$f":"IF(Inventario!C694<>\"\",Inventario!C694,0)","v":0},684,0,1001," ",null,{"$f":"IF(Inventario!J694<>\"\",Inventario!J694,0)","v":0},684,0,1001," ",null,0,684,0,1001," "]
[null,null,null,null,null,null,null,null,null,null,null,null,{"$f":"IF(Inventario!C695<>\"\",Inventario!C695,0)","v":0},685,0,1001," ",null,{"$f":"IF(Inventario!J695<>\"\",Inventario!J695,0)","v":0},685,0,1001," ",null,0,685,0,1001," "]
[null,null,null,null,null,null,null,null,null,null,null,null,{"$f":"IF(Inventario!C696<>\"\",Inventario!C696,0)","v":0},686,0,1001," ",null,{"$f":"IF(Inventario!J696<>\"\",Inventario!J696,0)","v":0},686,0,1001," ",null,0,686,0,1001," "]
[null,null,null,null,null,null,null,null,null,null,null,null,{"$f":"IF(Inventario!C697<>\"\",Inventario!C697,0)","v":0},687,0,1001," ",null,{"$f":"IF(Inventario!J697<>\"\",Inventario!J697,0)","v":0},687,0,1001," ",null,0,687,0,1001," "]
[null,null,null,null,null,null,null,null,null,null,null,null,{"$f":"IF(Inventario!C698<>\"\",Inventario!C698,0)","v":0},688,0,1001," ",null,{"$f":"IF(Inventario!J698<>\"\",Inventario!J698,0)","v":0},688,0,1001," ",null,0,688,0,1001," "]
[null,null,null,null,null,null,null,null,null,null,null,null,{"$f":"IF(Inventario!C699<>\"\",Inventario!C699,0)","v":0},689,0,1001," ",null,{"$f":"IF(Inventario!J699<>\"\",Inventario!J699,0)","v":0},689,0,1001," ",null,0,689,0,1001," "]
[null,null,null,null,null,null,null,null,null,null,null,null,{"$f":"IF(Inventario!C700<>\"\",Inventario!C700,0)","v":0},690,0,1001," ",null,{"$f":"IF(Inventario!J700<>\"\",Inventario!J700,0)","v":0},690,0,1001," ",null,0,690,0,1001," "]
[null,null,null,null,null,null,null,null,null,null,null,null,{"$f":"IF(Inventario!C701<>\"\",Inventario!C701,0)","v":0},691,0,1001," ",null,{"$f":"IF(Inventario!J701<>\"\",Inventario!J701,0)","v":0},691,0,1001," ",null,0,691,0,1001," "]
[null,null,null,null,null,null,null,null,null,null,null,null,{"$f":"IF(Inventario!C702<>\"\",Inventario!C702,0)","v":0},692,0,1001," ",null,{"$f":"IF(Inventario!J702<>\"\",Inventario!J702,0)","v":0},692,0,1001," ",null,0,692,0,1001," "]
[null,null,null,null,null,null,null,null,null,null,null,null,{"$f":"IF(Inventario!C703<>\"\",Inventario!C703,0)","v":0},693,0,1001," ",null,{"$f":"IF(Inventario!J703<>\"\",Inventario!J703,0)","v":0},693,0,1001," ",null,0,693,0,1001," "]
[null,null,null,null,null,null,null,null,null,null,null,null,{"$f":"IF(Inventario!C704<>\"\",Inventario!C704,0)","v":0},694,0,1001," ",null,{"$f":"IF(Inventario!J704<>\"\",Inventario!J704,0)","v":0},694,0,1001," ",null,0,694,0,1001," "]
[null,null,null,null,null,null,null,null,null,null,null,null,{"$f":"IF(Inventario!C705<>\"\",Inventario!C705,0)","v":0},695,0,1001," ",null,{"$f":"IF(Inventario!J705<>\"\",Inventario!J705,0)","v":0},695,0,1001," ",null,0,695,0,1001," "]
[null,null,null,null,null,null,null,null,null,null,null,null,{"$f":"IF(Inventario!C706<>\"\",Inventario!C706,0)","v":0},696,0,1001," ",null,{"$f":"IF(Inventario!J706<>\"\",Inventario!J706,0)","v":0},696,0,1001," ",null,0,696,0,1001," "]
[null,null,null,null,null,null,null,null,null,null,null,null,{"$f":"IF(Inventario!C707<>\"\",Inventario!C707,0)","v":0},697,0,1001," ",null,{"$f":"IF(Inventario!J707<>\"\",Inventario!J707,0)","v":0},697,0,1001," ",null,0,697,0,1001," "]
[null,null,null,null,null,null,null,null,null,null,null,null,{"$f":"IF(Inventario!C708<>\"\",Inventario!C708,0)","v":0},698,0,1001," ",null,{"$f":"IF(Inventario!J708<>\"\",Inventario!J708,0)","v":0},698,0,1001," ",null,0,698,0,1001," "]
[null,null,null,null,null,null,null,null,null,null,null,null,{"$f":"IF(Inventario!C709<>\"\",Inventario!C709,0)","v":0},699,0,1001," ",null,{"$f":"IF(Inventario!J709<>\"\",Inventario!J709,0)","v":0},699,0,1001," ",null,0,699,0,1001," "]
[null,null,null,null,null,null,null,null,null,null,null,null,{"$f":"IF(Inventario!C710<>\"\",Inventario!C710,0)","v":0},700,0,1001," ",null,{"$f":"IF(Inventario!J710<>\"\",Inventario!J710,0)","v":0},700,0,1001," ",null,0,700,0,1001," "]
[null,null,null,null,null,null,null,null,null,null,null,null,{"$f":"IF(Inventario!C711<>\"\",Inventario!C711,0)","v":0},701,0,1001," ",null,{"$f":"IF(Inventario!J711<>\"\",Inventario!J711,0)","v":0},701,0,1001," ",null,0,701,0,1001," "]
[null,null,null,null,null,null,null,null,null,null,null,null,{"$f":"IF(Inventario!C712<>\"\",Inventario!C712,0)","v":0},702,0,1001," ",null,{"$f":"IF(Inventario!J712<>\"\",Inventario!J712,0)","v":0},702,0,1001," ",null,0,702,0,1001," "]
[null,null,null,null,null,null,null,null,null,null,null,null,{"$f":"IF(Inventario!C713<>\"\",Inventario!C713,0)","v":0},703,0,1001," ",null,{"$f":"IF(Inventario!J713<>\"\",Inventario!J713,0)","v":0},703,0,1001," ",null,0,703,0,1001," "]
[null,null,null,null,null,null,null,null,null,null,null,null,{"$f":"IF(Inventario!C714<>\"\",Inventario!C714,0)","v":0},704,0,1001," ",null,{"$f":"IF(Inventario!J714<>\"\",Inventario!J714,0)","v":0},704,0,1001," ",null,0,704,0,1001," "]
[null,null,null,null,null,null,null,null,null,null,null,null,{"$f":"IF(Inventario!C715<>\"\",Inventario!C715,0)","v":0},705,0,1001,{"$f":"IFERROR(VLOOKUP(SMALL($P$6:$P$1005,N710),$N$6:$O$1005,2,FALSE),\" \")","v":" "},null,{"$f":"IF(Inventario!J715<>\"\",Inventario!J715,0)","v":0},705,0,1001,{"$f":"IFERROR(VLOOKUP(SMALL($V$6:$V$1005,T710),$T$6:$U$1005,2,FALSE),\" \")","v":" "},null,0,705,0,1001,{"$f":"IFERROR(VLOOKUP(SMALL($AB$6:$AB$1005,Z710),$Z$6:$AA$1005,2,FALSE),\" \")","v":" "}]
[null,null,null,null,null,null,null,null,null,null,null,null,{"$f":"IF(Inventario!C716<>\"\",Inventario!C716,0)","v":0},706,{"$f":"M711","v":0},{"$f":"IF(O711=0,MAX($N$6:$N$1005)+1,N711)","v":1001}," ",null,{"$f":"IF(Inventario!J716<>\"\",Inventario!J716,0)","v":0},706,{"$f":"S711","v":0},{"$f":"IF(U711=0,MAX($T$6:$T$1005)+1,T711)","v":1001}," ",null,{"$f":"IF(AND(M711=0,S711=0),0,IF(AND(M711<>0,S711=0),M711,IF(AND(M711=0,S711<>0),S711,IF(AND(M711<>0,S711<>0),(CONCATENATE(M711,S711))))))","v":0},706,{"$f":"Y711","v":0},{"$f":"IF(AA711=0,MAX($Z$6:$Z$1005)+1,Z711)","v":1001}," "]
[null,null,null,null,null,null,null,null,null,null,null,null,{"$f":"IF(Inventario!C717<>\"\",Inventario!C717,0)","v":0},707,0,1001," ",null,{"$f":"IF(Inventario!J717<>\"\",Inventario!J717,0)","v":0},707,0,1001," ",null,0,707,0,1001," "]
[null,null,null,null,null,null,null,null,null,null,null,null,{"$f":"IF(Inventario!C718<>\"\",Inventario!C718,0)","v":0},708,0,1001," ",null,{"$f":"IF(Inventario!J718<>\"\",Inventario!J718,0)","v":0},708,0,1001," ",null,0,708,0,1001," "]
[null,null,null,null,null,null,null,null,null,null,null,null,{"$f":"IF(Inventario!C719<>\"\",Inventario!C719,0)","v":0},709,0,1001," ",null,{"$f":"IF(Inventario!J719<>\"\",Inventario!J719,0)","v":0},709,0,1001," ",null,0,709,0,1001," "]
[null,null,null,null,null,null,null,null,null,null,null,null,{"$f":"IF(Inventario!C720<>\"\",Inventario!C720,0)","v":0},710,0,1001," ",null,{"$f":"IF(Inventario!J720<>\"\",Inventario!J720,0)","v":0},710,0,1001," ",null,0,710,0,1001," "]
[null,null,null,null,null,null,null,null,null,null,null,null,{"$f":"IF(Inventario!C721<>\"\",Inventario!C721,0)","v":0},711,0,1001," ",null,{"$f":"IF(Inventario!J721<>\"\",Inventario!J721,0)","v":0},711,0,1001," ",null,0,711,0,1001," "]
[null,null,null,null,null,null,null,null,null,null,null,null,{"$f":"IF(Inventario!C722<>\"\",Inventario!C722,0)","v":0},712,0,1001," ",null,{"$f":"IF(Inventario!J722<>\"\",Inventario!J722,0)","v":0},712,0,1001," ",null,0,712,0,1001," "]
[null,null,null,null,null,null,null,null,null,null,null,null,{"$f":"IF(Inventario!C723<>\"\",Inventario!C723,0)","v":0},713,0,1001," ",null,{"$f":"IF(Inventario!J723<>\"\",Inventario!J723,0)","v":0},713,0,1001," ",null,0,713,0,1001," "]
[null,null,null,null,null,null,null,null,null,null,null,null,{"$f":"IF(Inventario!C724<>\"\",Inventario!C724,0)","v":0},714,0,1001," ",null,{"$f":"IF(Inventario!J724<>\"\",Inventario!J724,0)","v":0},714,0,1001," ",null,0,714,0,1001," "]
[null,null,null,null,null,null,null,null,null,null,null,null,{"$f":"IF(Inventario!C725<>\"\",Inventario!C725,0)","v":0},715,0,1001," ",null,{"$f":"IF(Inventario!J725<>\"\",Inventario!J725,0)","v":0},715,0,1001," ",null,0,715,0,1001," "]
[null,null,null,null,null,null,null,null,null,null,null,null,{"$f":"IF(Inventario!C726<>\"\",Inventario!C726,0)","v":0},716,0,1001," ",null,{"$f":"IF(Inventario!J726<>\"\",Inventario!J726,0)","v":0},716,0,1001," ",null,0,716,0,1001," "]
[null,null,null,null,null,null,null,null,null,null,null,null,{"$f":"IF(Inventario!C727<>\"\",Inventario!C727,0)","v":0},717,0,1001," ",null,{"$f":"IF(Inventario!J727<>\"\",Inventario!J727,0)","v":0},717,0,1001," ",null,0,717,0,1001," "]
[null,null,null,null,null,null,null,null,null,null,null,null,{"$f":"IF(Inventario!C728<>\"\",Inventario!C728,0)","v":0},718,0,1001," ",null,{"$f":"IF(Inventario!J728<>\"\",Inventario!J728,0)","v":0},718,0,1001," ",null,0,718,0,1001," "]
[null,null,null,null,null,null,null,null,null,null,null,null,{"$f":"IF(Inventario!C729<>\"\",Inventario!C729,0)","v":0},719,0,1001," ",null,{"$f":"IF(Inventario!J729<>\"\",Inventario!J729,0)","v":0},719,0,1001," ",null,0,719,0,1001," "]
[null,null,null,null,null,null,null,null,null,null,null,null,{"$f":"IF(Inventario!C730<>\"\",Inventario!C730,0)","v":0},720,0,1001," ",null,{"$f":"IF(Inventario!J730<>\"\",Inventario!J730,0)","v":0},720,0,1001," ",null,0,720,0,1001," "]
[null,null,null,null,null,null,null,null,null,null,null,null,{"$f":"IF(Inventario!C731<>\"\",Inventario!C731,0)","v":0},721,0,1001," ",null,{"$f":"IF(Inventario!J731<>\"\",Inventario!J731,0)","v":0},721,0,1001," ",null,0,721,0,1001," "]
[null,null,null,null,null,null,null,null,null,null,null,null,{"$f":"IF(Inventario!C732<>\"\",Inventario!C732,0)","v":0},722,0,1001," ",null,{"$f":"IF(Inventario!J732<>\"\",Inventario!J732,0)","v":0},722,0,1001," ",null,0,722,0,1001," "]
[null,null,null,null,null,null,null,null,null,null,null,null,{"$f":"IF(Inventario!C733<>\"\",Inventario!C733,0)","v":0},723,0,1001," ",null,{"$f":"IF(Inventario!J733<>\"\",Inventario!J733,0)","v":0},723,0,1001," ",null,0,723,0,1001," "]
[null,null,null,null,null,null,null,null,null,null,null,null,{"$f":"IF(Inventario!C734<>\"\",Inventario!C734,0)","v":0},724,0,1001," ",null,{"$f":"IF(Inventario!J734<>\"\",Inventario!J734,0)","v":0},724,0,1001," ",null,0,724,0,1001," "]
[null,null,null,null,null,null,null,null,null,null,null,null,{"$f":"IF(Inventario!C735<>\"\",Inventario!C735,0)","v":0},725,0,1001," ",null,{"$f":"IF(Inventario!J735<>\"\",Inventario!J735,0)","v":0},725,0,1001," ",null,0,725,0,1001," "]
[null,null,null,null,null,null,null,null,null,null,null,null,{"$f":"IF(Inventario!C736<>\"\",Inventario!C736,0)","v":0},726,0,1001," ",null,{"$f":"IF(Inventario!J736<>\"\",Inventario!J736,0)","v":0},726,0,1001," ",null,0,726,0,1001," "]
[null,null,null,null,null,null,null,null,null,null,null,null,{"$f":"IF(Inventario!C737<>\"\",Inventario!C737,0)","v":0},727,0,1001," ",null,{"$f":"IF(Inventario!J737<>\"\",Inventario!J737,0)","v":0},727,0,1001," ",null,0,727,0,1001," "]
[null,null,null,null,null,null,null,null,null,null,null,null,{"$f":"IF(Inventario!C738<>\"\",Inventario!C738,0)","v":0},728,0,1001," ",null,{"$f":"IF(Inventario!J738<>\"\",Inventario!J738,0)","v":0},728,0,1001," ",null,0,728,0,1001," "]
[null,null,null,null,null,null,null,null,null,null,null,null,{"$f":"IF(Inventario!C739<>\"\",Inventario!C739,0)","v":0},729,0,1001," ",null,{"$f":"IF(Inventario!J739<>\"\",Inventario!J739,0)","v":0},729,0,1001," ",null,0,729,0,1001," "]
[null,null,null,null,null,null,null,null,null,null,null,null,{"$f":"IF(Inventario!C740<>\"\",Inventario!C740,0)","v":0},730,0,1001," ",null,{"$f":"IF(Inventario!J740<>\"\",Inventario!J740,0)","v":0},730,0,1001," ",null,0,730,0,1001," "]
[null,null,null,null,null,null,null,null,null,null,null,null,{"$f":"IF(Inventario!C741<>\"\",Inventario!C741,0)","v":0},731,0,1001," ",null,{"$f":"IF(Inventario!J741<>\"\",Inventario!J741,0)","v":0},731,0,1001," ",null,0,731,0,1001," "]
[null,null,null,null,null,null,null,null,null,null,null,null,{"$f":"IF(Inventario!C742<>\"\",Inventario!C742,0)","v":0},732,0,1001," ",null,{"$f":"IF(Inventario!J742<>\"\",Inventario!J742,0)","v":0},732,0,1001," ",null,0,732,0,1001," "]
[null,null,null,null,null,null,null,null,null,null,null,null,{"$f":"IF(Inventario!C743<>\"\",Inventario!C743,0)","v":0},733,0,1001," ",null,{"$f":"IF(Inventario!J743<>\"\",Inventario!J743,0)","v":0},733,0,1001," ",null,0,733,0,1001," "]
[null,null,null,null,null,null,null,null,null,null,null,null,{"$f":"IF(Inventario!C744<>\"\",Inventario!C744,0)","v":0},734,0,1001," ",null,{"$f":"IF(Inventario!J744<>\"\",Inventario!J744,0)","v":0},734,0,1001," ",null,0,734,0,1001," "]
[null,null,null,null,null,null,null,null,null,null,null,null,{"$f":"IF(Inventario!C745<>\"\",Inventario!C745,0)","v":0},735,0,1001," ",null,{"$f":"IF(Inventario!J745<>\"\",Inventario!J745,0)","v":0},735,0,1001," ",null,0,735,0,1001," "]
[null,null,null,null,null,null,null,null,null,null,null,null,{"$f":"IF(Inventario!C746<>\"\",Inventario!C746,0)","v":0},736,0,1001," ",null,{"$f":"IF(Inventario!J746<>\"\",Inventario!J746,0)","v":0},736,0,1001," ",null,0,736,0,1001," "]
[null,null,null,null,null,null,null,null,null,null,null,null,{"$f":"IF(Inventario!C747<>\"\",Inventario!C747,0)","v":0},737,0,1001," ",null,{"$f":"IF(Inventario!J747<>\"\",Inventario!J747,0)","v":0},737,0,1001," ",null,0,737,0,1001," "]
[null,null,null,null,null,null,null,null,null,null,null,null,{"$f":"IF(Inventario!C748<>\"\",Inventario!C748,0)","v":0},738,0,1001," ",null,{"$f":"IF(Inventario!J748<>\"\",Inventario!J748,0)","v":0},738,0,1001," ",null,0,738,0,1001," "]
[null,null,null,null,null,null,null,null,null,null,null,null,{"$f":"IF(Inventario!C749<>\"\",Inventario!C749,0)","v":0},739,0,1001," ",null,{"$f":"IF(Inventario!J749<>\"\",Inventario!J749,0)","v":0},739,0,1001," ",null,0,739,0,1001," "]
[null,null,null,null,null,null,null,null,null,null,null,null,{"$f":"IF(Inventario!C750<>\"\",Inventario!C750,0)","v":0},740,0,1001," ",null,{"$f":"IF(Inventario!J750<>\"\",Inventario!J750,0)","v":0},740,0,1001," ",null,0,740,0,1001," "]
[null,null,null,null,null,null,null,null,null,null,null,null,{"$f":"IF(Inventario!C751<>\"\",Inventario!C751,0)","v":0},741,0,1001," ",null,{"$f":"IF(Inventario!J751<>\"\",Inventario!J751,0)","v":0},741,0,1001," ",null,0,741,0,1001," "]
[null,null,null,null,null,null,null,null,null,null,null,null,{"$f":"IF(Inventario!C752<>\"\",Inventario!C752,0)","v":0},742,0,1001," ",null,{"$f":"IF(Inventario!J752<>\"\",Inventario!J752,0)","v":0},742,0,1001," ",null,0,742,0,1001," "]
[null,null,null,null,null,null,null,null,null,null,null,null,{"$f":"IF(Inventario!C753<>\"\",Inventario!C753,0)","v":0},743,0,1001," ",null,{"$f":"IF(Inventario!J753<>\"\",Inventario!J753,0)","v":0},743,0,1001," ",null,0,743,0,1001," "]
[null,null,null,null,null,null,null,null,null,null,null,null,{"$f":"IF(Inventario!C754<>\"\",Inventario!C754,0)","v":0},744,0,1001," ",null,{"$f":"IF(Inventario!J754<>\"\",Inventario!J754,0)","v":0},744,0,1001," ",null,0,744,0,1001," "]
[null,null,null,null,null,null,null,null,null,null,null,null,{"$f":"IF(Inventario!C755<>\"\",Inventario!C755,0)","v":0},745,0,1001," ",null,{"$f":"IF(Inventario!J755<>\"\",Inventario!J755,0)","v":0},745,0,1001," ",null,0,745,0,1001," "]
[null,null,null,null,null,null,null,null,null,null,null,null,{"$f":"IF(Inventario!C756<>\"\",Inventario!C756,0)","v":0},746,0,1001," ",null,{"$f":"IF(Inventario!J756<>\"\",Inventario!J756,0)","v":0},746,0,1001," ",null,0,746,0,1001," "]
[null,null,null,null,null,null,null,null,null,null,null,null,{"$f":"IF(Inventario!C757<>\"\",Inventario!C757,0)","v":0},747,0,1001," ",null,{"$f":"IF(Inventario!J757<>\"\",Inventario!J757,0)","v":0},747,0,1001," ",null,0,747,0,1001," "]
[null,null,null,null,null,null,null,null,null,null,null,null,{"$f":"IF(Inventario!C758<>\"\",Inventario!C758,0)","v":0},748,0,1001," ",null,{"$f":"IF(Inventario!J758<>\"\",Inventario!J758,0)","v":0},748,0,1001," ",null,0,748,0,1001," "]
[null,null,null,null,null,null,null,null,null,null,null,null,{"$f":"IF(Inventario!C759<>\"\",Inventario!C759,0)","v":0},749,0,1001," ",null,{"$f":"IF(Inventario!J759<>\"\",Inventario!J759,0)","v":0},749,0,1001," ",null,0,749,0,1001," "]
[null,null,null,null,null,null,null,null,null,null,null,null,{"$f":"IF(Inventario!C760<>\"\",Inventario!C760,0)","v":0},750,0,1001," ",null,{"$f":"IF(Inventario!J760<>\"\",Inventario!J760,0)","v":0},750,0,1001," ",null,0,750,0,1001," "]
[null,null,null,null,null,null,null,null,null,null,null,null,{"$f":"IF(Inventario!C761<>\"\",Inventario!C761,0)","v":0},751,0,1001," ",null,{"$f":"IF(Inventario!J761<>\"\",Inventario!J761,0)","v":0},751,0,1001," ",null,0,751,0,1001," "]
[null,null,null,null,null,null,null,null,null,null,null,null,{"$f":"IF(Inventario!C762<>\"\",Inventario!C762,0)","v":0},752,0,1001," ",null,{"$f":"IF(Inventario!J762<>\"\",Inventario!J762,0)","v":0},752,0,1001," ",null,0,752,0,1001," "]
[null,null,null,null,null,null,null,null,null,null,null,null,{"$f":"IF(Inventario!C763<>\"\",Inventario!C763,0)","v":0},753,0,1001," ",null,{"$f":"IF(Inventario!J763<>\"\",Inventario!J763,0)","v":0},753,0,1001," ",null,0,753,0,1001," "]
[null,null,null,null,null,null,null,null,null,null,null,null,{"$f":"IF(Inventario!C764<>\"\",Inventario!C764,0)","v":0},754,0,1001," ",null,{"$f":"IF(Inventario!J764<>\"\",Inventario!J764,0)","v":0},754,0,1001," ",null,0,754,0,1001," "]
[null,null,null,null,null,null,null,null,null,null,null,null,{"$f":"IF(Inventario!C765<>\"\",Inventario!C765,0)","v":0},755,0,1001," ",null,{"$f":"IF(Inventario!J765<>\"\",Inventario!J765,0)","v":0},755,0,1001," ",null,0,755,0,1001," "]
[null,null,null,null,null,null,null,null,null,null,null,null,{"$f":"IF(Inventario!C766<>\"\",Inventario!C766,0)","v":0},756,0,1001," ",null,{"$f":"IF(Inventario!J766<>\"\",Inventario!J766,0)","v":0},756,0,1001," ",null,0,756,0,1001," "]
[null,null,null,null,null,null,null,null,null,null,null,null,{"$f":"IF(Inventario!C767<>\"\",Inventario!C767,0)","v":0},757,0,1001," ",null,{"$f":"IF(Inventario!J767<>\"\",Inventario!J767,0)","v":0},757,0,1001," ",null,0,757,0,1001," "]
[null,null,null,null,null,null,null,null,null,null,null,null,{"$f":"IF(Inventario!C768<>\"\",Inventario!C768,0)","v":0},758,0,1001," ",null,{"$f":"IF(Inventario!J768<>\"\",Inventario!J768,0)","v":0},758,0,1001," ",null,0,758,0,1001," "]
[null,null,null,null,null,null,null,null,null,null,null,null,{"$f":"IF(Inventario!C769<>\"\",Inventario!C769,0)","v":0},759,0,1001," ",null,{"$f":"IF(Inventario!J769<>\"\",Inventario!J769,0)","v":0},759,0,1001," ",null,0,759,0,1001," "]
[null,null,null,null,null,null,null,null,null,null,null,null,{"$f":"IF(Inventario!C770<>\"\",Inventario!C770,0)","v":0},760,0,1001," ",null,{"$f":"IF(Inventario!J770<>\"\",Inventario!J770,0)","v":0},760,0,1001," ",null,0,760,0,1001," "]
[null,null,null,null,null,null,null,null,null,null,null,null,{"$f":"IF(Inventario!C771<>\"\",Inventario!C771,0)","v":0},761,0,1001," ",null,{"$f":"IF(Inventario!J771<>\"\",Inventario!J771,0)","v":0},761,0,1001," ",null,0,761,0,1001," "]
[null,null,null,null,null,null,null,null,null,null,null,null,{"$f":"IF(Inventario!C772<>\"\",Inventario!C772,0)","v":0},762,0,1001," ",null,{"$f":"IF(Inventario!J772<>\"\",Inventario!J772,0)","v":0},762,0,1001," ",null,0,762,0,1001," "]
[null,null,null,null,null,null,null,null,null,null,null,null,{"$f":"IF(Inventario!C773<>\"\",Inventario!C773,0)","v":0},763,0,1001," ",null,{"$f":"IF(Inventario!J773<>\"\",Inventario!J773,0)","v":0},763,0,1001," ",null,0,763,0,1001," "]
[null,null,null,null,null,null,null,null,null,null,null,null,{"$f":"IF(Inventario!C774<>\"\",Inventario!C774,0)","v":0},764,0,1001," ",null,{"$f":"IF(Inventario!J774<>\"\",Inventario!J774,0)","v":0},764,0,1001," ",null,0,764,0,1001," "]
[null,null,null,null,null,null,null,null,null,null,null,null,{"$f":"IF(Inventario!C775<>\"\",Inventario!C775,0)","v":0},765,0,1001," ",null,{"$f":"IF(Inventario!J775<>\"\",Inventario!J775,0)","v":0},765,0,1001," ",null,0,765,0,1001," "]
[null,null,null,null,null,null,null,null,null,null,null,null,{"$f":"IF(Inventario!C776<>\"\",Inventario!C776,0)","v":0},766,0,1001," ",null,{"$f":"IF(Inventario!J776<>\"\",Inventario!J776,0)","v":0},766,0,1001," ",null,0,766,0,1001," "]
[null,null,null,null,null,null,null,null,null,null,null,null,{"$f":"IF(Inventario!C777<>\"\",Inventario!C777,0)","v":0},767,0,1001," ",null,{"$f":"IF(Inventario!J777<>\"\",Inventario!J777,0)","v":0},767,0,1001," ",null,0,767,0,1001," "]
[null,null,null,null,null,null,null,null,null,null,null,null,{"$f":"IF(Inventario!C778<>\"\",Inventario!C778,0)","v":0},768,0,1001," ",null,{"$f":"IF(Inventario!J778<>\"\",Inventario!J778,0)","v":0},768,0,1001," ",null,0,768,0,1001," "]
[null,null,null,null,null,null,null,null,null,null,null,null,{"$f":"IF(Inventario!C779<>\"\",Inventario!C779,0)","v":0},769,0,1001,{"$f":"IFERROR(VLOOKUP(SMALL($P$6:$P$1005,N774),$N$6:$O$1005,2,FALSE),\" \")","v":" "},null,{"$f":"IF(Inventario!J779<>\"\",Inventario!J779,0)","v":0},769,0,1001,{"$f":"IFERROR(VLOOKUP(SMALL($V$6:$V$1005,T774),$T$6:$U$1005,2,FALSE),\" \")","v":" "},null,0,769,0,1001,{"$f":"IFERROR(VLOOKUP(SMALL($AB$6:$AB$1005,Z774),$Z$6:$AA$1005,2,FALSE),\" \")","v":" "}]
[null,null,null,null,null,null,null,null,null,null,null,null,{"$f":"IF(Inventario!C780<>\"\",Inventario!C780,0)","v":0},770,{"$f":"M775","v":0},{"$f":"IF(O775=0,MAX($N$6:$N$1005)+1,N775)","v":1001}," ",null,{"$f":"IF(Inventario!J780<>\"\",Inventario!J780,0)","v":0},770,{"$f":"S775","v":0},{"$f":"IF(U775=0,MAX($T$6:$T$1005)+1,T775)","v":1001}," ",null,{"$f":"IF(AND(M775=0,S775=0),0,IF(AND(M775<>0,S775=0),M775,IF(AND(M775=0,S775<>0),S775,IF(AND(M775<>0,S775<>0),(CONCATENATE(M775,S775))))))","v":0},770,{"$f":"Y775","v":0},{"$f":"IF(AA775=0,MAX($Z$6:$Z$1005)+1,Z775)","v":1001}," "]
[null,null,null,null,null,null,null,null,null,null,null,null,{"$f":"IF(Inventario!C781<>\"\",Inventario!C781,0)","v":0},771,0,1001," ",null,{"$f":"IF(Inventario!J781<>\"\",Inventario!J781,0)","v":0},771,0,1001," ",null,0,771,0,1001," "]
[null,null,null,null,null,null,null,null,null,null,null,null,{"$f":"IF(Inventario!C782<>\"\",Inventario!C782,0)","v":0},772,0,1001," ",null,{"$f":"IF(Inventario!J782<>\"\",Inventario!J782,0)","v":0},772,0,1001," ",null,0,772,0,1001," "]
[null,null,null,null,null,null,null,null,null,null,null,null,{"$f":"IF(Inventario!C783<>\"\",Inventario!C783,0)","v":0},773,0,1001," ",null,{"$f":"IF(Inventario!J783<>\"\",Inventario!J783,0)","v":0},773,0,1001," ",null,0,773,0,1001," "]
[null,null,null,null,null,null,null,null,null,null,null,null,{"$f":"IF(Inventario!C784<>\"\",Inventario!C784,0)","v":0},774,0,1001," ",null,{"$f":"IF(Inventario!J784<>\"\",Inventario!J784,0)","v":0},774,0,1001," ",null,0,774,0,1001," "]
[null,null,null,null,null,null,null,null,null,null,null,null,{"$f":"IF(Inventario!C785<>\"\",Inventario!C785,0)","v":0},775,0,1001," ",null,{"$f":"IF(Inventario!J785<>\"\",Inventario!J785,0)","v":0},775,0,1001," ",null,0,775,0,1001," "]
[null,null,null,null,null,null,null,null,null,null,null,null,{"$f":"IF(Inventario!C786<>\"\",Inventario!C786,0)","v":0},776,0,1001," ",null,{"$f":"IF(Inventario!J786<>\"\",Inventario!J786,0)","v":0},776,0,1001," ",null,0,776,0,1001," "]
[null,null,null,null,null,null,null,null,null,null,null,null,{"$f":"IF(Inventario!C787<>\"\",Inventario!C787,0)","v":0},777,0,1001," ",null,{"$f":"IF(Inventario!J787<>\"\",Inventario!J787,0)","v":0},777,0,1001," ",null,0,777,0,1001," "]
[null,null,null,null,null,null,null,null,null,null,null,null,{"$f":"IF(Inventario!C788<>\"\",Inventario!C788,0)","v":0},778,0,1001," ",null,{"$f":"IF(Inventario!J788<>\"\",Inventario!J788,0)","v":0},778,0,1001," ",null,0,778,0,1001," "]
[null,null,null,null,null,null,null,null,null,null,null,null,{"$f":"IF(Inventario!C789<>\"\",Inventario!C789,0)","v":0},779,0,1001," ",null,{"$f":"IF(Inventario!J789<>\"\",Inventario!J789,0)","v":0},779,0,1001," ",null,0,779,0,1001," "]
[null,null,null,null,null,null,null,null,null,null,null,null,{"$f":"IF(Inventario!C790<>\"\",Inventario!C790,0)","v":0},780,0,1001," ",null,{"$f":"IF(Inventario!J790<>\"\",Inventario!J790,0)","v":0},780,0,1001," ",null,0,780,0,1001," "]
[null,null,null,null,null,null,null,null,null,null,null,null,{"$f":"IF(Inventario!C791<>\"\",Inventario!C791,0)","v":0},781,0,1001," ",null,{"$f":"IF(Inventario!J791<>\"\",Inventario!J791,0)","v":0},781,0,1001," ",null,0,781,0,1001," "]
[null,null,null,null,null,null,null,null,null,null,null,null,{"$f":"IF(Inventario!C792<>\"\",Inventario!C792,0)","v":0},782,0,1001," ",null,{"$f":"IF(Inventario!J792<>\"\",Inventario!J792,0)","v":0},782,0,1001," ",null,0,782,0,1001," "]
[null,null,null,null,null,null,null,null,null,null,null,null,{"$f":"IF(Inventario!C793<>\"\",Inventario!C793,0)","v":0},783,0,1001," ",null,{"$f":"IF(Inventario!J793<>\"\",Inventario!J793,0)","v":0},783,0,1001," ",null,0,783,0,1001," "]
[null,null,null,null,null,null,null,null,null,null,null,null,{"$f":"IF(Inventario!C794<>\"\",Inventario!C794,0)","v":0},784,0,1001," ",null,{"$f":"IF(Inventario!J794<>\"\",Inventario!J794,0)","v":0},784,0,1001," ",null,0,784,0,1001," "]
[null,null,null,null,null,null,null,null,null,null,null,null,{"$f":"IF(Inventario!C795<>\"\",Inventario!C795,0)","v":0},785,0,1001," ",null,{"$f":"IF(Inventario!J795<>\"\",Inventario!J795,0)","v":0},785,0,1001," ",null,0,785,0,1001," "]
[null,null,null,null,null,null,null,null,null,null,null,null,{"$f":"IF(Inventario!C796<>\"\",Inventario!C796,0)","v":0},786,0,1001," ",null,{"$f":"IF(Inventario!J796<>\"\",Inventario!J796,0)","v":0},786,0,1001," ",null,0,786,0,1001," "]
[null,null,null,null,null,null,null,null,null,null,null,null,{"$f":"IF(Inventario!C797<>\"\",Inventario!C797,0)","v":0},787,0,1001," ",null,{"$f":"IF(Inventario!J797<>\"\",Inventario!J797,0)","v":0},787,0,1001," ",null,0,787,0,1001," "]
[null,null,null,null,null,null,null,null,null,null,null,null,{"$f":"IF(Inventario!C798<>\"\",Inventario!C798,0)","v":0},788,0,1001," ",null,{"$f":"IF(Inventario!J798<>\"\",Inventario!J798,0)","v":0},788,0,1001," ",null,0,788,0,1001," "]
[null,null,null,null,null,null,null,null,null,null,null,null,{"$f":"IF(Inventario!C799<>\"\",Inventario!C799,0)","v":0},789,0,1001," ",null,{"$f":"IF(Inventario!J799<>\"\",Inventario!J799,0)","v":0},789,0,1001," ",null,0,789,0,1001," "]
[null,null,null,null,null,null,null,null,null,null,null,null,{"$f":"IF(Inventario!C800<>\"\",Inventario!C800,0)","v":0},790,0,1001," ",null,{"$f":"IF(Inventario!J800<>\"\",Inventario!J800,0)","v":0},790,0,1001," ",null,0,790,0,1001," "]
[null,null,null,null,null,null,null,null,null,null,null,null,{"$f":"IF(Inventario!C801<>\"\",Inventario!C801,0)","v":0},791,0,1001," ",null,{"$f":"IF(Inventario!J801<>\"\",Inventario!J801,0)","v":0},791,0,1001," ",null,0,791,0,1001," "]
[null,null,null,null,null,null,null,null,null,null,null,null,{"$f":"IF(Inventario!C802<>\"\",Inventario!C802,0)","v":0},792,0,1001," ",null,{"$f":"IF(Inventario!J802<>\"\",Inventario!J802,0)","v":0},792,0,1001," ",null,0,792,0,1001," "]
[null,null,null,null,null,null,null,null,null,null,null,null,{"$f":"IF(Inventario!C803<>\"\",Inventario!C803,0)","v":0},793,0,1001," ",null,{"$f":"IF(Inventario!J803<>\"\",Inventario!J803,0)","v":0},793,0,1001," ",null,0,793,0,1001," "]
[null,null,null,null,null,null,null,null,null,null,null,null,{"$f":"IF(Inventario!C804<>\"\",Inventario!C804,0)","v":0},794,0,1001," ",null,{"$f":"IF(Inventario!J804<>\"\",Inventario!J804,0)","v":0},794,0,1001," ",null,0,794,0,1001," "]
[null,null,null,null,null,null,null,null,null,null,null,null,{"$f":"IF(Inventario!C805<>\"\",Inventario!C805,0)","v":0},795,0,1001," ",null,{"$f":"IF(Inventario!J805<>\"\",Inventario!J805,0)","v":0},795,0,1001," ",null,0,795,0,1001," "]
[null,null,null,null,null,null,null,null,null,null,null,null,{"$f":"IF(Inventario!C806<>\"\",Inventario!C806,0)","v":0},796,0,1001," ",null,{"$f":"IF(Inventario!J806<>\"\",Inventario!J806,0)","v":0},796,0,1001," ",null,0,796,0,1001," "]
[null,null,null,null,null,null,null,null,null,null,null,null,{"$f":"IF(Inventario!C807<>\"\",Inventario!C807,0)","v":0},797,0,1001," ",null,{"$f":"IF(Inventario!J807<>\"\",Inventario!J807,0)","v":0},797,0,1001," ",null,0,797,0,1001," "]
[null,null,null,null,null,null,null,null,null,null,null,null,{"$f":"IF(Inventario!C808<>\"\",Inventario!C808,0)","v":0},798,0,1001," ",null,{"$f":"IF(Inventario!J808<>\"\",Inventario!J808,0)","v":0},798,0,1001," ",null,0,798,0,1001," "]
[null,null,null,null,null,null,null,null,null,null,null,null,{"$f":"IF(Inventario!C809<>\"\",Inventario!C809,0)","v":0},799,0,1001," ",null,{"$f":"IF(Inventario!J809<>\"\",Inventario!J809,0)","v":0},799,0,1001," ",null,0,799,0,1001," "]
[null,null,null,null,null,null,null,null,null,null,null,null,{"$f":"IF(Inventario!C810<>\"\",Inventario!C810,0)","v":0},800,0,1001," ",null,{"$f":"IF(Inventario!J810<>\"\",Inventario!J810,0)","v":0},800,0,1001," ",null,0,800,0,1001," "]
[null,null,null,null,null,null,null,null,null,null,null,null,{"$f":"IF(Inventario!C811<>\"\",Inventario!C811,0)","v":0},801,0,1001," ",null,{"$f":"IF(Inventario!J811<>\"\",Inventario!J811,0)","v":0},801,0,1001," ",null,0,801,0,1001," "]
[null,null,null,null,null,null,null,null,null,null,null,null,{"$f":"IF(Inventario!C812<>\"\",Inventario!C812,0)","v":0},802,0,1001," ",null,{"$f":"IF(Inventario!J812<>\"\",Inventario!J812,0)","v":0},802,0,1001," ",null,0,802,0,1001," "]
[null,null,null,null,null,null,null,null,null,null,null,null,{"$f":"IF(Inventario!C813<>\"\",Inventario!C813,0)","v":0},803,0,1001," ",null,{"$f":"IF(Inventario!J813<>\"\",Inventario!J813,0)","v":0},803,0,1001," ",null,0,803,0,1001," "]
[null,null,null,null,null,null,null,null,null,null,null,null,{"$f":"IF(Inventario!C814<>\"\",Inventario!C814,0)","v":0},804,0,1001," ",null,{"$f":"IF(Inventario!J814<>\"\",Inventario!J814,0)","v":0},804,0,1001," ",null,0,804,0,1001," "]
[null,null,null,null,null,null,null,null,null,null,null,null,{"$f":"IF(Inventario!C815<>\"\",Inventario!C815,0)","v":0},805,0,1001," ",null,{"$f":"IF(Inventario!J815<>\"\",Inventario!J815,0)","v":0},805,0,1001," ",null,0,805,0,1001," "]
[null,null,null,null,null,null,null,null,null,null,null,null,{"$f":"IF(Inventario!C816<>\"\",Inventario!C816,0)","v":0},806,0,1001," ",null,{"$f":"IF(Inventario!J816<>\"\",Inventario!J816,0)","v":0},806,0,1001," ",null,0,806,0,1001," "]
[null,null,null,null,null,null,null,null,null,null,null,null,{"$f":"IF(Inventario!C817<>\"\",Inventario!C817,0)","v":0},807,0,1001," ",null,{"$f":"IF(Inventario!J817<>\"\",Inventario!J817,0)","v":0},807,0,1001," ",null,0,807,0,1001," "]
[null,null,null,null,null,null,null,null,null,null,null,null,{"$f":"IF(Inventario!C818<>\"\",Inventario!C818,0)","v":0},808,0,1001," ",null,{"$f":"IF(Inventario!J818<>\"\",Inventario!J818,0)","v":0},808,0,1001," ",null,0,808,0,1001," "]
[null,null,null,null,null,null,null,null,null,null,null,null,{"$f":"IF(Inventario!C819<>\"\",Inventario!C819,0)","v":0},809,0,1001," ",null,{"$f":"IF(Inventario!J819<>\"\",Inventario!J819,0)","v":0},809,0,1001," ",null,0,809,0,1001," "]
[null,null,null,null,null,null,null,null,null,null,null,null,{"$f":"IF(Inventario!C820<>\"\",Inventario!C820,0)","v":0},810,0,1001," ",null,{"$f":"IF(Inventario!J820<>\"\",Inventario!J820,0)","v":0},810,0,1001," ",null,0,810,0,1001," "]
[null,null,null,null,null,null,null,null,null,null,null,null,{"$f":"IF(Inventario!C821<>\"\",Inventario!C821,0)","v":0},811,0,1001," ",null,{"$f":"IF(Inventario!J821<>\"\",Inventario!J821,0)","v":0},811,0,1001," ",null,0,811,0,1001," "]
[null,null,null,null,null,null,null,null,null,null,null,null,{"$f":"IF(Inventario!C822<>\"\",Inventario!C822,0)","v":0},812,0,1001," ",null,{"$f":"IF(Inventario!J822<>\"\",Inventario!J822,0)","v":0},812,0,1001," ",null,0,812,0,1001," "]
[null,null,null,null,null,null,null,null,null,null,null,null,{"$f":"IF(Inventario!C823<>\"\",Inventario!C823,0)","v":0},813,0,1001," ",null,{"$f":"IF(Inventario!J823<>\"\",Inventario!J823,0)","v":0},813,0,1001," ",null,0,813,0,1001," "]
[null,null,null,null,null,null,null,null,null,null,null,null,{"$f":"IF(Inventario!C824<>\"\",Inventario!C824,0)","v":0},814,0,1001," ",null,{"$f":"IF(Inventario!J824<>\"\",Inventario!J824,0)","v":0},814,0,1001," ",null,0,814,0,1001," "]
[null,null,null,null,null,null,null,null,null,null,null,null,{"$f":"IF(Inventario!C825<>\"\",Inventario!C825,0)","v":0},815,0,1001," ",null,{"$f":"IF(Inventario!J825<>\"\",Inventario!J825,0)","v":0},815,0,1001," ",null,0,815,0,1001," "]
[null,null,null,null,null,null,null,null,null,null,null,null,{"$f":"IF(Inventario!C826<>\"\",Inventario!C826,0)","v":0},816,0,1001," ",null,{"$f":"IF(Inventario!J826<>\"\",Inventario!J826,0)","v":0},816,0,1001," ",null,0,816,0,1001," "]
[null,null,null,null,null,null,null,null,null,null,null,null,{"$f":"IF(Inventario!C827<>\"\",Inventario!C827,0)","v":0},817,0,1001," ",null,{"$f":"IF(Inventario!J827<>\"\",Inventario!J827,0)","v":0},817,0,1001," ",null,0,817,0,1001," "]
[null,null,null,null,null,null,null,null,null,null,null,null,{"$f":"IF(Inventario!C828<>\"\",Inventario!C828,0)","v":0},818,0,1001," ",null,{"$f":"IF(Inventario!J828<>\"\",Inventario!J828,0)","v":0},818,0,1001," ",null,0,818,0,1001," "]
[null,null,null,null,null,null,null,null,null,null,null,null,{"$f":"IF(Inventario!C829<>\"\",Inventario!C829,0)","v":0},819,0,1001," ",null,{"$f":"IF(Inventario!J829<>\"\",Inventario!J829,0)","v":0},819,0,1001," ",null,0,819,0,1001," "]
[null,null,null,null,null,null,null,null,null,null,null,null,{"$f":"IF(Inventario!C830<>\"\",Inventario!C830,0)","v":0},820,0,1001," ",null,{"$f":"IF(Inventario!J830<>\"\",Inventario!J830,0)","v":0},820,0,1001," ",null,0,820,0,1001," "]
[null,null,null,null,null,null,null,null,null,null,null,null,{"$f":"IF(Inventario!C831<>\"\",Inventario!C831,0)","v":0},821,0,1001," ",null,{"$f":"IF(Inventario!J831<>\"\",Inventario!J831,0)","v":0},821,0,1001," ",null,0,821,0,1001," "]
[null,null,null,null,null,null,null,null,null,null,null,null,{"$f":"IF(Inventario!C832<>\"\",Inventario!C832,0)","v":0},822,0,1001," ",null,{"$f":"IF(Inventario!J832<>\"\",Inventario!J832,0)","v":0},822,0,1001," ",null,0,822,0,1001," "]
[null,null,null,null,null,null,null,null,null,null,null,null,{"$f":"IF(Inventario!C833<>\"\",Inventario!C833,0)","v":0},823,0,1001," ",null,{"$f":"IF(Inventario!J833<>\"\",Inventario!J833,0)","v":0},823,0,1001," ",null,0,823,0,1001," "]
[null,null,null,null,null,null,null,null,null,null,null,null,{"$f":"IF(Inventario!C834<>\"\",Inventario!C834,0)","v":0},824,0,1001," ",null,{"$f":"IF(Inventario!J834<>\"\",Inventario!J834,0)","v":0},824,0,1001," ",null,0,824,0,1001," "]
[null,null,null,null,null,null,null,null,null,null,null,null,{"$f":"IF(Inventario!C835<>\"\",Inventario!C835,0)","v":0},825,0,1001," ",null,{"$f":"IF(Inventario!J835<>\"\",Inventario!J835,0)","v":0},825,0,1001," ",null,0,825,0,1001," "]
[null,null,null,null,null,null,null,null,null,null,null,null,{"$f":"IF(Inventario!C836<>\"\",Inventario!C836,0)","v":0},826,0,1001," ",null,{"$f":"IF(Inventario!J836<>\"\",Inventario!J836,0)","v":0},826,0,1001," ",null,0,826,0,1001," "]
[null,null,null,null,null,null,null,null,null,null,null,null,{"$f":"IF(Inventario!C837<>\"\",Inventario!C837,0)","v":0},827,0,1001," ",null,{"$f":"IF(Inventario!J837<>\"\",Inventario!J837,0)","v":0},827,0,1001," ",null,0,827,0,1001," "]
[null,null,null,null,null,null,null,null,null,null,null,null,{"$f":"IF(Inventario!C838<>\"\",Inventario!C838,0)","v":0},828,0,1001," ",null,{"$f":"IF(Inventario!J838<>\"\",Inventario!J838,0)","v":0},828,0,1001," ",null,0,828,0,1001," "]
[null,null,null,null,null,null,null,null,null,null,null,null,{"$f":"IF(Inventario!C839<>\"\",Inventario!C839,0)","v":0},829,0,1001," ",null,{"$f":"IF(Inventario!J839<>\"\",Inventario!J839,0)","v":0},829,0,1001," ",null,0,829,0,1001," "]
[null,null,null,null,null,null,null,null,null,null,null,null,{"$f":"IF(Inventario!C840<>\"\",Inventario!C840,0)","v":0},830,0,1001," ",null,{"$f":"IF(Inventario!J840<>\"\",Inventario!J840,0)","v":0},830,0,1001," ",null,0,830,0,1001," "]
[null,null,null,null,null,null,null,null,null,null,null,null,{"$f":"IF(Inventario!C841<>\"\",Inventario!C841,0)","v":0},831,0,1001," ",null,{"$f":"IF(Inventario!J841<>\"\",Inventario!J841,0)","v":0},831,0,1001," ",null,0,831,0,1001," "]
[null,null,null,null,null,null,null,null,null,null,null,null,{"$f":"IF(Inventario!C842<>\"\",Inventario!C842,0)","v":0},832,0,1001," ",null,{"$f":"IF(Inventario!J842<>\"\",Inventario!J842,0)","v":0},832,0,1001," ",null,0,832,0,1001," "]
[null,null,null,null,null,null,null,null,null,null,null,null,{"$f":"IF(Inventario!C843<>\"\",Inventario!C843,0)","v":0},833,0,1001,{"$f":"IFERROR(VLOOKUP(SMALL($P$6:$P$1005,N838),$N$6:$O$1005,2,FALSE),\" \")","v":" "},null,{"$f":"IF(Inventario!J843<>\"\",Inventario!J843,0)","v":0},833,0,1001,{"$f":"IFERROR(VLOOKUP(SMALL($V$6:$V$1005,T838),$T$6:$U$1005,2,FALSE),\" \")","v":" "},null,0,833,0,1001,{"$f":"IFERROR(VLOOKUP(SMALL($AB$6:$AB$1005,Z838),$Z$6:$AA$1005,2,FALSE),\" \")","v":" "}]
[null,null,null,null,null,null,null,null,null,null,null,null,{"$f":"IF(Inventario!C844<>\"\",Inventario!C844,0)","v":0},834,{"$f":"M839","v":0},{"$f":"IF(O839=0,MAX($N$6:$N$1005)+1,N839)","v":1001}," ",null,{"$f":"IF(Inventario!J844<>\"\",Inventario!J844,0)","v":0},834,{"$f":"S839","v":0},{"$f":"IF(U839=0,MAX($T$6:$T$1005)+1,T839)","v":1001}," ",null,{"$f":"IF(AND(M839=0,S839=0),0,IF(AND(M839<>0,S839=0),M839,IF(AND(M839=0,S839<>0),S839,IF(AND(M839<>0,S839<>0),(CONCATENATE(M839,S839))))))","v":0},834,{"$f":"Y839","v":0},{"$f":"IF(AA839=0,MAX($Z$6:$Z$1005)+1,Z839)","v":1001}," "]
[null,null,null,null,null,null,null,null,null,null,null,null,{"$f":"IF(Inventario!C845<>\"\",Inventario!C845,0)","v":0},835,0,1001," ",null,{"$f":"IF(Inventario!J845<>\"\",Inventario!J845,0)","v":0},835,0,1001," ",null,0,835,0,1001," "]
[null,null,null,null,null,null,null,null,null,null,null,null,{"$f":"IF(Inventario!C846<>\"\",Inventario!C846,0)","v":0},836,0,1001," ",null,{"$f":"IF(Inventario!J846<>\"\",Inventario!J846,0)","v":0},836,0,1001," ",null,0,836,0,1001," "]
[null,null,null,null,null,null,null,null,null,null,null,null,{"$f":"IF(Inventario!C847<>\"\",Inventario!C847,0)","v":0},837,0,1001," ",null,{"$f":"IF(Inventario!J847<>\"\",Inventario!J847,0)","v":0},837,0,1001," ",null,0,837,0,1001," "]
[null,null,null,null,null,null,null,null,null,null,null,null,{"$f":"IF(Inventario!C848<>\"\",Inventario!C848,0)","v":0},838,0,1001," ",null,{"$f":"IF(Inventario!J848<>\"\",Inventario!J848,0)","v":0},838,0,1001," ",null,0,838,0,1001," "]
[null,null,null,null,null,null,null,null,null,null,null,null,{"$f":"IF(Inventario!C849<>\"\",Inventario!C849,0)","v":0},839,0,1001," ",null,{"$f":"IF(Inventario!J849<>\"\",Inventario!J849,0)","v":0},839,0,1001," ",null,0,839,0,1001," "]
[null,null,null,null,null,null,null,null,null,null,null,null,{"$f":"IF(Inventario!C850<>\"\",Inventario!C850,0)","v":0},840,0,1001," ",null,{"$f":"IF(Inventario!J850<>\"\",Inventario!J850,0)","v":0},840,0,1001," ",null,0,840,0,1001," "]
[null,null,null,null,null,null,null,null,null,null,null,null,{"$f":"IF(Inventario!C851<>\"\",Inventario!C851,0)","v":0},841,0,1001," ",null,{"$f":"IF(Inventario!J851<>\"\",Inventario!J851,0)","v":0},841,0,1001," ",null,0,841,0,1001," "]
[null,null,null,null,null,null,null,null,null,null,null,null,{"$f":"IF(Inventario!C852<>\"\",Inventario!C852,0)","v":0},842,0,1001," ",null,{"$f":"IF(Inventario!J852<>\"\",Inventario!J852,0)","v":0},842,0,1001," ",null,0,842,0,1001," "]
[null,null,null,null,null,null,null,null,null,null,null,null,{"$f":"IF(Inventario!C853<>\"\",Inventario!C853,0)","v":0},843,0,1001," ",null,{"$f":"IF(Inventario!J853<>\"\",Inventario!J853,0)","v":0},843,0,1001," ",null,0,843,0,1001," "]
[null,null,null,null,null,null,null,null,null,null,null,null,{"$f":"IF(Inventario!C854<>\"\",Inventario!C854,0)","v":0},844,0,1001," ",null,{"$f":"IF(Inventario!J854<>\"\",Inventario!J854,0)","v":0},844,0,1001," ",null,0,844,0,1001," "]
[null,null,null,null,null,null,null,null,null,null,null,null,{"$f":"IF(Inventario!C855<>\"\",Inventario!C855,0)","v":0},845,0,1001," ",null,{"$f":"IF(Inventario!J855<>\"\",Inventario!J855,0)","v":0},845,0,1001," ",null,0,845,0,1001," "]
[null,null,null,null,null,null,null,null,null,null,null,null,{"$f":"IF(Inventario!C856<>\"\",Inventario!C856,0)","v":0},846,0,1001," ",null,{"$f":"IF(Inventario!J856<>\"\",Inventario!J856,0)","v":0},846,0,1001," ",null,0,846,0,1001," "]
[null,null,null,null,null,null,null,null,null,null,null,null,{"$f":"IF(Inventario!C857<>\"\",Inventario!C857,0)","v":0},847,0,1001," ",null,{"$f":"IF(Inventario!J857<>\"\",Inventario!J857,0)","v":0},847,0,1001," ",null,0,847,0,1001," "]
[null,null,null,null,null,null,null,null,null,null,null,null,{"$f":"IF(Inventario!C858<>\"\",Inventario!C858,0)","v":0},848,0,1001," ",null,{"$f":"IF(Inventario!J858<>\"\",Inventario!J858,0)","v":0},848,0,1001," ",null,0,848,0,1001," "]
[null,null,null,null,null,null,null,null,null,null,null,null,{"$f":"IF(Inventario!C859<>\"\",Inventario!C859,0)","v":0},849,0,1001," ",null,{"$f":"IF(Inventario!J859<>\"\",Inventario!J859,0)","v":0},849,0,1001," ",null,0,849,0,1001," "]
[null,null,null,null,null,null,null,null,null,null,null,null,{"$f":"IF(Inventario!C860<>\"\",Inventario!C860,0)","v":0},850,0,1001," ",null,{"$f":"IF(Inventario!J860<>\"\",Inventario!J860,0)","v":0},850,0,1001," ",null,0,850,0,1001," "]
[null,null,null,null,null,null,null,null,null,null,null,null,{"$f":"IF(Inventario!C861<>\"\",Inventario!C861,0)","v":0},851,0,1001," ",null,{"$f":"IF(Inventario!J861<>\"\",Inventario!J861,0)","v":0},851,0,1001," ",null,0,851,0,1001," "]
[null,null,null,null,null,null,null,null,null,null,null,null,{"$f":"IF(Inventario!C862<>\"\",Inventario!C862,0)","v":0},852,0,1001," ",null,{"$f":"IF(Inventario!J862<>\"\",Inventario!J862,0)","v":0},852,0,1001," ",null,0,852,0,1001," "]
[null,null,null,null,null,null,null,null,null,null,null,null,{"$f":"IF(Inventario!C863<>\"\",Inventario!C863,0)","v":0},853,0,1001," ",null,{"$f":"IF(Inventario!J863<>\"\",Inventario!J863,0)","v":0},853,0,1001," ",null,0,853,0,1001," "]
[null,null,null,null,null,null,null,null,null,null,null,null,{"$f":"IF(Inventario!C864<>\"\",Inventario!C864,0)","v":0},854,0,1001," ",null,{"$f":"IF(Inventario!J864<>\"\",Inventario!J864,0)","v":0},854,0,1001," ",null,0,854,0,1001," "]
[null,null,null,null,null,null,null,null,null,null,null,null,{"$f":"IF(Inventario!C865<>\"\",Inventario!C865,0)","v":0},855,0,1001," ",null,{"$f":"IF(Inventario!J865<>\"\",Inventario!J865,0)","v":0},855,0,1001," ",null,0,855,0,1001," "]
[null,null,null,null,null,null,null,null,null,null,null,null,{"$f":"IF(Inventario!C866<>\"\",Inventario!C866,0)","v":0},856,0,1001," ",null,{"$f":"IF(Inventario!J866<>\"\",Inventario!J866,0)","v":0},856,0,1001," ",null,0,856,0,1001," "]
[null,null,null,null,null,null,null,null,null,null,null,null,{"$f":"IF(Inventario!C867<>\"\",Inventario!C867,0)","v":0},857,0,1001," ",null,{"$f":"IF(Inventario!J867<>\"\",Inventario!J867,0)","v":0},857,0,1001," ",null,0,857,0,1001," "]
[null,null,null,null,null,null,null,null,null,null,null,null,{"$f":"IF(Inventario!C868<>\"\",Inventario!C868,0)","v":0},858,0,1001," ",null,{"$f":"IF(Inventario!J868<>\"\",Inventario!J868,0)","v":0},858,0,1001," ",null,0,858,0,1001," "]
[null,null,null,null,null,null,null,null,null,null,null,null,{"$f":"IF(Inventario!C869<>\"\",Inventario!C869,0)","v":0},859,0,1001," ",null,{"$f":"IF(Inventario!J869<>\"\",Inventario!J869,0)","v":0},859,0,1001," ",null,0,859,0,1001," "]
[null,null,null,null,null,null,null,null,null,null,null,null,{"$f":"IF(Inventario!C870<>\"\",Inventario!C870,0)","v":0},860,0,1001," ",null,{"$f":"IF(Inventario!J870<>\"\",Inventario!J870,0)","v":0},860,0,1001," ",null,0,860,0,1001," "]
[null,null,null,null,null,null,null,null,null,null,null,null,{"$f":"IF(Inventario!C871<>\"\",Inventario!C871,0)","v":0},861,0,1001," ",null,{"$f":"IF(Inventario!J871<>\"\",Inventario!J871,0)","v":0},861,0,1001," ",null,0,861,0,1001," "]
[null,null,null,null,null,null,null,null,null,null,null,null,{"$f":"IF(Inventario!C872<>\"\",Inventario!C872,0)","v":0},862,0,1001," ",null,{"$f":"IF(Inventario!J872<>\"\",Inventario!J872,0)","v":0},862,0,1001," ",null,0,862,0,1001," "]
[null,null,null,null,null,null,null,null,null,null,null,null,{"$f":"IF(Inventario!C873<>\"\",Inventario!C873,0)","v":0},863,0,1001," ",null,{"$f":"IF(Inventario!J873<>\"\",Inventario!J873,0)","v":0},863,0,1001," ",null,0,863,0,1001," "]
[null,null,null,null,null,null,null,null,null,null,null,null,{"$f":"IF(Inventario!C874<>\"\",Inventario!C874,0)","v":0},864,0,1001," ",null,{"$f":"IF(Inventario!J874<>\"\",Inventario!J874,0)","v":0},864,0,1001," ",null,0,864,0,1001," "]
[null,null,null,null,null,null,null,null,null,null,null,null,{"$f":"IF(Inventario!C875<>\"\",Inventario!C875,0)","v":0},865,0,1001," ",null,{"$f":"IF(Inventario!J875<>\"\",Inventario!J875,0)","v":0},865,0,1001," ",null,0,865,0,1001," "]
[null,null,null,null,null,null,null,null,null,null,null,null,{"$f":"IF(Inventario!C876<>\"\",Inventario!C876,0)","v":0},866,0,1001," ",null,{"$f":"IF(Inventario!J876<>\"\",Inventario!J876,0)","v":0},866,0,1001," ",null,0,866,0,1001," "]
[null,null,null,null,null,null,null,null,null,null,null,null,{"$f":"IF(Inventario!C877<>\"\",Inventario!C877,0)","v":0},867,0,1001," ",null,{"$f":"IF(Inventario!J877<>\"\",Inventario!J877,0)","v":0},867,0,1001," ",null,0,867,0,1001," "]
[null,null,null,null,null,null,null,null,null,null,null,null,{"$f":"IF(Inventario!C878<>\"\",Inventario!C878,0)","v":0},868,0,1001," ",null,{"$f":"IF(Inventario!J878<>\"\",Inventario!J878,0)","v":0},868,0,1001," ",null,0,868,0,1001," "]
[null,null,null,null,null,null,null,null,null,null,null,null,{"$f":"IF(Inventario!C879<>\"\",Inventario!C879,0)","v":0},869,0,1001," ",null,{"$f":"IF(Inventario!J879<>\"\",Inventario!J879,0)","v":0},869,0,1001," ",null,0,869,0,1001," "]
[null,null,null,null,null,null,null,null,null,null,null,null,{"$f":"IF(Inventario!C880<>\"\",Inventario!C880,0)","v":0},870,0,1001," ",null,{"$f":"IF(Inventario!J880<>\"\",Inventario!J880,0)","v":0},870,0,1001," ",null,0,870,0,1001," "]
[null,null,null,null,null,null,null,null,null,null,null,null,{"$f":"IF(Inventario!C881<>\"\",Inventario!C881,0)","v":0},871,0,1001," ",null,{"$f":"IF(Inventario!J881<>\"\",Inventario!J881,0)","v":0},871,0,1001," ",null,0,871,0,1001," "]
[null,null,null,null,null,null,null,null,null,null,null,null,{"$f":"IF(Inventario!C882<>\"\",Inventario!C882,0)","v":0},872,0,1001," ",null,{"$f":"IF(Inventario!J882<>\"\",Inventario!J882,0)","v":0},872,0,1001," ",null,0,872,0,1001," "]
[null,null,null,null,null,null,null,null,null,null,null,null,{"$f":"IF(Inventario!C883<>\"\",Inventario!C883,0)","v":0},873,0,1001," ",null,{"$f":"IF(Inventario!J883<>\"\",Inventario!J883,0)","v":0},873,0,1001," ",null,0,873,0,1001," "]
[null,null,null,null,null,null,null,null,null,null,null,null,{"$f":"IF(Inventario!C884<>\"\",Inventario!C884,0)","v":0},874,0,1001," ",null,{"$f":"IF(Inventario!J884<>\"\",Inventario!J884,0)","v":0},874,0,1001," ",null,0,874,0,1001," "]
[null,null,null,null,null,null,null,null,null,null,null,null,{"$f":"IF(Inventario!C885<>\"\",Inventario!C885,0)","v":0},875,0,1001," ",null,{"$f":"IF(Inventario!J885<>\"\",Inventario!J885,0)","v":0},875,0,1001," ",null,0,875,0,1001," "]
[null,null,null,null,null,null,null,null,null,null,null,null,{"$f":"IF(Inventario!C886<>\"\",Inventario!C886,0)","v":0},876,0,1001," ",null,{"$f":"IF(Inventario!J886<>\"\",Inventario!J886,0)","v":0},876,0,1001," ",null,0,876,0,1001," "]
[null,null,null,null,null,null,null,null,null,null,null,null,{"$f":"IF(Inventario!C887<>\"\",Inventario!C887,0)","v":0},877,0,1001," ",null,{"$f":"IF(Inventario!J887<>\"\",Inventario!J887,0)","v":0},877,0,1001," ",null,0,877,0,1001," "]
[null,null,null,null,null,null,null,null,null,null,null,null,{"$f":"IF(Inventario!C888<>\"\",Inventario!C888,0)","v":0},878,0,1001," ",null,{"$f":"IF(Inventario!J888<>\"\",Inventario!J888,0)","v":0},878,0,1001," ",null,0,878,0,1001," "]
[null,null,null,null,null,null,null,null,null,null,null,null,{"$f":"IF(Inventario!C889<>\"\",Inventario!C889,0)","v":0},879,0,1001," ",null,{"$f":"IF(Inventario!J889<>\"\",Inventario!J889,0)","v":0},879,0,1001," ",null,0,879,0,1001," "]
[null,null,null,null,null,null,null,null,null,null,null,null,{"$f":"IF(Inventario!C890<>\"\",Inventario!C890,0)","v":0},880,0,1001," ",null,{"$f":"IF(Inventario!J890<>\"\",Inventario!J890,0)","v":0},880,0,1001," ",null,0,880,0,1001," "]
[null,null,null,null,null,null,null,null,null,null,null,null,{"$f":"IF(Inventario!C891<>\"\",Inventario!C891,0)","v":0},881,0,1001," ",null,{"$f":"IF(Inventario!J891<>\"\",Inventario!J891,0)","v":0},881,0,1001," ",null,0,881,0,1001," "]
[null,null,null,null,null,null,null,null,null,null,null,null,{"$f":"IF(Inventario!C892<>\"\",Inventario!C892,0)","v":0},882,0,1001," ",null,{"$f":"IF(Inventario!J892<>\"\",Inventario!J892,0)","v":0},882,0,1001," ",null,0,882,0,1001," "]
[null,null,null,null,null,null,null,null,null,null,null,null,{"$f":"IF(Inventario!C893<>\"\",Inventario!C893,0)","v":0},883,0,1001," ",null,{"$f":"IF(Inventario!J893<>\"\",Inventario!J893,0)","v":0},883,0,1001," ",null,0,883,0,1001," "]
[null,null,null,null,null,null,null,null,null,null,null,null,{"$f":"IF(Inventario!C894<>\"\",Inventario!C894,0)","v":0},884,0,1001," ",null,{"$f":"IF(Inventario!J894<>\"\",Inventario!J894,0)","v":0},884,0,1001," ",null,0,884,0,1001," "]
[null,null,null,null,null,null,null,null,null,null,null,null,{"$f":"IF(Inventario!C895<>\"\",Inventario!C895,0)","v":0},885,0,1001," ",null,{"$f":"IF(Inventario!J895<>\"\",Inventario!J895,0)","v":0},885,0,1001," ",null,0,885,0,1001," "]
[null,null,null,null,null,null,null,null,null,null,null,null,{"$f":"IF(Inventario!C896<>\"\",Inventario!C896,0)","v":0},886,0,1001," ",null,{"$f":"IF(Inventario!J896<>\"\",Inventario!J896,0)","v":0},886,0,1001," ",null,0,886,0,1001," "]
[null,null,null,null,null,null,null,null,null,null,null,null,{"$f":"IF(Inventario!C897<>\"\",Inventario!C897,0)","v":0},887,0,1001," ",null,{"$f":"IF(Inventario!J897<>\"\",Inventario!J897,0)","v":0},887,0,1001," ",null,0,887,0,1001," "]
[null,null,null,null,null,null,null,null,null,null,null,null,{"$f":"IF(Inventario!C898<>\"\",Inventario!C898,0)","v":0},888,0,1001," ",null,{"$f":"IF(Inventario!J898<>\"\",Inventario!J898,0)","v":0},888,0,1001," ",null,0,888,0,1001," "]
[null,null,null,null,null,null,null,null,null,null,null,null,{"$f":"IF(Inventario!C899<>\"\",Inventario!C899,0)","v":0},889,0,1001," ",null,{"$f":"IF(Inventario!J899<>\"\",Inventario!J899,0)","v":0},889,0,1001," ",null,0,889,0,1001," "]
[null,null,null,null,null,null,null,null,null,null,null,null,{"$f":"IF(Inventario!C900<>\"\",Inventario!C900,0)","v":0},890,0,1001," ",null,{"$f":"IF(Inventario!J900<>\"\",Inventario!J900,0)","v":0},890,0,1001," ",null,0,890,0,1001," "]
[null,null,null,null,null,null,null,null,null,null,null,null,{"$f":"IF(Inventario!C901<>\"\",Inventario!C901,0)","v":0},891,0,1001," ",null,{"$f":"IF(Inventario!J901<>\"\",Inventario!J901,0)","v":0},891,0,1001," ",null,0,891,0,1001," "]
[null,null,null,null,null,null,null,null,null,null,null,null,{"$f":"IF(Inventario!C902<>\"\",Inventario!C902,0)","v":0},892,0,1001," ",null,{"$f":"IF(Inventario!J902<>\"\",Inventario!J902,0)","v":0},892,0,1001," ",null,0,892,0,1001," "]
[null,null,null,null,null,null,null,null,null,null,null,null,{"$f":"IF(Inventario!C903<>\"\",Inventario!C903,0)","v":0},893,0,1001," ",null,{"$f":"IF(Inventario!J903<>\"\",Inventario!J903,0)","v":0},893,0,1001," ",null,0,893,0,1001," "]
[null,null,null,null,null,null,null,null,null,null,null,null,{"$f":"IF(Inventario!C904<>\"\",Inventario!C904,0)","v":0},894,0,1001," ",null,{"$f":"IF(Inventario!J904<>\"\",Inventario!J904,0)","v":0},894,0,1001," ",null,0,894,0,1001," "]
[null,null,null,null,null,null,null,null,null,null,null,null,{"$f":"IF(Inventario!C905<>\"\",Inventario!C905,0)","v":0},895,0,1001," ",null,{"$f":"IF(Inventario!J905<>\"\",Inventario!J905,0)","v":0},895,0,1001," ",null,0,895,0,1001," "]
[null,null,null,null,null,null,null,null,null,null,null,null,{"$f":"IF(Inventario!C906<>\"\",Inventario!C906,0)","v":0},896,0,1001," ",null,{"$f":"IF(Inventario!J906<>\"\",Inventario!J906,0)","v":0},896,0,1001," ",null,0,896,0,1001," "]
[null,null,null,null,null,null,null,null,null,null,null,null,{"$f":"IF(Inventario!C907<>\"\",Inventario!C907,0)","v":0},897,0,1001,{"$f":"IFERROR(VLOOKUP(SMALL($P$6:$P$1005,N902),$N$6:$O$1005,2,FALSE),\" \")","v":" "},null,{"$f":"IF(Inventario!J907<>\"\",Inventario!J907,0)","v":0},897,0,1001,{"$f":"IFERROR(VLOOKUP(SMALL($V$6:$V$1005,T902),$T$6:$U$1005,2,FALSE),\" \")","v":" "},null,0,897,0,1001,{"$f":"IFERROR(VLOOKUP(SMALL($AB$6:$AB$1005,Z902),$Z$6:$AA$1005,2,FALSE),\" \")","v":" "}]
[null,null,null,null,null,null,null,null,null,null,null,null,{"$f":"IF(Inventario!C908<>\"\",Inventario!C908,0)","v":0},898,{"$f":"M903","v":0},{"$f":"IF(O903=0,MAX($N$6:$N$1005)+1,N903)","v":1001}," ",null,{"$f":"IF(Inventario!J908<>\"\",Inventario!J908,0)","v":0},898,{"$f":"S903","v":0},{"$f":"IF(U903=0,MAX($T$6:$T$1005)+1,T903)","v":1001}," ",null,{"$f":"IF(AND(M903=0,S903=0),0,IF(AND(M903<>0,S903=0),M903,IF(AND(M903=0,S903<>0),S903,IF(AND(M903<>0,S903<>0),(CONCATENATE(M903,S903))))))","v":0},898,{"$f":"Y903","v":0},{"$f":"IF(AA903=0,MAX($Z$6:$Z$1005)+1,Z903)","v":1001}," "]
[null,null,null,null,null,null,null,null,null,null,null,null,{"$f":"IF(Inventario!C909<>\"\",Inventario!C909,0)","v":0},899,0,1001," ",null,{"$f":"IF(Inventario!J909<>\"\",Inventario!J909,0)","v":0},899,0,1001," ",null,0,899,0,1001," "]
[null,null,null,null,null,null,null,null,null,null,null,null,{"$f":"IF(Inventario!C910<>\"\",Inventario!C910,0)","v":0},900,0,1001," ",null,{"$f":"IF(Inventario!J910<>\"\",Inventario!J910,0)","v":0},900,0,1001," ",null,0,900,0,1001," "]
[null,null,null,null,null,null,null,null,null,null,null,null,{"$f":"IF(Inventario!C911<>\"\",Inventario!C911,0)","v":0},901,0,1001," ",null,{"$f":"IF(Inventario!J911<>\"\",Inventario!J911,0)","v":0},901,0,1001," ",null,0,901,0,1001," "]
[null,null,null,null,null,null,null,null,null,null,null,null,{"$f":"IF(Inventario!C912<>\"\",Inventario!C912,0)","v":0},902,0,1001," ",null,{"$f":"IF(Inventario!J912<>\"\",Inventario!J912,0)","v":0},902,0,1001," ",null,0,902,0,1001," "]
[null,null,null,null,null,null,null,null,null,null,null,null,{"$f":"IF(Inventario!C913<>\"\",Inventario!C913,0)","v":0},903,0,1001," ",null,{"$f":"IF(Inventario!J913<>\"\",Inventario!J913,0)","v":0},903,0,1001," ",null,0,903,0,1001," "]
[null,null,null,null,null,null,null,null,null,null,null,null,{"$f":"IF(Inventario!C914<>\"\",Inventario!C914,0)","v":0},904,0,1001," ",null,{"$f":"IF(Inventario!J914<>\"\",Inventario!J914,0)","v":0},904,0,1001," ",null,0,904,0,1001," "]
[null,null,null,null,null,null,null,null,null,null,null,null,{"$f":"IF(Inventario!C915<>\"\",Inventario!C915,0)","v":0},905,0,1001," ",null,{"$f":"IF(Inventario!J915<>\"\",Inventario!J915,0)","v":0},905,0,1001," ",null,0,905,0,1001," "]
[null,null,null,null,null,null,null,null,null,null,null,null,{"$f":"IF(Inventario!C916<>\"\",Inventario!C916,0)","v":0},906,0,1001," ",null,{"$f":"IF(Inventario!J916<>\"\",Inventario!J916,0)","v":0},906,0,1001," ",null,0,906,0,1001," "]
[null,null,null,null,null,null,null,null,null,null,null,null,{"$f":"IF(Inventario!C917<>\"\",Inventario!C917,0)","v":0},907,0,1001," ",null,{"$f":"IF(Inventario!J917<>\"\",Inventario!J917,0)","v":0},907,0,1001," ",null,0,907,0,1001," "]
[null,null,null,null,null,null,null,null,null,null,null,null,{"$f":"IF(Inventario!C918<>\"\",Inventario!C918,0)","v":0},908,0,1001," ",null,{"$f":"IF(Inventario!J918<>\"\",Inventario!J918,0)","v":0},908,0,1001," ",null,0,908,0,1001," "]
[null,null,null,null,null,null,null,null,null,null,null,null,{"$f":"IF(Inventario!C919<>\"\",Inventario!C919,0)","v":0},909,0,1001," ",null,{"$f":"IF(Inventario!J919<>\"\",Inventario!J919,0)","v":0},909,0,1001," ",null,0,909,0,1001," "]
[null,null,null,null,null,null,null,null,null,null,null,null,{"$f":"IF(Inventario!C920<>\"\",Inventario!C920,0)","v":0},910,0,1001," ",null,{"$f":"IF(Inventario!J920<>\"\",Inventario!J920,0)","v":0},910,0,1001," ",null,0,910,0,1001," "]
[null,null,null,null,null,null,null,null,null,null,null,null,{"$f":"IF(Inventario!C921<>\"\",Inventario!C921,0)","v":0},911,0,1001," ",null,{"$f":"IF(Inventario!J921<>\"\",Inventario!J921,0)","v":0},911,0,1001," ",null,0,911,0,1001," "]
[null,null,null,null,null,null,null,null,null,null,null,null,{"$f":"IF(Inventario!C922<>\"\",Inventario!C922,0)","v":0},912,0,1001," ",null,{"$f":"IF(Inventario!J922<>\"\",Inventario!J922,0)","v":0},912,0,1001," ",null,0,912,0,1001," "]
[null,null,null,null,null,null,null,null,null,null,null,null,{"$f":"IF(Inventario!C923<>\"\",Inventario!C923,0)","v":0},913,0,1001," ",null,{"$f":"IF(Inventario!J923<>\"\",Inventario!J923,0)","v":0},913,0,1001," ",null,0,913,0,1001," "]
[null,null,null,null,null,null,null,null,null,null,null,null,{"$f":"IF(Inventario!C924<>\"\",Inventario!C924,0)","v":0},914,0,1001," ",null,{"$f":"IF(Inventario!J924<>\"\",Inventario!J924,0)","v":0},914,0,1001," ",null,0,914,0,1001," "]
[null,null,null,null,null,null,null,null,null,null,null,null,{"$f":"IF(Inventario!C925<>\"\",Inventario!C925,0)","v":0},915,0,1001," ",null,{"$f":"IF(Inventario!J925<>\"\",Inventario!J925,0)","v":0},915,0,1001," ",null,0,915,0,1001," "]
[null,null,null,null,null,null,null,null,null,null,null,null,{"$f":"IF(Inventario!C926<>\"\",Inventario!C926,0)","v":0},916,0,1001," ",null,{"$f":"IF(Inventario!J926<>\"\",Inventario!J926,0)","v":0},916,0,1001," ",null,0,916,0,1001," "]
[null,null,null,null,null,null,null,null,null,null,null,null,{"$f":"IF(Inventario!C927<>\"\",Inventario!C927,0)","v":0},917,0,1001," ",null,{"$f":"IF(Inventario!J927<>\"\",Inventario!J927,0)","v":0},917,0,1001," ",null,0,917,0,1001," "]
[null,null,null,null,null,null,null,null,null,null,null,null,{"$f":"IF(Inventario!C928<>\"\",Inventario!C928,0)","v":0},918,0,1001," ",null,{"$f":"IF(Inventario!J928<>\"\",Inventario!J928,0)","v":0},918,0,1001," ",null,0,918,0,1001," "]
[null,null,null,null,null,null,null,null,null,null,null,null,{"$f":"IF(Inventario!C929<>\"\",Inventario!C929,0)","v":0},919,0,1001," ",null,{"$f":"IF(Inventario!J929<>\"\",Inventario!J929,0)","v":0},919,0,1001," ",null,0,919,0,1001," "]
[null,null,null,null,null,null,null,null,null,null,null,null,{"$f":"IF(Inventario!C930<>\"\",Inventario!C930,0)","v":0},920,0,1001," ",null,{"$f":"IF(Inventario!J930<>\"\",Inventario!J930,0)","v":0},920,0,1001," ",null,0,920,0,1001," "]
[null,null,null,null,null,null,null,null,null,null,null,null,{"$f":"IF(Inventario!C931<>\"\",Inventario!C931,0)","v":0},921,0,1001," ",null,{"$f":"IF(Inventario!J931<>\"\",Inventario!J931,0)","v":0},921,0,1001," ",null,0,921,0,1001," "]
[null,null,null,null,null,null,null,null,null,null,null,null,{"$f":"IF(Inventario!C932<>\"\",Inventario!C932,0)","v":0},922,0,1001," ",null,{"$f":"IF(Inventario!J932<>\"\",Inventario!J932,0)","v":0},922,0,1001," ",null,0,922,0,1001," "]
[null,null,null,null,null,null,null,null,null,null,null,null,{"$f":"IF(Inventario!C933<>\"\",Inventario!C933,0)","v":0},923,0,1001," ",null,{"$f":"IF(Inventario!J933<>\"\",Inventario!J933,0)","v":0},923,0,1001," ",null,0,923,0,1001," "]
[null,null,null,null,null,null,null,null,null,null,null,null,{"$f":"IF(Inventario!C934<>\"\",Inventario!C934,0)","v":0},924,0,1001," ",null,{"$f":"IF(Inventario!J934<>\"\",Inventario!J934,0)","v":0},924,0,1001," ",null,0,924,0,1001," "]
[null,null,null,null,null,null,null,null,null,null,null,null,{"$f":"IF(Inventario!C935<>\"\",Inventario!C935,0)","v":0},925,0,1001," ",null,{"$f":"IF(Inventario!J935<>\"\",Inventario!J935,0)","v":0},925,0,1001," ",null,0,925,0,1001," "]
[null,null,null,null,null,null,null,null,null,null,null,null,{"$f":"IF(Inventario!C936<>\"\",Inventario!C936,0)","v":0},926,0,1001," ",null,{"$f":"IF(Inventario!J936<>\"\",Inventario!J936,0)","v":0},926,0,1001," ",null,0,926,0,1001," "]
[null,null,null,null,null,null,null,null,null,null,null,null,{"$f":"IF(Inventario!C937<>\"\",Inventario!C937,0)","v":0},927,0,1001," ",null,{"$f":"IF(Inventario!J937<>\"\",Inventario!J937,0)","v":0},927,0,1001," ",null,0,927,0,1001," "]
[null,null,null,null,null,null,null,null,null,null,null,null,{"$f":"IF(Inventario!C938<>\"\",Inventario!C938,0)","v":0},928,0,1001," ",null,{"$f":"IF(Inventario!J938<>\"\",Inventario!J938,0)","v":0},928,0,1001," ",null,0,928,0,1001," "]
[null,null,null,null,null,null,null,null,null,null,null,null,{"$f":"IF(Inventario!C939<>\"\",Inventario!C939,0)","v":0},929,0,1001," ",null,{"$f":"IF(Inventario!J939<>\"\",Inventario!J939,0)","v":0},929,0,1001," ",null,0,929,0,1001," "]
[null,null,null,null,null,null,null,null,null,null,null,null,{"$f":"IF(Inventario!C940<>\"\",Inventario!C940,0)","v":0},930,0,1001," ",null,{"$f":"IF(Inventario!J940<>\"\",Inventario!J940,0)","v":0},930,0,1001," ",null,0,930,0,1001," "]
[null,null,null,null,null,null,null,null,null,null,null,null,{"$f":"IF(Inventario!C941<>\"\",Inventario!C941,0)","v":0},931,0,1001," ",null,{"$f":"IF(Inventario!J941<>\"\",Inventario!J941,0)","v":0},931,0,1001," ",null,0,931,0,1001," "]
[null,null,null,null,null,null,null,null,null,null,null,null,{"$f":"IF(Inventario!C942<>\"\",Inventario!C942,0)","v":0},932,0,1001," ",null,{"$f":"IF(Inventario!J942<>\"\",Inventario!J942,0)","v":0},932,0,1001," ",null,0,932,0,1001," "]
[null,null,null,null,null,null,null,null,null,null,null,null,{"$f":"IF(Inventario!C943<>\"\",Inventario!C943,0)","v":0},933,0,1001," ",null,{"$f":"IF(Inventario!J943<>\"\",Inventario!J943,0)","v":0},933,0,1001," ",null,0,933,0,1001," "]
[null,null,null,null,null,null,null,null,null,null,null,null,{"$f":"IF(Inventario!C944<>\"\",Inventario!C944,0)","v":0},934,0,1001," ",null,{"$f":"IF(Inventario!J944<>\"\",Inventario!J944,0)","v":0},934,0,1001," ",null,0,934,0,1001," "]
[null,null,null,null,null,null,null,null,null,null,null,null,{"$f":"IF(Inventario!C945<>\"\",Inventario!C945,0)","v":0},935,0,1001," ",null,{"$f":"IF(Inventario!J945<>\"\",Inventario!J945,0)","v":0},935,0,1001," ",null,0,935,0,1001," "]
[null,null,null,null,null,null,null,null,null,null,null,null,{"$f":"IF(Inventario!C946<>\"\",Inventario!C946,0)","v":0},936,0,1001," ",null,{"$f":"IF(Inventario!J946<>\"\",Inventario!J946,0)","v":0},936,0,1001," ",null,0,936,0,1001," "]
[null,null,null,null,null,null,null,null,null,null,null,null,{"$f":"IF(Inventario!C947<>\"\",Inventario!C947,0)","v":0},937,0,1001," ",null,{"$f":"IF(Inventario!J947<>\"\",Inventario!J947,0)","v":0},937,0,1001," ",null,0,937,0,1001," "]
[null,null,null,null,null,null,null,null,null,null,null,null,{"$f":"IF(Inventario!C948<>\"\",Inventario!C948,0)","v":0},938,0,1001," ",null,{"$f":"IF(Inventario!J948<>\"\",Inventario!J948,0)","v":0},938,0,1001," ",null,0,938,0,1001," "]
[null,null,null,null,null,null,null,null,null,null,null,null,{"$f":"IF(Inventario!C949<>\"\",Inventario!C949,0)","v":0},939,0,1001," ",null,{"$f":"IF(Inventario!J949<>\"\",Inventario!J949,0)","v":0},939,0,1001," ",null,0,939,0,1001," "]
[null,null,null,null,null,null,null,null,null,null,null,null,{"$f":"IF(Inventario!C950<>\"\",Inventario!C950,0)","v":0},940,0,1001," ",null,{"$f":"IF(Inventario!J950<>\"\",Inventario!J950,0)","v":0},940,0,1001," ",null,0,940,0,1001," "]
[null,null,null,null,null,null,null,null,null,null,null,null,{"$f":"IF(Inventario!C951<>\"\",Inventario!C951,0)","v":0},941,0,1001," ",null,{"$f":"IF(Inventario!J951<>\"\",Inventario!J951,0)","v":0},941,0,1001," ",null,0,941,0,1001," "]
[null,null,null,null,null,null,null,null,null,null,null,null,{"$f":"IF(Inventario!C952<>\"\",Inventario!C952,0)","v":0},942,0,1001," ",null,{"$f":"IF(Inventario!J952<>\"\",Inventario!J952,0)","v":0},942,0,1001," ",null,0,942,0,1001," "]
[null,null,null,null,null,null,null,null,null,null,null,null,{"$f":"IF(Inventario!C953<>\"\",Inventario!C953,0)","v":0},943,0,1001," ",null,{"$f":"IF(Inventario!J953<>\"\",Inventario!J953,0)","v":0},943,0,1001," ",null,0,943,0,1001," "]
[null,null,null,null,null,null,null,null,null,null,null,null,{"$f":"IF(Inventario!C954<>\"\",Inventario!C954,0)","v":0},944,0,1001," ",null,{"$f":"IF(Inventario!J954<>\"\",Inventario!J954,0)","v":0},944,0,1001," ",null,0,944,0,1001," "]
[null,null,null,null,null,null,null,null,null,null,null,null,{"$f":"IF(Inventario!C955<>\"\",Inventario!C955,0)","v":0},945,0,1001," ",null,{"$f":"IF(Inventario!J955<>\"\",Inventario!J955,0)","v":0},945,0,1001," ",null,0,945,0,1001," "]
[null,null,null,null,null,null,null,null,null,null,null,null,{"$f":"IF(Inventario!C956<>\"\",Inventario!C956,0)","v":0},946,0,1001," ",null,{"$f":"IF(Inventario!J956<>\"\",Inventario!J956,0)","v":0},946,0,1001," ",null,0,946,0,1001," "]
[null,null,null,null,null,null,null,null,null,null,null,null,{"$f":"IF(Inventario!C957<>\"\",Inventario!C957,0)","v":0},947,0,1001," ",null,{"$f":"IF(Inventario!J957<>\"\",Inventario!J957,0)","v":0},947,0,1001," ",null,0,947,0,1001," "]
[null,null,null,null,null,null,null,null,null,null,null,null,{"$f":"IF(Inventario!C958<>\"\",Inventario!C958,0)","v":0},948,0,1001," ",null,{"$f":"IF(Inventario!J958<>\"\",Inventario!J958,0)","v":0},948,0,1001," ",null,0,948,0,1001," "]
[null,null,null,null,null,null,null,null,null,null,null,null,{"$f":"IF(Inventario!C959<>\"\",Inventario!C959,0)","v":0},949,0,1001," ",null,{"$f":"IF(Inventario!J959<>\"\",Inventario!J959,0)","v":0},949,0,1001," ",null,0,949,0,1001," "]
[null,null,null,null,null,null,null,null,null,null,null,null,{"$f":"IF(Inventario!C960<>\"\",Inventario!C960,0)","v":0},950,0,1001," ",null,{"$f":"IF(Inventario!J960<>\"\",Inventario!J960,0)","v":0},950,0,1001," ",null,0,950,0,1001," "]
[null,null,null,null,null,null,null,null,null,null,null,null,{"$f":"IF(Inventario!C961<>\"\",Inventario!C961,0)","v":0},951,0,1001," ",null,{"$f":"IF(Inventario!J961<>\"\",Inventario!J961,0)","v":0},951,0,1001," ",null,0,951,0,1001," "]
[null,null,null,null,null,null,null,null,null,null,null,null,{"$f":"IF(Inventario!C962<>\"\",Inventario!C962,0)","v":0},952,0,1001," ",null,{"$f":"IF(Inventario!J962<>\"\",Inventario!J962,0)","v":0},952,0,1001," ",null,0,952,0,1001," "]
[null,null,null,null,null,null,null,null,null,null,null,null,{"$f":"IF(Inventario!C963<>\"\",Inventario!C963,0)","v":0},953,0,1001," ",null,{"$f":"IF(Inventario!J963<>\"\",Inventario!J963,0)","v":0},953,0,1001," ",null,0,953,0,1001," "]
[null,null,null,null,null,null,null,null,null,null,null,null,{"$f":"IF(Inventario!C964<>\"\",Inventario!C964,0)","v":0},954,0,1001," ",null,{"$f":"IF(Inventario!J964<>\"\",Inventario!J964,0)","v":0},954,0,1001," ",null,0,954,0,1001," "]
[null,null,null,null,null,null,null,null,null,null,null,null,{"$f":"IF(Inventario!C965<>\"\",Inventario!C965,0)","v":0},955,0,1001," ",null,{"$f":"IF(Inventario!J965<>\"\",Inventario!J965,0)","v":0},955,0,1001," ",null,0,955,0,1001," "]
[null,null,null,null,null,null,null,null,null,null,null,null,{"$f":"IF(Inventario!C966<>\"\",Inventario!C966,0)","v":0},956,0,1001," ",null,{"$f":"IF(Inventario!J966<>\"\",Inventario!J966,0)","v":0},956,0,1001," ",null,0,956,0,1001," "]
[null,null,null,null,null,null,null,null,null,null,null,null,{"$f":"IF(Inventario!C967<>\"\",Inventario!C967,0)","v":0},957,0,1001," ",null,{"$f":"IF(Inventario!J967<>\"\",Inventario!J967,0)","v":0},957,0,1001," ",null,0,957,0,1001," "]
[null,null,null,null,null,null,null,null,null,null,null,null,{"$f":"IF(Inventario!C968<>\"\",Inventario!C968,0)","v":0},958,0,1001," ",null,{"$f":"IF(Inventario!J968<>\"\",Inventario!J968,0)","v":0},958,0,1001," ",null,0,958,0,1001," "]
[null,null,null,null,null,null,null,null,null,null,null,null,{"$f":"IF(Inventario!C969<>\"\",Inventario!C969,0)","v":0},959,0,1001," ",null,{"$f":"IF(Inventario!J969<>\"\",Inventario!J969,0)","v":0},959,0,1001," ",null,0,959,0,1001," "]
[null,null,null,null,null,null,null,null,null,null,null,null,{"$f":"IF(Inventario!C970<>\"\",Inventario!C970,0)","v":0},960,0,1001," ",null,{"$f":"IF(Inventario!J970<>\"\",Inventario!J970,0)","v":0},960,0,1001," ",null,0,960,0,1001," "]
[null,null,null,null,null,null,null,null,null,null,null,null,{"$f":"IF(Inventario!C971<>\"\",Inventario!C971,0)","v":0},961,0,1001,{"$f":"IFERROR(VLOOKUP(SMALL($P$6:$P$1005,N966),$N$6:$O$1005,2,FALSE),\" \")","v":" "},null,{"$f":"IF(Inventario!J971<>\"\",Inventario!J971,0)","v":0},961,0,1001,{"$f":"IFERROR(VLOOKUP(SMALL($V$6:$V$1005,T966),$T$6:$U$1005,2,FALSE),\" \")","v":" "},null,0,961,0,1001,{"$f":"IFERROR(VLOOKUP(SMALL($AB$6:$AB$1005,Z966),$Z$6:$AA$1005,2,FALSE),\" \")","v":" "}]
[null,null,null,null,null,null,null,null,null,null,null,null,{"$f":"IF(Inventario!C972<>\"\",Inventario!C972,0)","v":0},962,{"$f":"M967","v":0},{"$f":"IF(O967=0,MAX($N$6:$N$1005)+1,N967)","v":1001}," ",null,{"$f":"IF(Inventario!J972<>\"\",Inventario!J972,0)","v":0},962,{"$f":"S967","v":0},{"$f":"IF(U967=0,MAX($T$6:$T$1005)+1,T967)","v":1001}," ",null,{"$f":"IF(AND(M967=0,S967=0),0,IF(AND(M967<>0,S967=0),M967,IF(AND(M967=0,S967<>0),S967,IF(AND(M967<>0,S967<>0),(CONCATENATE(M967,S967))))))","v":0},962,{"$f":"Y967","v":0},{"$f":"IF(AA967=0,MAX($Z$6:$Z$1005)+1,Z967)","v":1001}," "]
[null,null,null,null,null,null,null,null,null,null,null,null,{"$f":"IF(Inventario!C973<>\"\",Inventario!C973,0)","v":0},963,0,1001," ",null,{"$f":"IF(Inventario!J973<>\"\",Inventario!J973,0)","v":0},963,0,1001," ",null,0,963,0,1001," "]
[null,null,null,null,null,null,null,null,null,null,null,null,{"$f":"IF(Inventario!C974<>\"\",Inventario!C974,0)","v":0},964,0,1001," ",null,{"$f":"IF(Inventario!J974<>\"\",Inventario!J974,0)","v":0},964,0,1001," ",null,0,964,0,1001," "]
[null,null,null,null,null,null,null,null,null,null,null,null,{"$f":"IF(Inventario!C975<>\"\",Inventario!C975,0)","v":0},965,0,1001," ",null,{"$f":"IF(Inventario!J975<>\"\",Inventario!J975,0)","v":0},965,0,1001," ",null,0,965,0,1001," "]
[null,null,null,null,null,null,null,null,null,null,null,null,{"$f":"IF(Inventario!C976<>\"\",Inventario!C976,0)","v":0},966,0,1001," ",null,{"$f":"IF(Inventario!J976<>\"\",Inventario!J976,0)","v":0},966,0,1001," ",null,0,966,0,1001," "]
[null,null,null,null,null,null,null,null,null,null,null,null,{"$f":"IF(Inventario!C977<>\"\",Inventario!C977,0)","v":0},967,0,1001," ",null,{"$f":"IF(Inventario!J977<>\"\",Inventario!J977,0)","v":0},967,0,1001," ",null,0,967,0,1001," "]
[null,null,null,null,null,null,null,null,null,null,null,null,{"$f":"IF(Inventario!C978<>\"\",Inventario!C978,0)","v":0},968,0,1001," ",null,{"$f":"IF(Inventario!J978<>\"\",Inventario!J978,0)","v":0},968,0,1001," ",null,0,968,0,1001," "]
[null,null,null,null,null,null,null,null,null,null,null,null,{"$f":"IF(Inventario!C979<>\"\",Inventario!C979,0)","v":0},969,0,1001," ",null,{"$f":"IF(Inventario!J979<>\"\",Inventario!J979,0)","v":0},969,0,1001," ",null,0,969,0,1001," "]
[null,null,null,null,null,null,null,null,null,null,null,null,{"$f":"IF(Inventario!C980<>\"\",Inventario!C980,0)","v":0},970,0,1001," ",null,{"$f":"IF(Inventario!J980<>\"\",Inventario!J980,0)","v":0},970,0,1001," ",null,0,970,0,1001," "]
[null,null,null,null,null,null,null,null,null,null,null,null,{"$f":"IF(Inventario!C981<>\"\",Inventario!C981,0)","v":0},971,0,1001," ",null,{"$f":"IF(Inventario!J981<>\"\",Inventario!J981,0)","v":0},971,0,1001," ",null,0,971,0,1001," "]
[null,null,null,null,null,null,null,null,null,null,null,null,{"$f":"IF(Inventario!C982<>\"\",Inventario!C982,0)","v":0},972,0,1001," ",null,{"$f":"IF(Inventario!J982<>\"\",Inventario!J982,0)","v":0},972,0,1001," ",null,0,972,0,1001," "]
[null,null,null,null,null,null,null,null,null,null,null,null,{"$f":"IF(Inventario!C983<>\"\",Inventario!C983,0)","v":0},973,0,1001," ",null,{"$f":"IF(Inventario!J983<>\"\",Inventario!J983,0)","v":0},973,0,1001," ",null,0,973,0,1001," "]
[null,null,null,null,null,null,null,null,null,null,null,null,{"$f":"IF(Inventario!C984<>\"\",Inventario!C984,0)","v":0},974,0,1001," ",null,{"$f":"IF(Inventario!J984<>\"\",Inventario!J984,0)","v":0},974,0,1001," ",null,0,974,0,1001," "]
[null,null,null,null,null,null,null,null,null,null,null,null,{"$f":"IF(Inventario!C985<>\"\",Inventario!C985,0)","v":0},975,0,1001," ",null,{"$f":"IF(Inventario!J985<>\"\",Inventario!J985,0)","v":0},975,0,1001," ",null,0,975,0,1001," "]
[null,null,null,null,null,null,null,null,null,null,null,null,{"$f":"IF(Inventario!C986<>\"\",Inventario!C986,0)","v":0},976,0,1001," ",null,{"$f":"IF(Inventario!J986<>\"\",Inventario!J986,0)","v":0},976,0,1001," ",null,0,976,0,1001," "]
[null,null,null,null,null,null,null,null,null,null,null,null,{"$f":"IF(Inventario!C987<>\"\",Inventario!C987,0)","v":0},977,0,1001," ",null,{"$f":"IF(Inventario!J987<>\"\",Inventario!J987,0)","v":0},977,0,1001," ",null,0,977,0,1001," "]
[null,null,null,null,null,null,null,null,null,null,null,null,{"$f":"IF(Inventario!C988<>\"\",Inventario!C988,0)","v":0},978,0,1001," ",null,{"$f":"IF(Inventario!J988<>\"\",Inventario!J988,0)","v":0},978,0,1001," ",null,0,978,0,1001," "]
[null,null,null,null,null,null,null,null,null,null,null,null,{"$f":"IF(Inventario!C989<>\"\",Inventario!C989,0)","v":0},979,0,1001," ",null,{"$f":"IF(Inventario!J989<>\"\",Inventario!J989,0)","v":0},979,0,1001," ",null,0,979,0,1001," "]
[null,null,null,null,null,null,null,null,null,null,null,null,{"$f":"IF(Inventario!C990<>\"\",Inventario!C990,0)","v":0},980,0,1001," ",null,{"$f":"IF(Inventario!J990<>\"\",Inventario!J990,0)","v":0},980,0,1001," ",null,0,980,0,1001," "]
[null,null,null,null,null,null,null,null,null,null,null,null,{"$f":"IF(Inventario!C991<>\"\",Inventario!C991,0)","v":0},981,0,1001," ",null,{"$f":"IF(Inventario!J991<>\"\",Inventario!J991,0)","v":0},981,0,1001," ",null,0,981,0,1001," "]
[null,null,null,null,null,null,null,null,null,null,null,null,{"$f":"IF(Inventario!C992<>\"\",Inventario!C992,0)","v":0},982,0,1001," ",null,{"$f":"IF(Inventario!J992<>\"\",Inventario!J992,0)","v":0},982,0,1001," ",null,0,982,0,1001," "]
[null,null,null,null,null,null,null,null,null,null,null,null,{"$f":"IF(Inventario!C993<>\"\",Inventario!C993,0)","v":0},983,0,1001," ",null,{"$f":"IF(Inventario!J993<>\"\",Inventario!J993,0)","v":0},983,0,1001," ",null,0,983,0,1001," "]
[null,null,null,null,null,null,null,null,null,null,null,null,{"$f":"IF(Inventario!C994<>\"\",Inventario!C994,0)","v":0},984,0,1001," ",null,{"$f":"IF(Inventario!J994<>\"\",Inventario!J994,0)","v":0},984,0,1001," ",null,0,984,0,1001," "]
[null,null,null,null,null,null,null,null,null,null,null,null,{"$f":"IF(Inventario!C995<>\"\",Inventario!C995,0)","v":0},985,0,1001," ",null,{"$f":"IF(Inventario!J995<>\"\",Inventario!J995,0)","v":0},985,0,1001," ",null,0,985,0,1001," "]
[null,null,null,null,null,null,null,null,null,null,null,null,{"$f":"IF(Inventario!C996<>\"\",Inventario!C996,0)","v":0},986,0,1001," ",null,{"$f":"IF(Inventario!J996<>\"\",Inventario!J996,0)","v":0},986,0,1001," ",null,0,986,0,1001," "]
[null,null,null,null,null,null,null,null,null,null,null,null,{"$f":"IF(Inventario!C997<>\"\",Inventario!C997,0)","v":0},987,0,1001," ",null,{"$f":"IF(Inventario!J997<>\"\",Inventario!J997,0)","v":0},987,0,1001," ",null,0,987,0,1001," "]
[null,null,null,null,null,null,null,null,null,null,null,null,{"$f":"IF(Inventario!C998<>\"\",Inventario!C998,0)","v":0},988,0,1001," ",null,{"$f":"IF(Inventario!J998<>\"\",Inventario!J998,0)","v":0},988,0,1001," ",null,0,988,0,1001," "]
[null,null,null,null,null,null,null,null,null,null,null,null,{"$f":"IF(Inventario!C999<>\"\",Inventario!C999,0)","v":0},989,0,1001," ",null,{"$f":"IF(Inventario!J999<>\"\",Inventario!J999,0)","v":0},989,0,1001," ",null,0,989,0,1001," "]
[null,null,null,null,null,null,null,null,null,null,null,null,{"$f":"IF(Inventario!C1000<>\"\",Inventario!C1000,0)","v":0},990,0,1001," ",null,{"$f":"IF(Inventario!J1000<>\"\",Inventario!J1000,0)","v":0},990,0,1001," ",null,0,990,0,1001," "]
[null,null,null,null,null,null,null,null,null,null,null,null,{"$f":"IF(Inventario!C1001<>\"\",Inventario!C1001,0)","v":0},991,0,1001," ",null,{"$f":"IF(Inventario!J1001<>\"\",Inventario!J1001,0)","v":0},991,0,1001," ",null,0,991,0,1001," "]
[null,null,null,null,null,null,null,null,null,null,null,null,{"$f":"IF(Inventario!C1002<>\"\",Inventario!C1002,0)","v":0},992,0,1001," ",null,{"$f":"IF(Inventario!J1002<>\"\",Inventario!J1002,0)","v":0},992,0,1001," ",null,0,992,0,1001," "]
[null,null,null,null,null,null,null,null,null,null,null,null,{"$f":"IF(Inventario!C1003<>\"\",Inventario!C1003,0)","v":0},993,0,1001," ",null,{"$f":"IF(Inventario!J1003<>\"\",Inventario!J1003,0)","v":0},993,0,1001," ",null,0,993,0,1001," "]
[null,null,null,null,null,null,null,null,null,null,null,null,{"$f":"IF(Inventario!C1004<>\"\",Inventario!C1004,0)","v":0},994,0,1001," ",null,{"$f":"IF(Inventario!J1004<>\"\",Inventario!J1004,0)","v":0},994,0,1001," ",null,0,994,0,1001," "]
[null,null,null,null,null,null,null,null,null,null,null,null,{"$f":"IF(Inventario!C1005<>\"\",Inventario!C1005,0)","v":0},995,0,1001," ",null,{"$f":"IF(Inventario!J1005<>\"\",Inventario!J1005,0)","v":0},995,0,1001," ",null,0,995,0,1001," "]
[null,null,null,null,null,null,null,null,null,null,null,null,{"$f":"IF(Inventario!C1006<>\"\",Inventario!C1006,0)","v":0},996,0,1001," ",null,{"$f":"IF(Inventario!J1006<>\"\",Inventario!J1006,0)","v":0},996,0,1001," ",null,0,996,0,1001," "]
[null,null,null,null,null,null,null,null,null,null,null,null,{"$f":"IF(Inventario!C1007<>\"\",Inventario!C1007,0)","v":0},997,0,1001," ",null,{"$f":"IF(Inventario!J1007<>\"\",Inventario!J1007,0)","v":0},997,0,1001," ",null,0,997,0,1001," "]
[null,null,null,null,null,null,null,null,null,null,null,null,{"$f":"IF(Inventario!C1008<>\"\",Inventario!C1008,0)","v":0},998,0,1001," ",null,{"$f":"IF(Inventario!J1008<>\"\",Inventario!J1008,0)","v":0},998,0,1001," ",null,0,998,0,1001," "]
[null,null,null,null,null,null,null,null,null,null,null,null,{"$f":"IF(Inventario!C1009<>\"\",Inventario!C1009,0)","v":0},999,0,1001," ",null,{"$f":"IF(Inventario!J1009<>\"\",Inventario!J1009,0)","v":0},999,0,1001," ",null,0,999,0,1001," "]
[null,null,null,null,null,null,null,null,null,null,null,null,{"$f":"IF(Inventario!C1010<>\"\",Inventario!C1010,0)","v":0},1000,0,1001," ",null,{"$f":"IF(Inventario!J1010<>\"\",Inventario!J1010,0)","v":0},1000,0,1001," ",null,0,1000,0,1001," "]